BEGIN:VCALENDAR
VERSION:2.0
PRODID:-//Terenure Swimming Pool - ECPv6.15.20//NONSGML v1.0//EN
CALSCALE:GREGORIAN
METHOD:PUBLISH
X-WR-CALNAME:Terenure Swimming Pool
X-ORIGINAL-URL:https://terenureswimmingpool.ie
X-WR-CALDESC:Events for Terenure Swimming Pool
REFRESH-INTERVAL;VALUE=DURATION:PT1H
X-Robots-Tag:noindex
X-PUBLISHED-TTL:PT1H
BEGIN:VTIMEZONE
TZID:Europe/Dublin
BEGIN:STANDARD
TZOFFSETFROM:+0000
TZOFFSETTO:+0100
TZNAME:IST
DTSTART:20260329T010000
END:STANDARD
BEGIN:DAYLIGHT
TZOFFSETFROM:+0100
TZOFFSETTO:+0000
TZNAME:GMT
DTSTART:20261025T010000
END:DAYLIGHT
BEGIN:STANDARD
TZOFFSETFROM:+0000
TZOFFSETTO:+0100
TZNAME:IST
DTSTART:20270328T010000
END:STANDARD
BEGIN:DAYLIGHT
TZOFFSETFROM:+0100
TZOFFSETTO:+0000
TZNAME:GMT
DTSTART:20271031T010000
END:DAYLIGHT
BEGIN:STANDARD
TZOFFSETFROM:+0000
TZOFFSETTO:+0100
TZNAME:IST
DTSTART:20280326T010000
END:STANDARD
BEGIN:DAYLIGHT
TZOFFSETFROM:+0100
TZOFFSETTO:+0000
TZNAME:GMT
DTSTART:20281029T010000
END:DAYLIGHT
END:VTIMEZONE
BEGIN:VEVENT
DTSTART;TZID=Europe/Dublin:20270701T090000
DTEND;TZID=Europe/Dublin:20270701T100000
DTSTAMP:20260424T002718
CREATED:20260127T153017Z
LAST-MODIFIED:20260127T153017Z
UID:10000515-1814432400-1814436000@terenureswimmingpool.ie
SUMMARY:Free Swim
DESCRIPTION:
URL:https://terenureswimmingpool.ie/timetable/free-swim/2027-07-01/
LOCATION:Terenure College Swimming Pool
END:VEVENT
BEGIN:VEVENT
DTSTART;TZID=Europe/Dublin:20270702T090000
DTEND;TZID=Europe/Dublin:20270702T100000
DTSTAMP:20260424T002718
CREATED:20260127T153017Z
LAST-MODIFIED:20260127T153017Z
UID:10000516-1814518800-1814522400@terenureswimmingpool.ie
SUMMARY:Free Swim
DESCRIPTION:
URL:https://terenureswimmingpool.ie/timetable/free-swim/2027-07-02/
LOCATION:Terenure College Swimming Pool
END:VEVENT
BEGIN:VEVENT
DTSTART;TZID=Europe/Dublin:20270703T090000
DTEND;TZID=Europe/Dublin:20270703T100000
DTSTAMP:20260424T002718
CREATED:20260127T153017Z
LAST-MODIFIED:20260127T153017Z
UID:10000517-1814605200-1814608800@terenureswimmingpool.ie
SUMMARY:Free Swim
DESCRIPTION:
URL:https://terenureswimmingpool.ie/timetable/free-swim/2027-07-03/
LOCATION:Terenure College Swimming Pool
END:VEVENT
BEGIN:VEVENT
DTSTART;TZID=Europe/Dublin:20270704T090000
DTEND;TZID=Europe/Dublin:20270704T100000
DTSTAMP:20260424T002718
CREATED:20260127T153017Z
LAST-MODIFIED:20260127T153017Z
UID:10000518-1814691600-1814695200@terenureswimmingpool.ie
SUMMARY:Free Swim
DESCRIPTION:
URL:https://terenureswimmingpool.ie/timetable/free-swim/2027-07-04/
LOCATION:Terenure College Swimming Pool
END:VEVENT
BEGIN:VEVENT
DTSTART;TZID=Europe/Dublin:20270705T090000
DTEND;TZID=Europe/Dublin:20270705T100000
DTSTAMP:20260424T002718
CREATED:20260127T153017Z
LAST-MODIFIED:20260127T153017Z
UID:10000519-1814778000-1814781600@terenureswimmingpool.ie
SUMMARY:Free Swim
DESCRIPTION:
URL:https://terenureswimmingpool.ie/timetable/free-swim/2027-07-05/
LOCATION:Terenure College Swimming Pool
END:VEVENT
BEGIN:VEVENT
DTSTART;TZID=Europe/Dublin:20270706T090000
DTEND;TZID=Europe/Dublin:20270706T100000
DTSTAMP:20260424T002718
CREATED:20260127T153017Z
LAST-MODIFIED:20260127T153017Z
UID:10000520-1814864400-1814868000@terenureswimmingpool.ie
SUMMARY:Free Swim
DESCRIPTION:
URL:https://terenureswimmingpool.ie/timetable/free-swim/2027-07-06/
LOCATION:Terenure College Swimming Pool
END:VEVENT
BEGIN:VEVENT
DTSTART;TZID=Europe/Dublin:20270707T090000
DTEND;TZID=Europe/Dublin:20270707T100000
DTSTAMP:20260424T002718
CREATED:20260127T153017Z
LAST-MODIFIED:20260127T153017Z
UID:10000521-1814950800-1814954400@terenureswimmingpool.ie
SUMMARY:Free Swim
DESCRIPTION:
URL:https://terenureswimmingpool.ie/timetable/free-swim/2027-07-07/
LOCATION:Terenure College Swimming Pool
END:VEVENT
BEGIN:VEVENT
DTSTART;TZID=Europe/Dublin:20270708T090000
DTEND;TZID=Europe/Dublin:20270708T100000
DTSTAMP:20260424T002718
CREATED:20260127T153017Z
LAST-MODIFIED:20260127T153017Z
UID:10000522-1815037200-1815040800@terenureswimmingpool.ie
SUMMARY:Free Swim
DESCRIPTION:
URL:https://terenureswimmingpool.ie/timetable/free-swim/2027-07-08/
LOCATION:Terenure College Swimming Pool
END:VEVENT
BEGIN:VEVENT
DTSTART;TZID=Europe/Dublin:20270709T090000
DTEND;TZID=Europe/Dublin:20270709T100000
DTSTAMP:20260424T002718
CREATED:20260127T153017Z
LAST-MODIFIED:20260127T153017Z
UID:10000523-1815123600-1815127200@terenureswimmingpool.ie
SUMMARY:Free Swim
DESCRIPTION:
URL:https://terenureswimmingpool.ie/timetable/free-swim/2027-07-09/
LOCATION:Terenure College Swimming Pool
END:VEVENT
BEGIN:VEVENT
DTSTART;TZID=Europe/Dublin:20270710T090000
DTEND;TZID=Europe/Dublin:20270710T100000
DTSTAMP:20260424T002718
CREATED:20260127T153017Z
LAST-MODIFIED:20260127T153017Z
UID:10000524-1815210000-1815213600@terenureswimmingpool.ie
SUMMARY:Free Swim
DESCRIPTION:
URL:https://terenureswimmingpool.ie/timetable/free-swim/2027-07-10/
LOCATION:Terenure College Swimming Pool
END:VEVENT
BEGIN:VEVENT
DTSTART;TZID=Europe/Dublin:20270711T090000
DTEND;TZID=Europe/Dublin:20270711T100000
DTSTAMP:20260424T002718
CREATED:20260127T153017Z
LAST-MODIFIED:20260127T153017Z
UID:10000525-1815296400-1815300000@terenureswimmingpool.ie
SUMMARY:Free Swim
DESCRIPTION:
URL:https://terenureswimmingpool.ie/timetable/free-swim/2027-07-11/
LOCATION:Terenure College Swimming Pool
END:VEVENT
BEGIN:VEVENT
DTSTART;TZID=Europe/Dublin:20270712T090000
DTEND;TZID=Europe/Dublin:20270712T100000
DTSTAMP:20260424T002718
CREATED:20260127T153017Z
LAST-MODIFIED:20260127T153017Z
UID:10000526-1815382800-1815386400@terenureswimmingpool.ie
SUMMARY:Free Swim
DESCRIPTION:
URL:https://terenureswimmingpool.ie/timetable/free-swim/2027-07-12/
LOCATION:Terenure College Swimming Pool
END:VEVENT
BEGIN:VEVENT
DTSTART;TZID=Europe/Dublin:20270713T090000
DTEND;TZID=Europe/Dublin:20270713T100000
DTSTAMP:20260424T002718
CREATED:20260127T153017Z
LAST-MODIFIED:20260127T153017Z
UID:10000527-1815469200-1815472800@terenureswimmingpool.ie
SUMMARY:Free Swim
DESCRIPTION:
URL:https://terenureswimmingpool.ie/timetable/free-swim/2027-07-13/
LOCATION:Terenure College Swimming Pool
END:VEVENT
BEGIN:VEVENT
DTSTART;TZID=Europe/Dublin:20270714T090000
DTEND;TZID=Europe/Dublin:20270714T100000
DTSTAMP:20260424T002718
CREATED:20260127T153017Z
LAST-MODIFIED:20260127T153017Z
UID:10000528-1815555600-1815559200@terenureswimmingpool.ie
SUMMARY:Free Swim
DESCRIPTION:
URL:https://terenureswimmingpool.ie/timetable/free-swim/2027-07-14/
LOCATION:Terenure College Swimming Pool
END:VEVENT
BEGIN:VEVENT
DTSTART;TZID=Europe/Dublin:20270715T090000
DTEND;TZID=Europe/Dublin:20270715T100000
DTSTAMP:20260424T002718
CREATED:20260127T153017Z
LAST-MODIFIED:20260127T153017Z
UID:10000529-1815642000-1815645600@terenureswimmingpool.ie
SUMMARY:Free Swim
DESCRIPTION:
URL:https://terenureswimmingpool.ie/timetable/free-swim/2027-07-15/
LOCATION:Terenure College Swimming Pool
END:VEVENT
BEGIN:VEVENT
DTSTART;TZID=Europe/Dublin:20270716T090000
DTEND;TZID=Europe/Dublin:20270716T100000
DTSTAMP:20260424T002718
CREATED:20260127T153017Z
LAST-MODIFIED:20260127T153017Z
UID:10000530-1815728400-1815732000@terenureswimmingpool.ie
SUMMARY:Free Swim
DESCRIPTION:
URL:https://terenureswimmingpool.ie/timetable/free-swim/2027-07-16/
LOCATION:Terenure College Swimming Pool
END:VEVENT
BEGIN:VEVENT
DTSTART;TZID=Europe/Dublin:20270717T090000
DTEND;TZID=Europe/Dublin:20270717T100000
DTSTAMP:20260424T002718
CREATED:20260127T153017Z
LAST-MODIFIED:20260127T153017Z
UID:10000531-1815814800-1815818400@terenureswimmingpool.ie
SUMMARY:Free Swim
DESCRIPTION:
URL:https://terenureswimmingpool.ie/timetable/free-swim/2027-07-17/
LOCATION:Terenure College Swimming Pool
END:VEVENT
BEGIN:VEVENT
DTSTART;TZID=Europe/Dublin:20270718T090000
DTEND;TZID=Europe/Dublin:20270718T100000
DTSTAMP:20260424T002718
CREATED:20260127T153017Z
LAST-MODIFIED:20260127T153017Z
UID:10000532-1815901200-1815904800@terenureswimmingpool.ie
SUMMARY:Free Swim
DESCRIPTION:
URL:https://terenureswimmingpool.ie/timetable/free-swim/2027-07-18/
LOCATION:Terenure College Swimming Pool
END:VEVENT
BEGIN:VEVENT
DTSTART;TZID=Europe/Dublin:20270719T090000
DTEND;TZID=Europe/Dublin:20270719T100000
DTSTAMP:20260424T002718
CREATED:20260127T153017Z
LAST-MODIFIED:20260127T153017Z
UID:10000533-1815987600-1815991200@terenureswimmingpool.ie
SUMMARY:Free Swim
DESCRIPTION:
URL:https://terenureswimmingpool.ie/timetable/free-swim/2027-07-19/
LOCATION:Terenure College Swimming Pool
END:VEVENT
BEGIN:VEVENT
DTSTART;TZID=Europe/Dublin:20270720T090000
DTEND;TZID=Europe/Dublin:20270720T100000
DTSTAMP:20260424T002718
CREATED:20260127T153017Z
LAST-MODIFIED:20260127T153017Z
UID:10000534-1816074000-1816077600@terenureswimmingpool.ie
SUMMARY:Free Swim
DESCRIPTION:
URL:https://terenureswimmingpool.ie/timetable/free-swim/2027-07-20/
LOCATION:Terenure College Swimming Pool
END:VEVENT
BEGIN:VEVENT
DTSTART;TZID=Europe/Dublin:20270721T090000
DTEND;TZID=Europe/Dublin:20270721T100000
DTSTAMP:20260424T002718
CREATED:20260127T153017Z
LAST-MODIFIED:20260127T153017Z
UID:10000535-1816160400-1816164000@terenureswimmingpool.ie
SUMMARY:Free Swim
DESCRIPTION:
URL:https://terenureswimmingpool.ie/timetable/free-swim/2027-07-21/
LOCATION:Terenure College Swimming Pool
END:VEVENT
BEGIN:VEVENT
DTSTART;TZID=Europe/Dublin:20270722T090000
DTEND;TZID=Europe/Dublin:20270722T100000
DTSTAMP:20260424T002718
CREATED:20260127T153017Z
LAST-MODIFIED:20260127T153017Z
UID:10000536-1816246800-1816250400@terenureswimmingpool.ie
SUMMARY:Free Swim
DESCRIPTION:
URL:https://terenureswimmingpool.ie/timetable/free-swim/2027-07-22/
LOCATION:Terenure College Swimming Pool
END:VEVENT
BEGIN:VEVENT
DTSTART;TZID=Europe/Dublin:20270723T090000
DTEND;TZID=Europe/Dublin:20270723T100000
DTSTAMP:20260424T002718
CREATED:20260127T153017Z
LAST-MODIFIED:20260127T153017Z
UID:10000537-1816333200-1816336800@terenureswimmingpool.ie
SUMMARY:Free Swim
DESCRIPTION:
URL:https://terenureswimmingpool.ie/timetable/free-swim/2027-07-23/
LOCATION:Terenure College Swimming Pool
END:VEVENT
BEGIN:VEVENT
DTSTART;TZID=Europe/Dublin:20270724T090000
DTEND;TZID=Europe/Dublin:20270724T100000
DTSTAMP:20260424T002718
CREATED:20260127T153017Z
LAST-MODIFIED:20260127T153017Z
UID:10000538-1816419600-1816423200@terenureswimmingpool.ie
SUMMARY:Free Swim
DESCRIPTION:
URL:https://terenureswimmingpool.ie/timetable/free-swim/2027-07-24/
LOCATION:Terenure College Swimming Pool
END:VEVENT
BEGIN:VEVENT
DTSTART;TZID=Europe/Dublin:20270725T090000
DTEND;TZID=Europe/Dublin:20270725T100000
DTSTAMP:20260424T002718
CREATED:20260127T153017Z
LAST-MODIFIED:20260127T153017Z
UID:10000539-1816506000-1816509600@terenureswimmingpool.ie
SUMMARY:Free Swim
DESCRIPTION:
URL:https://terenureswimmingpool.ie/timetable/free-swim/2027-07-25/
LOCATION:Terenure College Swimming Pool
END:VEVENT
BEGIN:VEVENT
DTSTART;TZID=Europe/Dublin:20270726T090000
DTEND;TZID=Europe/Dublin:20270726T100000
DTSTAMP:20260424T002718
CREATED:20260127T153017Z
LAST-MODIFIED:20260127T153017Z
UID:10000540-1816592400-1816596000@terenureswimmingpool.ie
SUMMARY:Free Swim
DESCRIPTION:
URL:https://terenureswimmingpool.ie/timetable/free-swim/2027-07-26/
LOCATION:Terenure College Swimming Pool
END:VEVENT
BEGIN:VEVENT
DTSTART;TZID=Europe/Dublin:20270727T090000
DTEND;TZID=Europe/Dublin:20270727T100000
DTSTAMP:20260424T002718
CREATED:20260127T153017Z
LAST-MODIFIED:20260127T153017Z
UID:10000541-1816678800-1816682400@terenureswimmingpool.ie
SUMMARY:Free Swim
DESCRIPTION:
URL:https://terenureswimmingpool.ie/timetable/free-swim/2027-07-27/
LOCATION:Terenure College Swimming Pool
END:VEVENT
BEGIN:VEVENT
DTSTART;TZID=Europe/Dublin:20270728T090000
DTEND;TZID=Europe/Dublin:20270728T100000
DTSTAMP:20260424T002718
CREATED:20260127T153017Z
LAST-MODIFIED:20260127T153017Z
UID:10000542-1816765200-1816768800@terenureswimmingpool.ie
SUMMARY:Free Swim
DESCRIPTION:
URL:https://terenureswimmingpool.ie/timetable/free-swim/2027-07-28/
LOCATION:Terenure College Swimming Pool
END:VEVENT
BEGIN:VEVENT
DTSTART;TZID=Europe/Dublin:20270729T090000
DTEND;TZID=Europe/Dublin:20270729T100000
DTSTAMP:20260424T002718
CREATED:20260127T153017Z
LAST-MODIFIED:20260127T153017Z
UID:10000543-1816851600-1816855200@terenureswimmingpool.ie
SUMMARY:Free Swim
DESCRIPTION:
URL:https://terenureswimmingpool.ie/timetable/free-swim/2027-07-29/
LOCATION:Terenure College Swimming Pool
END:VEVENT
BEGIN:VEVENT
DTSTART;TZID=Europe/Dublin:20270730T090000
DTEND;TZID=Europe/Dublin:20270730T100000
DTSTAMP:20260424T002718
CREATED:20260127T153017Z
LAST-MODIFIED:20260127T153017Z
UID:10000544-1816938000-1816941600@terenureswimmingpool.ie
SUMMARY:Free Swim
DESCRIPTION:
URL:https://terenureswimmingpool.ie/timetable/free-swim/2027-07-30/
LOCATION:Terenure College Swimming Pool
END:VEVENT
END:VCALENDAR