BEGIN:VCALENDAR
VERSION:2.0
PRODID:-//Terenure Swimming Pool - ECPv6.15.20//NONSGML v1.0//EN
CALSCALE:GREGORIAN
METHOD:PUBLISH
X-ORIGINAL-URL:https://terenureswimmingpool.ie
X-WR-CALDESC:Events for Terenure Swimming Pool
REFRESH-INTERVAL;VALUE=DURATION:PT1H
X-Robots-Tag:noindex
X-PUBLISHED-TTL:PT1H
BEGIN:VTIMEZONE
TZID:Europe/Dublin
BEGIN:STANDARD
TZOFFSETFROM:+0000
TZOFFSETTO:+0100
TZNAME:IST
DTSTART:20260329T010000
END:STANDARD
BEGIN:DAYLIGHT
TZOFFSETFROM:+0100
TZOFFSETTO:+0000
TZNAME:GMT
DTSTART:20261025T010000
END:DAYLIGHT
BEGIN:STANDARD
TZOFFSETFROM:+0000
TZOFFSETTO:+0100
TZNAME:IST
DTSTART:20270328T010000
END:STANDARD
BEGIN:DAYLIGHT
TZOFFSETFROM:+0100
TZOFFSETTO:+0000
TZNAME:GMT
DTSTART:20271031T010000
END:DAYLIGHT
BEGIN:STANDARD
TZOFFSETFROM:+0000
TZOFFSETTO:+0100
TZNAME:IST
DTSTART:20280326T010000
END:STANDARD
BEGIN:DAYLIGHT
TZOFFSETFROM:+0100
TZOFFSETTO:+0000
TZNAME:GMT
DTSTART:20281029T010000
END:DAYLIGHT
END:VTIMEZONE
BEGIN:VEVENT
DTSTART;TZID=Europe/Dublin:20270104T090000
DTEND;TZID=Europe/Dublin:20270104T100000
DTSTAMP:20260423T134638
CREATED:20260127T153017Z
LAST-MODIFIED:20260127T153017Z
UID:10000337-1799053200-1799056800@terenureswimmingpool.ie
SUMMARY:Free Swim
DESCRIPTION:
URL:https://terenureswimmingpool.ie/timetable/free-swim/2027-01-04/
LOCATION:Terenure College Swimming Pool
END:VEVENT
BEGIN:VEVENT
DTSTART;TZID=Europe/Dublin:20270105T090000
DTEND;TZID=Europe/Dublin:20270105T100000
DTSTAMP:20260423T134638
CREATED:20260127T153017Z
LAST-MODIFIED:20260127T153017Z
UID:10000338-1799139600-1799143200@terenureswimmingpool.ie
SUMMARY:Free Swim
DESCRIPTION:
URL:https://terenureswimmingpool.ie/timetable/free-swim/2027-01-05/
LOCATION:Terenure College Swimming Pool
END:VEVENT
BEGIN:VEVENT
DTSTART;TZID=Europe/Dublin:20270106T090000
DTEND;TZID=Europe/Dublin:20270106T100000
DTSTAMP:20260423T134638
CREATED:20260127T153017Z
LAST-MODIFIED:20260127T153017Z
UID:10000339-1799226000-1799229600@terenureswimmingpool.ie
SUMMARY:Free Swim
DESCRIPTION:
URL:https://terenureswimmingpool.ie/timetable/free-swim/2027-01-06/
LOCATION:Terenure College Swimming Pool
END:VEVENT
BEGIN:VEVENT
DTSTART;TZID=Europe/Dublin:20270107T090000
DTEND;TZID=Europe/Dublin:20270107T100000
DTSTAMP:20260423T134638
CREATED:20260127T153017Z
LAST-MODIFIED:20260127T153017Z
UID:10000340-1799312400-1799316000@terenureswimmingpool.ie
SUMMARY:Free Swim
DESCRIPTION:
URL:https://terenureswimmingpool.ie/timetable/free-swim/2027-01-07/
LOCATION:Terenure College Swimming Pool
END:VEVENT
BEGIN:VEVENT
DTSTART;TZID=Europe/Dublin:20270108T090000
DTEND;TZID=Europe/Dublin:20270108T100000
DTSTAMP:20260423T134638
CREATED:20260127T153017Z
LAST-MODIFIED:20260127T153017Z
UID:10000341-1799398800-1799402400@terenureswimmingpool.ie
SUMMARY:Free Swim
DESCRIPTION:
URL:https://terenureswimmingpool.ie/timetable/free-swim/2027-01-08/
LOCATION:Terenure College Swimming Pool
END:VEVENT
BEGIN:VEVENT
DTSTART;TZID=Europe/Dublin:20270109T090000
DTEND;TZID=Europe/Dublin:20270109T100000
DTSTAMP:20260423T134638
CREATED:20260127T153017Z
LAST-MODIFIED:20260127T153017Z
UID:10000342-1799485200-1799488800@terenureswimmingpool.ie
SUMMARY:Free Swim
DESCRIPTION:
URL:https://terenureswimmingpool.ie/timetable/free-swim/2027-01-09/
LOCATION:Terenure College Swimming Pool
END:VEVENT
BEGIN:VEVENT
DTSTART;TZID=Europe/Dublin:20270110T090000
DTEND;TZID=Europe/Dublin:20270110T100000
DTSTAMP:20260423T134638
CREATED:20260127T153017Z
LAST-MODIFIED:20260127T153017Z
UID:10000343-1799571600-1799575200@terenureswimmingpool.ie
SUMMARY:Free Swim
DESCRIPTION:
URL:https://terenureswimmingpool.ie/timetable/free-swim/2027-01-10/
LOCATION:Terenure College Swimming Pool
END:VEVENT
END:VCALENDAR