BEGIN:VCALENDAR
VERSION:2.0
PRODID:-//Terenure Swimming Pool - ECPv6.15.20//NONSGML v1.0//EN
CALSCALE:GREGORIAN
METHOD:PUBLISH
X-WR-CALNAME:Terenure Swimming Pool
X-ORIGINAL-URL:https://terenureswimmingpool.ie
X-WR-CALDESC:Events for Terenure Swimming Pool
REFRESH-INTERVAL;VALUE=DURATION:PT1H
X-Robots-Tag:noindex
X-PUBLISHED-TTL:PT1H
BEGIN:VTIMEZONE
TZID:Europe/Dublin
BEGIN:STANDARD
TZOFFSETFROM:+0000
TZOFFSETTO:+0100
TZNAME:IST
DTSTART:20260329T010000
END:STANDARD
BEGIN:DAYLIGHT
TZOFFSETFROM:+0100
TZOFFSETTO:+0000
TZNAME:GMT
DTSTART:20261025T010000
END:DAYLIGHT
BEGIN:STANDARD
TZOFFSETFROM:+0000
TZOFFSETTO:+0100
TZNAME:IST
DTSTART:20270328T010000
END:STANDARD
BEGIN:DAYLIGHT
TZOFFSETFROM:+0100
TZOFFSETTO:+0000
TZNAME:GMT
DTSTART:20271031T010000
END:DAYLIGHT
BEGIN:STANDARD
TZOFFSETFROM:+0000
TZOFFSETTO:+0100
TZNAME:IST
DTSTART:20280326T010000
END:STANDARD
BEGIN:DAYLIGHT
TZOFFSETFROM:+0100
TZOFFSETTO:+0000
TZNAME:GMT
DTSTART:20281029T010000
END:DAYLIGHT
END:VTIMEZONE
BEGIN:VEVENT
DTSTART;TZID=Europe/Dublin:20270111T090000
DTEND;TZID=Europe/Dublin:20270111T100000
DTSTAMP:20260423T153652
CREATED:20260127T153017Z
LAST-MODIFIED:20260127T153017Z
UID:10000344-1799658000-1799661600@terenureswimmingpool.ie
SUMMARY:Free Swim
DESCRIPTION:
URL:https://terenureswimmingpool.ie/timetable/free-swim/2027-01-11/
LOCATION:Terenure College Swimming Pool
END:VEVENT
BEGIN:VEVENT
DTSTART;TZID=Europe/Dublin:20270112T090000
DTEND;TZID=Europe/Dublin:20270112T100000
DTSTAMP:20260423T153652
CREATED:20260127T153017Z
LAST-MODIFIED:20260127T153017Z
UID:10000345-1799744400-1799748000@terenureswimmingpool.ie
SUMMARY:Free Swim
DESCRIPTION:
URL:https://terenureswimmingpool.ie/timetable/free-swim/2027-01-12/
LOCATION:Terenure College Swimming Pool
END:VEVENT
BEGIN:VEVENT
DTSTART;TZID=Europe/Dublin:20270113T090000
DTEND;TZID=Europe/Dublin:20270113T100000
DTSTAMP:20260423T153652
CREATED:20260127T153017Z
LAST-MODIFIED:20260127T153017Z
UID:10000346-1799830800-1799834400@terenureswimmingpool.ie
SUMMARY:Free Swim
DESCRIPTION:
URL:https://terenureswimmingpool.ie/timetable/free-swim/2027-01-13/
LOCATION:Terenure College Swimming Pool
END:VEVENT
BEGIN:VEVENT
DTSTART;TZID=Europe/Dublin:20270114T090000
DTEND;TZID=Europe/Dublin:20270114T100000
DTSTAMP:20260423T153652
CREATED:20260127T153017Z
LAST-MODIFIED:20260127T153017Z
UID:10000347-1799917200-1799920800@terenureswimmingpool.ie
SUMMARY:Free Swim
DESCRIPTION:
URL:https://terenureswimmingpool.ie/timetable/free-swim/2027-01-14/
LOCATION:Terenure College Swimming Pool
END:VEVENT
BEGIN:VEVENT
DTSTART;TZID=Europe/Dublin:20270115T090000
DTEND;TZID=Europe/Dublin:20270115T100000
DTSTAMP:20260423T153652
CREATED:20260127T153017Z
LAST-MODIFIED:20260127T153017Z
UID:10000348-1800003600-1800007200@terenureswimmingpool.ie
SUMMARY:Free Swim
DESCRIPTION:
URL:https://terenureswimmingpool.ie/timetable/free-swim/2027-01-15/
LOCATION:Terenure College Swimming Pool
END:VEVENT
BEGIN:VEVENT
DTSTART;TZID=Europe/Dublin:20270116T090000
DTEND;TZID=Europe/Dublin:20270116T100000
DTSTAMP:20260423T153652
CREATED:20260127T153017Z
LAST-MODIFIED:20260127T153017Z
UID:10000349-1800090000-1800093600@terenureswimmingpool.ie
SUMMARY:Free Swim
DESCRIPTION:
URL:https://terenureswimmingpool.ie/timetable/free-swim/2027-01-16/
LOCATION:Terenure College Swimming Pool
END:VEVENT
BEGIN:VEVENT
DTSTART;TZID=Europe/Dublin:20270117T090000
DTEND;TZID=Europe/Dublin:20270117T100000
DTSTAMP:20260423T153652
CREATED:20260127T153017Z
LAST-MODIFIED:20260127T153017Z
UID:10000350-1800176400-1800180000@terenureswimmingpool.ie
SUMMARY:Free Swim
DESCRIPTION:
URL:https://terenureswimmingpool.ie/timetable/free-swim/2027-01-17/
LOCATION:Terenure College Swimming Pool
END:VEVENT
END:VCALENDAR