BEGIN:VCALENDAR
VERSION:2.0
PRODID:-//Terenure Swimming Pool - ECPv6.15.20//NONSGML v1.0//EN
CALSCALE:GREGORIAN
METHOD:PUBLISH
X-ORIGINAL-URL:https://terenureswimmingpool.ie
X-WR-CALDESC:Events for Terenure Swimming Pool
REFRESH-INTERVAL;VALUE=DURATION:PT1H
X-Robots-Tag:noindex
X-PUBLISHED-TTL:PT1H
BEGIN:VTIMEZONE
TZID:Europe/Dublin
BEGIN:STANDARD
TZOFFSETFROM:+0000
TZOFFSETTO:+0100
TZNAME:IST
DTSTART:20260329T010000
END:STANDARD
BEGIN:DAYLIGHT
TZOFFSETFROM:+0100
TZOFFSETTO:+0000
TZNAME:GMT
DTSTART:20261025T010000
END:DAYLIGHT
BEGIN:STANDARD
TZOFFSETFROM:+0000
TZOFFSETTO:+0100
TZNAME:IST
DTSTART:20270328T010000
END:STANDARD
BEGIN:DAYLIGHT
TZOFFSETFROM:+0100
TZOFFSETTO:+0000
TZNAME:GMT
DTSTART:20271031T010000
END:DAYLIGHT
BEGIN:STANDARD
TZOFFSETFROM:+0000
TZOFFSETTO:+0100
TZNAME:IST
DTSTART:20280326T010000
END:STANDARD
BEGIN:DAYLIGHT
TZOFFSETFROM:+0100
TZOFFSETTO:+0000
TZNAME:GMT
DTSTART:20281029T010000
END:DAYLIGHT
END:VTIMEZONE
BEGIN:VEVENT
DTSTART;TZID=Europe/Dublin:20270118T090000
DTEND;TZID=Europe/Dublin:20270118T100000
DTSTAMP:20260423T170048
CREATED:20260127T153017Z
LAST-MODIFIED:20260127T153017Z
UID:10000351-1800262800-1800266400@terenureswimmingpool.ie
SUMMARY:Free Swim
DESCRIPTION:
URL:https://terenureswimmingpool.ie/timetable/free-swim/2027-01-18/
LOCATION:Terenure College Swimming Pool
END:VEVENT
BEGIN:VEVENT
DTSTART;TZID=Europe/Dublin:20270119T090000
DTEND;TZID=Europe/Dublin:20270119T100000
DTSTAMP:20260423T170048
CREATED:20260127T153017Z
LAST-MODIFIED:20260127T153017Z
UID:10000352-1800349200-1800352800@terenureswimmingpool.ie
SUMMARY:Free Swim
DESCRIPTION:
URL:https://terenureswimmingpool.ie/timetable/free-swim/2027-01-19/
LOCATION:Terenure College Swimming Pool
END:VEVENT
BEGIN:VEVENT
DTSTART;TZID=Europe/Dublin:20270120T090000
DTEND;TZID=Europe/Dublin:20270120T100000
DTSTAMP:20260423T170048
CREATED:20260127T153017Z
LAST-MODIFIED:20260127T153017Z
UID:10000353-1800435600-1800439200@terenureswimmingpool.ie
SUMMARY:Free Swim
DESCRIPTION:
URL:https://terenureswimmingpool.ie/timetable/free-swim/2027-01-20/
LOCATION:Terenure College Swimming Pool
END:VEVENT
BEGIN:VEVENT
DTSTART;TZID=Europe/Dublin:20270121T090000
DTEND;TZID=Europe/Dublin:20270121T100000
DTSTAMP:20260423T170048
CREATED:20260127T153017Z
LAST-MODIFIED:20260127T153017Z
UID:10000354-1800522000-1800525600@terenureswimmingpool.ie
SUMMARY:Free Swim
DESCRIPTION:
URL:https://terenureswimmingpool.ie/timetable/free-swim/2027-01-21/
LOCATION:Terenure College Swimming Pool
END:VEVENT
BEGIN:VEVENT
DTSTART;TZID=Europe/Dublin:20270122T090000
DTEND;TZID=Europe/Dublin:20270122T100000
DTSTAMP:20260423T170048
CREATED:20260127T153017Z
LAST-MODIFIED:20260127T153017Z
UID:10000355-1800608400-1800612000@terenureswimmingpool.ie
SUMMARY:Free Swim
DESCRIPTION:
URL:https://terenureswimmingpool.ie/timetable/free-swim/2027-01-22/
LOCATION:Terenure College Swimming Pool
END:VEVENT
BEGIN:VEVENT
DTSTART;TZID=Europe/Dublin:20270123T090000
DTEND;TZID=Europe/Dublin:20270123T100000
DTSTAMP:20260423T170048
CREATED:20260127T153017Z
LAST-MODIFIED:20260127T153017Z
UID:10000356-1800694800-1800698400@terenureswimmingpool.ie
SUMMARY:Free Swim
DESCRIPTION:
URL:https://terenureswimmingpool.ie/timetable/free-swim/2027-01-23/
LOCATION:Terenure College Swimming Pool
END:VEVENT
BEGIN:VEVENT
DTSTART;TZID=Europe/Dublin:20270124T090000
DTEND;TZID=Europe/Dublin:20270124T100000
DTSTAMP:20260423T170048
CREATED:20260127T153017Z
LAST-MODIFIED:20260127T153017Z
UID:10000357-1800781200-1800784800@terenureswimmingpool.ie
SUMMARY:Free Swim
DESCRIPTION:
URL:https://terenureswimmingpool.ie/timetable/free-swim/2027-01-24/
LOCATION:Terenure College Swimming Pool
END:VEVENT
END:VCALENDAR