BEGIN:VCALENDAR
VERSION:2.0
PRODID:-//Terenure Swimming Pool - ECPv6.15.20//NONSGML v1.0//EN
CALSCALE:GREGORIAN
METHOD:PUBLISH
X-WR-CALNAME:Terenure Swimming Pool
X-ORIGINAL-URL:https://terenureswimmingpool.ie
X-WR-CALDESC:Events for Terenure Swimming Pool
REFRESH-INTERVAL;VALUE=DURATION:PT1H
X-Robots-Tag:noindex
X-PUBLISHED-TTL:PT1H
BEGIN:VTIMEZONE
TZID:Europe/Dublin
BEGIN:STANDARD
TZOFFSETFROM:+0000
TZOFFSETTO:+0100
TZNAME:IST
DTSTART:20260329T010000
END:STANDARD
BEGIN:DAYLIGHT
TZOFFSETFROM:+0100
TZOFFSETTO:+0000
TZNAME:GMT
DTSTART:20261025T010000
END:DAYLIGHT
BEGIN:STANDARD
TZOFFSETFROM:+0000
TZOFFSETTO:+0100
TZNAME:IST
DTSTART:20270328T010000
END:STANDARD
BEGIN:DAYLIGHT
TZOFFSETFROM:+0100
TZOFFSETTO:+0000
TZNAME:GMT
DTSTART:20271031T010000
END:DAYLIGHT
BEGIN:STANDARD
TZOFFSETFROM:+0000
TZOFFSETTO:+0100
TZNAME:IST
DTSTART:20280326T010000
END:STANDARD
BEGIN:DAYLIGHT
TZOFFSETFROM:+0100
TZOFFSETTO:+0000
TZNAME:GMT
DTSTART:20281029T010000
END:DAYLIGHT
END:VTIMEZONE
BEGIN:VEVENT
DTSTART;TZID=Europe/Dublin:20270125T090000
DTEND;TZID=Europe/Dublin:20270125T100000
DTSTAMP:20260423T182348
CREATED:20260127T153017Z
LAST-MODIFIED:20260127T153017Z
UID:10000358-1800867600-1800871200@terenureswimmingpool.ie
SUMMARY:Free Swim
DESCRIPTION:
URL:https://terenureswimmingpool.ie/timetable/free-swim/2027-01-25/
LOCATION:Terenure College Swimming Pool
END:VEVENT
BEGIN:VEVENT
DTSTART;TZID=Europe/Dublin:20270126T090000
DTEND;TZID=Europe/Dublin:20270126T100000
DTSTAMP:20260423T182348
CREATED:20260127T153017Z
LAST-MODIFIED:20260127T153017Z
UID:10000359-1800954000-1800957600@terenureswimmingpool.ie
SUMMARY:Free Swim
DESCRIPTION:
URL:https://terenureswimmingpool.ie/timetable/free-swim/2027-01-26/
LOCATION:Terenure College Swimming Pool
END:VEVENT
BEGIN:VEVENT
DTSTART;TZID=Europe/Dublin:20270127T090000
DTEND;TZID=Europe/Dublin:20270127T100000
DTSTAMP:20260423T182348
CREATED:20260127T153017Z
LAST-MODIFIED:20260127T153017Z
UID:10000360-1801040400-1801044000@terenureswimmingpool.ie
SUMMARY:Free Swim
DESCRIPTION:
URL:https://terenureswimmingpool.ie/timetable/free-swim/2027-01-27/
LOCATION:Terenure College Swimming Pool
END:VEVENT
BEGIN:VEVENT
DTSTART;TZID=Europe/Dublin:20270128T090000
DTEND;TZID=Europe/Dublin:20270128T100000
DTSTAMP:20260423T182348
CREATED:20260127T153017Z
LAST-MODIFIED:20260127T153017Z
UID:10000361-1801126800-1801130400@terenureswimmingpool.ie
SUMMARY:Free Swim
DESCRIPTION:
URL:https://terenureswimmingpool.ie/timetable/free-swim/2027-01-28/
LOCATION:Terenure College Swimming Pool
END:VEVENT
BEGIN:VEVENT
DTSTART;TZID=Europe/Dublin:20270129T090000
DTEND;TZID=Europe/Dublin:20270129T100000
DTSTAMP:20260423T182348
CREATED:20260127T153017Z
LAST-MODIFIED:20260127T153017Z
UID:10000362-1801213200-1801216800@terenureswimmingpool.ie
SUMMARY:Free Swim
DESCRIPTION:
URL:https://terenureswimmingpool.ie/timetable/free-swim/2027-01-29/
LOCATION:Terenure College Swimming Pool
END:VEVENT
BEGIN:VEVENT
DTSTART;TZID=Europe/Dublin:20270130T090000
DTEND;TZID=Europe/Dublin:20270130T100000
DTSTAMP:20260423T182348
CREATED:20260127T153017Z
LAST-MODIFIED:20260127T153017Z
UID:10000363-1801299600-1801303200@terenureswimmingpool.ie
SUMMARY:Free Swim
DESCRIPTION:
URL:https://terenureswimmingpool.ie/timetable/free-swim/2027-01-30/
LOCATION:Terenure College Swimming Pool
END:VEVENT
BEGIN:VEVENT
DTSTART;TZID=Europe/Dublin:20270131T090000
DTEND;TZID=Europe/Dublin:20270131T100000
DTSTAMP:20260423T182348
CREATED:20260127T153017Z
LAST-MODIFIED:20260127T153017Z
UID:10000364-1801386000-1801389600@terenureswimmingpool.ie
SUMMARY:Free Swim
DESCRIPTION:
URL:https://terenureswimmingpool.ie/timetable/free-swim/2027-01-31/
LOCATION:Terenure College Swimming Pool
END:VEVENT
END:VCALENDAR