BEGIN:VCALENDAR
VERSION:2.0
PRODID:-//Terenure Swimming Pool - ECPv6.15.20//NONSGML v1.0//EN
CALSCALE:GREGORIAN
METHOD:PUBLISH
X-WR-CALNAME:Terenure Swimming Pool
X-ORIGINAL-URL:https://terenureswimmingpool.ie
X-WR-CALDESC:Events for Terenure Swimming Pool
REFRESH-INTERVAL;VALUE=DURATION:PT1H
X-Robots-Tag:noindex
X-PUBLISHED-TTL:PT1H
BEGIN:VTIMEZONE
TZID:Europe/Dublin
BEGIN:STANDARD
TZOFFSETFROM:+0000
TZOFFSETTO:+0100
TZNAME:IST
DTSTART:20260329T010000
END:STANDARD
BEGIN:DAYLIGHT
TZOFFSETFROM:+0100
TZOFFSETTO:+0000
TZNAME:GMT
DTSTART:20261025T010000
END:DAYLIGHT
BEGIN:STANDARD
TZOFFSETFROM:+0000
TZOFFSETTO:+0100
TZNAME:IST
DTSTART:20270328T010000
END:STANDARD
BEGIN:DAYLIGHT
TZOFFSETFROM:+0100
TZOFFSETTO:+0000
TZNAME:GMT
DTSTART:20271031T010000
END:DAYLIGHT
BEGIN:STANDARD
TZOFFSETFROM:+0000
TZOFFSETTO:+0100
TZNAME:IST
DTSTART:20280326T010000
END:STANDARD
BEGIN:DAYLIGHT
TZOFFSETFROM:+0100
TZOFFSETTO:+0000
TZNAME:GMT
DTSTART:20281029T010000
END:DAYLIGHT
END:VTIMEZONE
BEGIN:VEVENT
DTSTART;TZID=Europe/Dublin:20270201T090000
DTEND;TZID=Europe/Dublin:20270201T100000
DTSTAMP:20260423T182420
CREATED:20260127T153017Z
LAST-MODIFIED:20260127T153017Z
UID:10000365-1801472400-1801476000@terenureswimmingpool.ie
SUMMARY:Free Swim
DESCRIPTION:
URL:https://terenureswimmingpool.ie/timetable/free-swim/2027-02-01/
LOCATION:Terenure College Swimming Pool
END:VEVENT
BEGIN:VEVENT
DTSTART;TZID=Europe/Dublin:20270202T090000
DTEND;TZID=Europe/Dublin:20270202T100000
DTSTAMP:20260423T182420
CREATED:20260127T153017Z
LAST-MODIFIED:20260127T153017Z
UID:10000366-1801558800-1801562400@terenureswimmingpool.ie
SUMMARY:Free Swim
DESCRIPTION:
URL:https://terenureswimmingpool.ie/timetable/free-swim/2027-02-02/
LOCATION:Terenure College Swimming Pool
END:VEVENT
BEGIN:VEVENT
DTSTART;TZID=Europe/Dublin:20270203T090000
DTEND;TZID=Europe/Dublin:20270203T100000
DTSTAMP:20260423T182420
CREATED:20260127T153017Z
LAST-MODIFIED:20260127T153017Z
UID:10000367-1801645200-1801648800@terenureswimmingpool.ie
SUMMARY:Free Swim
DESCRIPTION:
URL:https://terenureswimmingpool.ie/timetable/free-swim/2027-02-03/
LOCATION:Terenure College Swimming Pool
END:VEVENT
BEGIN:VEVENT
DTSTART;TZID=Europe/Dublin:20270204T090000
DTEND;TZID=Europe/Dublin:20270204T100000
DTSTAMP:20260423T182420
CREATED:20260127T153017Z
LAST-MODIFIED:20260127T153017Z
UID:10000368-1801731600-1801735200@terenureswimmingpool.ie
SUMMARY:Free Swim
DESCRIPTION:
URL:https://terenureswimmingpool.ie/timetable/free-swim/2027-02-04/
LOCATION:Terenure College Swimming Pool
END:VEVENT
BEGIN:VEVENT
DTSTART;TZID=Europe/Dublin:20270205T090000
DTEND;TZID=Europe/Dublin:20270205T100000
DTSTAMP:20260423T182420
CREATED:20260127T153017Z
LAST-MODIFIED:20260127T153017Z
UID:10000369-1801818000-1801821600@terenureswimmingpool.ie
SUMMARY:Free Swim
DESCRIPTION:
URL:https://terenureswimmingpool.ie/timetable/free-swim/2027-02-05/
LOCATION:Terenure College Swimming Pool
END:VEVENT
BEGIN:VEVENT
DTSTART;TZID=Europe/Dublin:20270206T090000
DTEND;TZID=Europe/Dublin:20270206T100000
DTSTAMP:20260423T182420
CREATED:20260127T153017Z
LAST-MODIFIED:20260127T153017Z
UID:10000370-1801904400-1801908000@terenureswimmingpool.ie
SUMMARY:Free Swim
DESCRIPTION:
URL:https://terenureswimmingpool.ie/timetable/free-swim/2027-02-06/
LOCATION:Terenure College Swimming Pool
END:VEVENT
BEGIN:VEVENT
DTSTART;TZID=Europe/Dublin:20270207T090000
DTEND;TZID=Europe/Dublin:20270207T100000
DTSTAMP:20260423T182420
CREATED:20260127T153017Z
LAST-MODIFIED:20260127T153017Z
UID:10000371-1801990800-1801994400@terenureswimmingpool.ie
SUMMARY:Free Swim
DESCRIPTION:
URL:https://terenureswimmingpool.ie/timetable/free-swim/2027-02-07/
LOCATION:Terenure College Swimming Pool
END:VEVENT
END:VCALENDAR