BEGIN:VCALENDAR
VERSION:2.0
PRODID:-//Terenure Swimming Pool - ECPv6.15.20//NONSGML v1.0//EN
CALSCALE:GREGORIAN
METHOD:PUBLISH
X-ORIGINAL-URL:https://terenureswimmingpool.ie
X-WR-CALDESC:Events for Terenure Swimming Pool
REFRESH-INTERVAL;VALUE=DURATION:PT1H
X-Robots-Tag:noindex
X-PUBLISHED-TTL:PT1H
BEGIN:VTIMEZONE
TZID:Europe/Dublin
BEGIN:STANDARD
TZOFFSETFROM:+0000
TZOFFSETTO:+0100
TZNAME:IST
DTSTART:20260329T010000
END:STANDARD
BEGIN:DAYLIGHT
TZOFFSETFROM:+0100
TZOFFSETTO:+0000
TZNAME:GMT
DTSTART:20261025T010000
END:DAYLIGHT
BEGIN:STANDARD
TZOFFSETFROM:+0000
TZOFFSETTO:+0100
TZNAME:IST
DTSTART:20270328T010000
END:STANDARD
BEGIN:DAYLIGHT
TZOFFSETFROM:+0100
TZOFFSETTO:+0000
TZNAME:GMT
DTSTART:20271031T010000
END:DAYLIGHT
BEGIN:STANDARD
TZOFFSETFROM:+0000
TZOFFSETTO:+0100
TZNAME:IST
DTSTART:20280326T010000
END:STANDARD
BEGIN:DAYLIGHT
TZOFFSETFROM:+0100
TZOFFSETTO:+0000
TZNAME:GMT
DTSTART:20281029T010000
END:DAYLIGHT
END:VTIMEZONE
BEGIN:VEVENT
DTSTART;TZID=Europe/Dublin:20270208T090000
DTEND;TZID=Europe/Dublin:20270208T100000
DTSTAMP:20260423T195451
CREATED:20260127T153017Z
LAST-MODIFIED:20260127T153017Z
UID:10000372-1802077200-1802080800@terenureswimmingpool.ie
SUMMARY:Free Swim
DESCRIPTION:
URL:https://terenureswimmingpool.ie/timetable/free-swim/2027-02-08/
LOCATION:Terenure College Swimming Pool
END:VEVENT
BEGIN:VEVENT
DTSTART;TZID=Europe/Dublin:20270209T090000
DTEND;TZID=Europe/Dublin:20270209T100000
DTSTAMP:20260423T195451
CREATED:20260127T153017Z
LAST-MODIFIED:20260127T153017Z
UID:10000373-1802163600-1802167200@terenureswimmingpool.ie
SUMMARY:Free Swim
DESCRIPTION:
URL:https://terenureswimmingpool.ie/timetable/free-swim/2027-02-09/
LOCATION:Terenure College Swimming Pool
END:VEVENT
BEGIN:VEVENT
DTSTART;TZID=Europe/Dublin:20270210T090000
DTEND;TZID=Europe/Dublin:20270210T100000
DTSTAMP:20260423T195451
CREATED:20260127T153017Z
LAST-MODIFIED:20260127T153017Z
UID:10000374-1802250000-1802253600@terenureswimmingpool.ie
SUMMARY:Free Swim
DESCRIPTION:
URL:https://terenureswimmingpool.ie/timetable/free-swim/2027-02-10/
LOCATION:Terenure College Swimming Pool
END:VEVENT
BEGIN:VEVENT
DTSTART;TZID=Europe/Dublin:20270211T090000
DTEND;TZID=Europe/Dublin:20270211T100000
DTSTAMP:20260423T195451
CREATED:20260127T153017Z
LAST-MODIFIED:20260127T153017Z
UID:10000375-1802336400-1802340000@terenureswimmingpool.ie
SUMMARY:Free Swim
DESCRIPTION:
URL:https://terenureswimmingpool.ie/timetable/free-swim/2027-02-11/
LOCATION:Terenure College Swimming Pool
END:VEVENT
BEGIN:VEVENT
DTSTART;TZID=Europe/Dublin:20270212T090000
DTEND;TZID=Europe/Dublin:20270212T100000
DTSTAMP:20260423T195451
CREATED:20260127T153017Z
LAST-MODIFIED:20260127T153017Z
UID:10000376-1802422800-1802426400@terenureswimmingpool.ie
SUMMARY:Free Swim
DESCRIPTION:
URL:https://terenureswimmingpool.ie/timetable/free-swim/2027-02-12/
LOCATION:Terenure College Swimming Pool
END:VEVENT
BEGIN:VEVENT
DTSTART;TZID=Europe/Dublin:20270213T090000
DTEND;TZID=Europe/Dublin:20270213T100000
DTSTAMP:20260423T195451
CREATED:20260127T153017Z
LAST-MODIFIED:20260127T153017Z
UID:10000377-1802509200-1802512800@terenureswimmingpool.ie
SUMMARY:Free Swim
DESCRIPTION:
URL:https://terenureswimmingpool.ie/timetable/free-swim/2027-02-13/
LOCATION:Terenure College Swimming Pool
END:VEVENT
BEGIN:VEVENT
DTSTART;TZID=Europe/Dublin:20270214T090000
DTEND;TZID=Europe/Dublin:20270214T100000
DTSTAMP:20260423T195451
CREATED:20260127T153017Z
LAST-MODIFIED:20260127T153017Z
UID:10000378-1802595600-1802599200@terenureswimmingpool.ie
SUMMARY:Free Swim
DESCRIPTION:
URL:https://terenureswimmingpool.ie/timetable/free-swim/2027-02-14/
LOCATION:Terenure College Swimming Pool
END:VEVENT
END:VCALENDAR