BEGIN:VCALENDAR
VERSION:2.0
PRODID:-//Terenure Swimming Pool - ECPv6.15.20//NONSGML v1.0//EN
CALSCALE:GREGORIAN
METHOD:PUBLISH
X-WR-CALNAME:Terenure Swimming Pool
X-ORIGINAL-URL:https://terenureswimmingpool.ie
X-WR-CALDESC:Events for Terenure Swimming Pool
REFRESH-INTERVAL;VALUE=DURATION:PT1H
X-Robots-Tag:noindex
X-PUBLISHED-TTL:PT1H
BEGIN:VTIMEZONE
TZID:Europe/Dublin
BEGIN:STANDARD
TZOFFSETFROM:+0000
TZOFFSETTO:+0100
TZNAME:IST
DTSTART:20260329T010000
END:STANDARD
BEGIN:DAYLIGHT
TZOFFSETFROM:+0100
TZOFFSETTO:+0000
TZNAME:GMT
DTSTART:20261025T010000
END:DAYLIGHT
BEGIN:STANDARD
TZOFFSETFROM:+0000
TZOFFSETTO:+0100
TZNAME:IST
DTSTART:20270328T010000
END:STANDARD
BEGIN:DAYLIGHT
TZOFFSETFROM:+0100
TZOFFSETTO:+0000
TZNAME:GMT
DTSTART:20271031T010000
END:DAYLIGHT
BEGIN:STANDARD
TZOFFSETFROM:+0000
TZOFFSETTO:+0100
TZNAME:IST
DTSTART:20280326T010000
END:STANDARD
BEGIN:DAYLIGHT
TZOFFSETFROM:+0100
TZOFFSETTO:+0000
TZNAME:GMT
DTSTART:20281029T010000
END:DAYLIGHT
END:VTIMEZONE
BEGIN:VEVENT
DTSTART;TZID=Europe/Dublin:20270222T090000
DTEND;TZID=Europe/Dublin:20270222T100000
DTSTAMP:20260423T213111
CREATED:20260127T153017Z
LAST-MODIFIED:20260127T153017Z
UID:10000386-1803286800-1803290400@terenureswimmingpool.ie
SUMMARY:Free Swim
DESCRIPTION:
URL:https://terenureswimmingpool.ie/timetable/free-swim/2027-02-22/
LOCATION:Terenure College Swimming Pool
END:VEVENT
BEGIN:VEVENT
DTSTART;TZID=Europe/Dublin:20270223T090000
DTEND;TZID=Europe/Dublin:20270223T100000
DTSTAMP:20260423T213111
CREATED:20260127T153017Z
LAST-MODIFIED:20260127T153017Z
UID:10000387-1803373200-1803376800@terenureswimmingpool.ie
SUMMARY:Free Swim
DESCRIPTION:
URL:https://terenureswimmingpool.ie/timetable/free-swim/2027-02-23/
LOCATION:Terenure College Swimming Pool
END:VEVENT
BEGIN:VEVENT
DTSTART;TZID=Europe/Dublin:20270224T090000
DTEND;TZID=Europe/Dublin:20270224T100000
DTSTAMP:20260423T213112
CREATED:20260127T153017Z
LAST-MODIFIED:20260127T153017Z
UID:10000388-1803459600-1803463200@terenureswimmingpool.ie
SUMMARY:Free Swim
DESCRIPTION:
URL:https://terenureswimmingpool.ie/timetable/free-swim/2027-02-24/
LOCATION:Terenure College Swimming Pool
END:VEVENT
BEGIN:VEVENT
DTSTART;TZID=Europe/Dublin:20270225T090000
DTEND;TZID=Europe/Dublin:20270225T100000
DTSTAMP:20260423T213112
CREATED:20260127T153017Z
LAST-MODIFIED:20260127T153017Z
UID:10000389-1803546000-1803549600@terenureswimmingpool.ie
SUMMARY:Free Swim
DESCRIPTION:
URL:https://terenureswimmingpool.ie/timetable/free-swim/2027-02-25/
LOCATION:Terenure College Swimming Pool
END:VEVENT
BEGIN:VEVENT
DTSTART;TZID=Europe/Dublin:20270226T090000
DTEND;TZID=Europe/Dublin:20270226T100000
DTSTAMP:20260423T213112
CREATED:20260127T153017Z
LAST-MODIFIED:20260127T153017Z
UID:10000390-1803632400-1803636000@terenureswimmingpool.ie
SUMMARY:Free Swim
DESCRIPTION:
URL:https://terenureswimmingpool.ie/timetable/free-swim/2027-02-26/
LOCATION:Terenure College Swimming Pool
END:VEVENT
BEGIN:VEVENT
DTSTART;TZID=Europe/Dublin:20270227T090000
DTEND;TZID=Europe/Dublin:20270227T100000
DTSTAMP:20260423T213112
CREATED:20260127T153017Z
LAST-MODIFIED:20260127T153017Z
UID:10000391-1803718800-1803722400@terenureswimmingpool.ie
SUMMARY:Free Swim
DESCRIPTION:
URL:https://terenureswimmingpool.ie/timetable/free-swim/2027-02-27/
LOCATION:Terenure College Swimming Pool
END:VEVENT
BEGIN:VEVENT
DTSTART;TZID=Europe/Dublin:20270228T090000
DTEND;TZID=Europe/Dublin:20270228T100000
DTSTAMP:20260423T213112
CREATED:20260127T153017Z
LAST-MODIFIED:20260127T153017Z
UID:10000392-1803805200-1803808800@terenureswimmingpool.ie
SUMMARY:Free Swim
DESCRIPTION:
URL:https://terenureswimmingpool.ie/timetable/free-swim/2027-02-28/
LOCATION:Terenure College Swimming Pool
END:VEVENT
END:VCALENDAR