BEGIN:VCALENDAR
VERSION:2.0
PRODID:-//Terenure Swimming Pool - ECPv6.15.20//NONSGML v1.0//EN
CALSCALE:GREGORIAN
METHOD:PUBLISH
X-ORIGINAL-URL:https://terenureswimmingpool.ie
X-WR-CALDESC:Events for Terenure Swimming Pool
REFRESH-INTERVAL;VALUE=DURATION:PT1H
X-Robots-Tag:noindex
X-PUBLISHED-TTL:PT1H
BEGIN:VTIMEZONE
TZID:Europe/Dublin
BEGIN:STANDARD
TZOFFSETFROM:+0000
TZOFFSETTO:+0100
TZNAME:IST
DTSTART:20260329T010000
END:STANDARD
BEGIN:DAYLIGHT
TZOFFSETFROM:+0100
TZOFFSETTO:+0000
TZNAME:GMT
DTSTART:20261025T010000
END:DAYLIGHT
BEGIN:STANDARD
TZOFFSETFROM:+0000
TZOFFSETTO:+0100
TZNAME:IST
DTSTART:20270328T010000
END:STANDARD
BEGIN:DAYLIGHT
TZOFFSETFROM:+0100
TZOFFSETTO:+0000
TZNAME:GMT
DTSTART:20271031T010000
END:DAYLIGHT
BEGIN:STANDARD
TZOFFSETFROM:+0000
TZOFFSETTO:+0100
TZNAME:IST
DTSTART:20280326T010000
END:STANDARD
BEGIN:DAYLIGHT
TZOFFSETFROM:+0100
TZOFFSETTO:+0000
TZNAME:GMT
DTSTART:20281029T010000
END:DAYLIGHT
END:VTIMEZONE
BEGIN:VEVENT
DTSTART;TZID=Europe/Dublin:20270412T090000
DTEND;TZID=Europe/Dublin:20270412T100000
DTSTAMP:20260424T003008
CREATED:20260127T153017Z
LAST-MODIFIED:20260127T153017Z
UID:10000435-1807520400-1807524000@terenureswimmingpool.ie
SUMMARY:Free Swim
DESCRIPTION:
URL:https://terenureswimmingpool.ie/timetable/free-swim/2027-04-12/
LOCATION:Terenure College Swimming Pool
END:VEVENT
BEGIN:VEVENT
DTSTART;TZID=Europe/Dublin:20270413T090000
DTEND;TZID=Europe/Dublin:20270413T100000
DTSTAMP:20260424T003008
CREATED:20260127T153017Z
LAST-MODIFIED:20260127T153017Z
UID:10000436-1807606800-1807610400@terenureswimmingpool.ie
SUMMARY:Free Swim
DESCRIPTION:
URL:https://terenureswimmingpool.ie/timetable/free-swim/2027-04-13/
LOCATION:Terenure College Swimming Pool
END:VEVENT
BEGIN:VEVENT
DTSTART;TZID=Europe/Dublin:20270414T090000
DTEND;TZID=Europe/Dublin:20270414T100000
DTSTAMP:20260424T003008
CREATED:20260127T153017Z
LAST-MODIFIED:20260127T153017Z
UID:10000437-1807693200-1807696800@terenureswimmingpool.ie
SUMMARY:Free Swim
DESCRIPTION:
URL:https://terenureswimmingpool.ie/timetable/free-swim/2027-04-14/
LOCATION:Terenure College Swimming Pool
END:VEVENT
BEGIN:VEVENT
DTSTART;TZID=Europe/Dublin:20270415T090000
DTEND;TZID=Europe/Dublin:20270415T100000
DTSTAMP:20260424T003008
CREATED:20260127T153017Z
LAST-MODIFIED:20260127T153017Z
UID:10000438-1807779600-1807783200@terenureswimmingpool.ie
SUMMARY:Free Swim
DESCRIPTION:
URL:https://terenureswimmingpool.ie/timetable/free-swim/2027-04-15/
LOCATION:Terenure College Swimming Pool
END:VEVENT
BEGIN:VEVENT
DTSTART;TZID=Europe/Dublin:20270416T090000
DTEND;TZID=Europe/Dublin:20270416T100000
DTSTAMP:20260424T003008
CREATED:20260127T153017Z
LAST-MODIFIED:20260127T153017Z
UID:10000439-1807866000-1807869600@terenureswimmingpool.ie
SUMMARY:Free Swim
DESCRIPTION:
URL:https://terenureswimmingpool.ie/timetable/free-swim/2027-04-16/
LOCATION:Terenure College Swimming Pool
END:VEVENT
BEGIN:VEVENT
DTSTART;TZID=Europe/Dublin:20270417T090000
DTEND;TZID=Europe/Dublin:20270417T100000
DTSTAMP:20260424T003008
CREATED:20260127T153017Z
LAST-MODIFIED:20260127T153017Z
UID:10000440-1807952400-1807956000@terenureswimmingpool.ie
SUMMARY:Free Swim
DESCRIPTION:
URL:https://terenureswimmingpool.ie/timetable/free-swim/2027-04-17/
LOCATION:Terenure College Swimming Pool
END:VEVENT
BEGIN:VEVENT
DTSTART;TZID=Europe/Dublin:20270418T090000
DTEND;TZID=Europe/Dublin:20270418T100000
DTSTAMP:20260424T003008
CREATED:20260127T153017Z
LAST-MODIFIED:20260127T153017Z
UID:10000441-1808038800-1808042400@terenureswimmingpool.ie
SUMMARY:Free Swim
DESCRIPTION:
URL:https://terenureswimmingpool.ie/timetable/free-swim/2027-04-18/
LOCATION:Terenure College Swimming Pool
END:VEVENT
END:VCALENDAR