BEGIN:VCALENDAR
VERSION:2.0
PRODID:-//Terenure Swimming Pool - ECPv6.15.20//NONSGML v1.0//EN
CALSCALE:GREGORIAN
METHOD:PUBLISH
X-ORIGINAL-URL:https://terenureswimmingpool.ie
X-WR-CALDESC:Events for Terenure Swimming Pool
REFRESH-INTERVAL;VALUE=DURATION:PT1H
X-Robots-Tag:noindex
X-PUBLISHED-TTL:PT1H
BEGIN:VTIMEZONE
TZID:Europe/Dublin
BEGIN:STANDARD
TZOFFSETFROM:+0000
TZOFFSETTO:+0100
TZNAME:IST
DTSTART:20260329T010000
END:STANDARD
BEGIN:DAYLIGHT
TZOFFSETFROM:+0100
TZOFFSETTO:+0000
TZNAME:GMT
DTSTART:20261025T010000
END:DAYLIGHT
BEGIN:STANDARD
TZOFFSETFROM:+0000
TZOFFSETTO:+0100
TZNAME:IST
DTSTART:20270328T010000
END:STANDARD
BEGIN:DAYLIGHT
TZOFFSETFROM:+0100
TZOFFSETTO:+0000
TZNAME:GMT
DTSTART:20271031T010000
END:DAYLIGHT
BEGIN:STANDARD
TZOFFSETFROM:+0000
TZOFFSETTO:+0100
TZNAME:IST
DTSTART:20280326T010000
END:STANDARD
BEGIN:DAYLIGHT
TZOFFSETFROM:+0100
TZOFFSETTO:+0000
TZNAME:GMT
DTSTART:20281029T010000
END:DAYLIGHT
END:VTIMEZONE
BEGIN:VEVENT
DTSTART;TZID=Europe/Dublin:20270419T090000
DTEND;TZID=Europe/Dublin:20270419T100000
DTSTAMP:20260424T001636
CREATED:20260127T153017Z
LAST-MODIFIED:20260127T153017Z
UID:10000442-1808125200-1808128800@terenureswimmingpool.ie
SUMMARY:Free Swim
DESCRIPTION:
URL:https://terenureswimmingpool.ie/timetable/free-swim/2027-04-19/
LOCATION:Terenure College Swimming Pool
END:VEVENT
BEGIN:VEVENT
DTSTART;TZID=Europe/Dublin:20270420T090000
DTEND;TZID=Europe/Dublin:20270420T100000
DTSTAMP:20260424T001636
CREATED:20260127T153017Z
LAST-MODIFIED:20260127T153017Z
UID:10000443-1808211600-1808215200@terenureswimmingpool.ie
SUMMARY:Free Swim
DESCRIPTION:
URL:https://terenureswimmingpool.ie/timetable/free-swim/2027-04-20/
LOCATION:Terenure College Swimming Pool
END:VEVENT
BEGIN:VEVENT
DTSTART;TZID=Europe/Dublin:20270421T090000
DTEND;TZID=Europe/Dublin:20270421T100000
DTSTAMP:20260424T001636
CREATED:20260127T153017Z
LAST-MODIFIED:20260127T153017Z
UID:10000444-1808298000-1808301600@terenureswimmingpool.ie
SUMMARY:Free Swim
DESCRIPTION:
URL:https://terenureswimmingpool.ie/timetable/free-swim/2027-04-21/
LOCATION:Terenure College Swimming Pool
END:VEVENT
BEGIN:VEVENT
DTSTART;TZID=Europe/Dublin:20270422T090000
DTEND;TZID=Europe/Dublin:20270422T100000
DTSTAMP:20260424T001636
CREATED:20260127T153017Z
LAST-MODIFIED:20260127T153017Z
UID:10000445-1808384400-1808388000@terenureswimmingpool.ie
SUMMARY:Free Swim
DESCRIPTION:
URL:https://terenureswimmingpool.ie/timetable/free-swim/2027-04-22/
LOCATION:Terenure College Swimming Pool
END:VEVENT
BEGIN:VEVENT
DTSTART;TZID=Europe/Dublin:20270423T090000
DTEND;TZID=Europe/Dublin:20270423T100000
DTSTAMP:20260424T001636
CREATED:20260127T153017Z
LAST-MODIFIED:20260127T153017Z
UID:10000446-1808470800-1808474400@terenureswimmingpool.ie
SUMMARY:Free Swim
DESCRIPTION:
URL:https://terenureswimmingpool.ie/timetable/free-swim/2027-04-23/
LOCATION:Terenure College Swimming Pool
END:VEVENT
BEGIN:VEVENT
DTSTART;TZID=Europe/Dublin:20270424T090000
DTEND;TZID=Europe/Dublin:20270424T100000
DTSTAMP:20260424T001636
CREATED:20260127T153017Z
LAST-MODIFIED:20260127T153017Z
UID:10000447-1808557200-1808560800@terenureswimmingpool.ie
SUMMARY:Free Swim
DESCRIPTION:
URL:https://terenureswimmingpool.ie/timetable/free-swim/2027-04-24/
LOCATION:Terenure College Swimming Pool
END:VEVENT
BEGIN:VEVENT
DTSTART;TZID=Europe/Dublin:20270425T090000
DTEND;TZID=Europe/Dublin:20270425T100000
DTSTAMP:20260424T001636
CREATED:20260127T153017Z
LAST-MODIFIED:20260127T153017Z
UID:10000448-1808643600-1808647200@terenureswimmingpool.ie
SUMMARY:Free Swim
DESCRIPTION:
URL:https://terenureswimmingpool.ie/timetable/free-swim/2027-04-25/
LOCATION:Terenure College Swimming Pool
END:VEVENT
END:VCALENDAR