BEGIN:VCALENDAR
VERSION:2.0
PRODID:-//Terenure Swimming Pool - ECPv6.15.20//NONSGML v1.0//EN
CALSCALE:GREGORIAN
METHOD:PUBLISH
X-WR-CALNAME:Terenure Swimming Pool
X-ORIGINAL-URL:https://terenureswimmingpool.ie
X-WR-CALDESC:Events for Terenure Swimming Pool
REFRESH-INTERVAL;VALUE=DURATION:PT1H
X-Robots-Tag:noindex
X-PUBLISHED-TTL:PT1H
BEGIN:VTIMEZONE
TZID:Europe/Dublin
BEGIN:STANDARD
TZOFFSETFROM:+0000
TZOFFSETTO:+0100
TZNAME:IST
DTSTART:20260329T010000
END:STANDARD
BEGIN:DAYLIGHT
TZOFFSETFROM:+0100
TZOFFSETTO:+0000
TZNAME:GMT
DTSTART:20261025T010000
END:DAYLIGHT
BEGIN:STANDARD
TZOFFSETFROM:+0000
TZOFFSETTO:+0100
TZNAME:IST
DTSTART:20270328T010000
END:STANDARD
BEGIN:DAYLIGHT
TZOFFSETFROM:+0100
TZOFFSETTO:+0000
TZNAME:GMT
DTSTART:20271031T010000
END:DAYLIGHT
BEGIN:STANDARD
TZOFFSETFROM:+0000
TZOFFSETTO:+0100
TZNAME:IST
DTSTART:20280326T010000
END:STANDARD
BEGIN:DAYLIGHT
TZOFFSETFROM:+0100
TZOFFSETTO:+0000
TZNAME:GMT
DTSTART:20281029T010000
END:DAYLIGHT
END:VTIMEZONE
BEGIN:VEVENT
DTSTART;TZID=Europe/Dublin:20270524T090000
DTEND;TZID=Europe/Dublin:20270524T100000
DTSTAMP:20260424T140751
CREATED:20260127T153017Z
LAST-MODIFIED:20260127T153017Z
UID:10000477-1811149200-1811152800@terenureswimmingpool.ie
SUMMARY:Free Swim
DESCRIPTION:
URL:https://terenureswimmingpool.ie/timetable/free-swim/2027-05-24/
LOCATION:Terenure College Swimming Pool
END:VEVENT
BEGIN:VEVENT
DTSTART;TZID=Europe/Dublin:20270525T090000
DTEND;TZID=Europe/Dublin:20270525T100000
DTSTAMP:20260424T140751
CREATED:20260127T153017Z
LAST-MODIFIED:20260127T153017Z
UID:10000478-1811235600-1811239200@terenureswimmingpool.ie
SUMMARY:Free Swim
DESCRIPTION:
URL:https://terenureswimmingpool.ie/timetable/free-swim/2027-05-25/
LOCATION:Terenure College Swimming Pool
END:VEVENT
BEGIN:VEVENT
DTSTART;TZID=Europe/Dublin:20270526T090000
DTEND;TZID=Europe/Dublin:20270526T100000
DTSTAMP:20260424T140751
CREATED:20260127T153017Z
LAST-MODIFIED:20260127T153017Z
UID:10000479-1811322000-1811325600@terenureswimmingpool.ie
SUMMARY:Free Swim
DESCRIPTION:
URL:https://terenureswimmingpool.ie/timetable/free-swim/2027-05-26/
LOCATION:Terenure College Swimming Pool
END:VEVENT
BEGIN:VEVENT
DTSTART;TZID=Europe/Dublin:20270527T090000
DTEND;TZID=Europe/Dublin:20270527T100000
DTSTAMP:20260424T140751
CREATED:20260127T153017Z
LAST-MODIFIED:20260127T153017Z
UID:10000480-1811408400-1811412000@terenureswimmingpool.ie
SUMMARY:Free Swim
DESCRIPTION:
URL:https://terenureswimmingpool.ie/timetable/free-swim/2027-05-27/
LOCATION:Terenure College Swimming Pool
END:VEVENT
BEGIN:VEVENT
DTSTART;TZID=Europe/Dublin:20270528T090000
DTEND;TZID=Europe/Dublin:20270528T100000
DTSTAMP:20260424T140751
CREATED:20260127T153017Z
LAST-MODIFIED:20260127T153017Z
UID:10000481-1811494800-1811498400@terenureswimmingpool.ie
SUMMARY:Free Swim
DESCRIPTION:
URL:https://terenureswimmingpool.ie/timetable/free-swim/2027-05-28/
LOCATION:Terenure College Swimming Pool
END:VEVENT
BEGIN:VEVENT
DTSTART;TZID=Europe/Dublin:20270529T090000
DTEND;TZID=Europe/Dublin:20270529T100000
DTSTAMP:20260424T140751
CREATED:20260127T153017Z
LAST-MODIFIED:20260127T153017Z
UID:10000482-1811581200-1811584800@terenureswimmingpool.ie
SUMMARY:Free Swim
DESCRIPTION:
URL:https://terenureswimmingpool.ie/timetable/free-swim/2027-05-29/
LOCATION:Terenure College Swimming Pool
END:VEVENT
BEGIN:VEVENT
DTSTART;TZID=Europe/Dublin:20270530T090000
DTEND;TZID=Europe/Dublin:20270530T100000
DTSTAMP:20260424T140751
CREATED:20260127T153017Z
LAST-MODIFIED:20260127T153017Z
UID:10000483-1811667600-1811671200@terenureswimmingpool.ie
SUMMARY:Free Swim
DESCRIPTION:
URL:https://terenureswimmingpool.ie/timetable/free-swim/2027-05-30/
LOCATION:Terenure College Swimming Pool
END:VEVENT
END:VCALENDAR