BEGIN:VCALENDAR
VERSION:2.0
PRODID:-//Terenure Swimming Pool - ECPv6.15.20//NONSGML v1.0//EN
CALSCALE:GREGORIAN
METHOD:PUBLISH
X-ORIGINAL-URL:https://terenureswimmingpool.ie
X-WR-CALDESC:Events for Terenure Swimming Pool
REFRESH-INTERVAL;VALUE=DURATION:PT1H
X-Robots-Tag:noindex
X-PUBLISHED-TTL:PT1H
BEGIN:VTIMEZONE
TZID:Europe/Dublin
BEGIN:STANDARD
TZOFFSETFROM:+0000
TZOFFSETTO:+0100
TZNAME:IST
DTSTART:20260329T010000
END:STANDARD
BEGIN:DAYLIGHT
TZOFFSETFROM:+0100
TZOFFSETTO:+0000
TZNAME:GMT
DTSTART:20261025T010000
END:DAYLIGHT
BEGIN:STANDARD
TZOFFSETFROM:+0000
TZOFFSETTO:+0100
TZNAME:IST
DTSTART:20270328T010000
END:STANDARD
BEGIN:DAYLIGHT
TZOFFSETFROM:+0100
TZOFFSETTO:+0000
TZNAME:GMT
DTSTART:20271031T010000
END:DAYLIGHT
BEGIN:STANDARD
TZOFFSETFROM:+0000
TZOFFSETTO:+0100
TZNAME:IST
DTSTART:20280326T010000
END:STANDARD
BEGIN:DAYLIGHT
TZOFFSETFROM:+0100
TZOFFSETTO:+0000
TZNAME:GMT
DTSTART:20281029T010000
END:DAYLIGHT
END:VTIMEZONE
BEGIN:VEVENT
DTSTART;TZID=Europe/Dublin:20270607T090000
DTEND;TZID=Europe/Dublin:20270607T100000
DTSTAMP:20260424T014300
CREATED:20260127T153017Z
LAST-MODIFIED:20260127T153017Z
UID:10000491-1812358800-1812362400@terenureswimmingpool.ie
SUMMARY:Free Swim
DESCRIPTION:
URL:https://terenureswimmingpool.ie/timetable/free-swim/2027-06-07/
LOCATION:Terenure College Swimming Pool
END:VEVENT
BEGIN:VEVENT
DTSTART;TZID=Europe/Dublin:20270608T090000
DTEND;TZID=Europe/Dublin:20270608T100000
DTSTAMP:20260424T014300
CREATED:20260127T153017Z
LAST-MODIFIED:20260127T153017Z
UID:10000492-1812445200-1812448800@terenureswimmingpool.ie
SUMMARY:Free Swim
DESCRIPTION:
URL:https://terenureswimmingpool.ie/timetable/free-swim/2027-06-08/
LOCATION:Terenure College Swimming Pool
END:VEVENT
BEGIN:VEVENT
DTSTART;TZID=Europe/Dublin:20270609T090000
DTEND;TZID=Europe/Dublin:20270609T100000
DTSTAMP:20260424T014300
CREATED:20260127T153017Z
LAST-MODIFIED:20260127T153017Z
UID:10000493-1812531600-1812535200@terenureswimmingpool.ie
SUMMARY:Free Swim
DESCRIPTION:
URL:https://terenureswimmingpool.ie/timetable/free-swim/2027-06-09/
LOCATION:Terenure College Swimming Pool
END:VEVENT
BEGIN:VEVENT
DTSTART;TZID=Europe/Dublin:20270610T090000
DTEND;TZID=Europe/Dublin:20270610T100000
DTSTAMP:20260424T014300
CREATED:20260127T153017Z
LAST-MODIFIED:20260127T153017Z
UID:10000494-1812618000-1812621600@terenureswimmingpool.ie
SUMMARY:Free Swim
DESCRIPTION:
URL:https://terenureswimmingpool.ie/timetable/free-swim/2027-06-10/
LOCATION:Terenure College Swimming Pool
END:VEVENT
BEGIN:VEVENT
DTSTART;TZID=Europe/Dublin:20270611T090000
DTEND;TZID=Europe/Dublin:20270611T100000
DTSTAMP:20260424T014300
CREATED:20260127T153017Z
LAST-MODIFIED:20260127T153017Z
UID:10000495-1812704400-1812708000@terenureswimmingpool.ie
SUMMARY:Free Swim
DESCRIPTION:
URL:https://terenureswimmingpool.ie/timetable/free-swim/2027-06-11/
LOCATION:Terenure College Swimming Pool
END:VEVENT
BEGIN:VEVENT
DTSTART;TZID=Europe/Dublin:20270612T090000
DTEND;TZID=Europe/Dublin:20270612T100000
DTSTAMP:20260424T014300
CREATED:20260127T153017Z
LAST-MODIFIED:20260127T153017Z
UID:10000496-1812790800-1812794400@terenureswimmingpool.ie
SUMMARY:Free Swim
DESCRIPTION:
URL:https://terenureswimmingpool.ie/timetable/free-swim/2027-06-12/
LOCATION:Terenure College Swimming Pool
END:VEVENT
BEGIN:VEVENT
DTSTART;TZID=Europe/Dublin:20270613T090000
DTEND;TZID=Europe/Dublin:20270613T100000
DTSTAMP:20260424T014300
CREATED:20260127T153017Z
LAST-MODIFIED:20260127T153017Z
UID:10000497-1812877200-1812880800@terenureswimmingpool.ie
SUMMARY:Free Swim
DESCRIPTION:
URL:https://terenureswimmingpool.ie/timetable/free-swim/2027-06-13/
LOCATION:Terenure College Swimming Pool
END:VEVENT
END:VCALENDAR