BEGIN:VCALENDAR
VERSION:2.0
PRODID:-//Terenure Swimming Pool - ECPv6.15.20//NONSGML v1.0//EN
CALSCALE:GREGORIAN
METHOD:PUBLISH
X-ORIGINAL-URL:https://terenureswimmingpool.ie
X-WR-CALDESC:Events for Terenure Swimming Pool
REFRESH-INTERVAL;VALUE=DURATION:PT1H
X-Robots-Tag:noindex
X-PUBLISHED-TTL:PT1H
BEGIN:VTIMEZONE
TZID:Europe/Dublin
BEGIN:STANDARD
TZOFFSETFROM:+0000
TZOFFSETTO:+0100
TZNAME:IST
DTSTART:20260329T010000
END:STANDARD
BEGIN:DAYLIGHT
TZOFFSETFROM:+0100
TZOFFSETTO:+0000
TZNAME:GMT
DTSTART:20261025T010000
END:DAYLIGHT
BEGIN:STANDARD
TZOFFSETFROM:+0000
TZOFFSETTO:+0100
TZNAME:IST
DTSTART:20270328T010000
END:STANDARD
BEGIN:DAYLIGHT
TZOFFSETFROM:+0100
TZOFFSETTO:+0000
TZNAME:GMT
DTSTART:20271031T010000
END:DAYLIGHT
BEGIN:STANDARD
TZOFFSETFROM:+0000
TZOFFSETTO:+0100
TZNAME:IST
DTSTART:20280326T010000
END:STANDARD
BEGIN:DAYLIGHT
TZOFFSETFROM:+0100
TZOFFSETTO:+0000
TZNAME:GMT
DTSTART:20281029T010000
END:DAYLIGHT
END:VTIMEZONE
BEGIN:VEVENT
DTSTART;TZID=Europe/Dublin:20270614T090000
DTEND;TZID=Europe/Dublin:20270614T100000
DTSTAMP:20260424T030358
CREATED:20260127T153017Z
LAST-MODIFIED:20260127T153017Z
UID:10000498-1812963600-1812967200@terenureswimmingpool.ie
SUMMARY:Free Swim
DESCRIPTION:
URL:https://terenureswimmingpool.ie/timetable/free-swim/2027-06-14/
LOCATION:Terenure College Swimming Pool
END:VEVENT
BEGIN:VEVENT
DTSTART;TZID=Europe/Dublin:20270615T090000
DTEND;TZID=Europe/Dublin:20270615T100000
DTSTAMP:20260424T030358
CREATED:20260127T153017Z
LAST-MODIFIED:20260127T153017Z
UID:10000499-1813050000-1813053600@terenureswimmingpool.ie
SUMMARY:Free Swim
DESCRIPTION:
URL:https://terenureswimmingpool.ie/timetable/free-swim/2027-06-15/
LOCATION:Terenure College Swimming Pool
END:VEVENT
BEGIN:VEVENT
DTSTART;TZID=Europe/Dublin:20270616T090000
DTEND;TZID=Europe/Dublin:20270616T100000
DTSTAMP:20260424T030358
CREATED:20260127T153017Z
LAST-MODIFIED:20260127T153017Z
UID:10000500-1813136400-1813140000@terenureswimmingpool.ie
SUMMARY:Free Swim
DESCRIPTION:
URL:https://terenureswimmingpool.ie/timetable/free-swim/2027-06-16/
LOCATION:Terenure College Swimming Pool
END:VEVENT
BEGIN:VEVENT
DTSTART;TZID=Europe/Dublin:20270617T090000
DTEND;TZID=Europe/Dublin:20270617T100000
DTSTAMP:20260424T030358
CREATED:20260127T153017Z
LAST-MODIFIED:20260127T153017Z
UID:10000501-1813222800-1813226400@terenureswimmingpool.ie
SUMMARY:Free Swim
DESCRIPTION:
URL:https://terenureswimmingpool.ie/timetable/free-swim/2027-06-17/
LOCATION:Terenure College Swimming Pool
END:VEVENT
BEGIN:VEVENT
DTSTART;TZID=Europe/Dublin:20270618T090000
DTEND;TZID=Europe/Dublin:20270618T100000
DTSTAMP:20260424T030358
CREATED:20260127T153017Z
LAST-MODIFIED:20260127T153017Z
UID:10000502-1813309200-1813312800@terenureswimmingpool.ie
SUMMARY:Free Swim
DESCRIPTION:
URL:https://terenureswimmingpool.ie/timetable/free-swim/2027-06-18/
LOCATION:Terenure College Swimming Pool
END:VEVENT
BEGIN:VEVENT
DTSTART;TZID=Europe/Dublin:20270619T090000
DTEND;TZID=Europe/Dublin:20270619T100000
DTSTAMP:20260424T030358
CREATED:20260127T153017Z
LAST-MODIFIED:20260127T153017Z
UID:10000503-1813395600-1813399200@terenureswimmingpool.ie
SUMMARY:Free Swim
DESCRIPTION:
URL:https://terenureswimmingpool.ie/timetable/free-swim/2027-06-19/
LOCATION:Terenure College Swimming Pool
END:VEVENT
BEGIN:VEVENT
DTSTART;TZID=Europe/Dublin:20270620T090000
DTEND;TZID=Europe/Dublin:20270620T100000
DTSTAMP:20260424T030358
CREATED:20260127T153017Z
LAST-MODIFIED:20260127T153017Z
UID:10000504-1813482000-1813485600@terenureswimmingpool.ie
SUMMARY:Free Swim
DESCRIPTION:
URL:https://terenureswimmingpool.ie/timetable/free-swim/2027-06-20/
LOCATION:Terenure College Swimming Pool
END:VEVENT
END:VCALENDAR