BEGIN:VCALENDAR
VERSION:2.0
PRODID:-//Terenure Swimming Pool - ECPv6.15.20//NONSGML v1.0//EN
CALSCALE:GREGORIAN
METHOD:PUBLISH
X-ORIGINAL-URL:https://terenureswimmingpool.ie
X-WR-CALDESC:Events for Terenure Swimming Pool
REFRESH-INTERVAL;VALUE=DURATION:PT1H
X-Robots-Tag:noindex
X-PUBLISHED-TTL:PT1H
BEGIN:VTIMEZONE
TZID:Europe/Dublin
BEGIN:STANDARD
TZOFFSETFROM:+0000
TZOFFSETTO:+0100
TZNAME:IST
DTSTART:20260329T010000
END:STANDARD
BEGIN:DAYLIGHT
TZOFFSETFROM:+0100
TZOFFSETTO:+0000
TZNAME:GMT
DTSTART:20261025T010000
END:DAYLIGHT
BEGIN:STANDARD
TZOFFSETFROM:+0000
TZOFFSETTO:+0100
TZNAME:IST
DTSTART:20270328T010000
END:STANDARD
BEGIN:DAYLIGHT
TZOFFSETFROM:+0100
TZOFFSETTO:+0000
TZNAME:GMT
DTSTART:20271031T010000
END:DAYLIGHT
BEGIN:STANDARD
TZOFFSETFROM:+0000
TZOFFSETTO:+0100
TZNAME:IST
DTSTART:20280326T010000
END:STANDARD
BEGIN:DAYLIGHT
TZOFFSETFROM:+0100
TZOFFSETTO:+0000
TZNAME:GMT
DTSTART:20281029T010000
END:DAYLIGHT
END:VTIMEZONE
BEGIN:VEVENT
DTSTART;TZID=Europe/Dublin:20270712T090000
DTEND;TZID=Europe/Dublin:20270712T100000
DTSTAMP:20260424T043612
CREATED:20260127T153017Z
LAST-MODIFIED:20260127T153017Z
UID:10000526-1815382800-1815386400@terenureswimmingpool.ie
SUMMARY:Free Swim
DESCRIPTION:
URL:https://terenureswimmingpool.ie/timetable/free-swim/2027-07-12/
LOCATION:Terenure College Swimming Pool
END:VEVENT
BEGIN:VEVENT
DTSTART;TZID=Europe/Dublin:20270713T090000
DTEND;TZID=Europe/Dublin:20270713T100000
DTSTAMP:20260424T043612
CREATED:20260127T153017Z
LAST-MODIFIED:20260127T153017Z
UID:10000527-1815469200-1815472800@terenureswimmingpool.ie
SUMMARY:Free Swim
DESCRIPTION:
URL:https://terenureswimmingpool.ie/timetable/free-swim/2027-07-13/
LOCATION:Terenure College Swimming Pool
END:VEVENT
BEGIN:VEVENT
DTSTART;TZID=Europe/Dublin:20270714T090000
DTEND;TZID=Europe/Dublin:20270714T100000
DTSTAMP:20260424T043612
CREATED:20260127T153017Z
LAST-MODIFIED:20260127T153017Z
UID:10000528-1815555600-1815559200@terenureswimmingpool.ie
SUMMARY:Free Swim
DESCRIPTION:
URL:https://terenureswimmingpool.ie/timetable/free-swim/2027-07-14/
LOCATION:Terenure College Swimming Pool
END:VEVENT
BEGIN:VEVENT
DTSTART;TZID=Europe/Dublin:20270715T090000
DTEND;TZID=Europe/Dublin:20270715T100000
DTSTAMP:20260424T043612
CREATED:20260127T153017Z
LAST-MODIFIED:20260127T153017Z
UID:10000529-1815642000-1815645600@terenureswimmingpool.ie
SUMMARY:Free Swim
DESCRIPTION:
URL:https://terenureswimmingpool.ie/timetable/free-swim/2027-07-15/
LOCATION:Terenure College Swimming Pool
END:VEVENT
BEGIN:VEVENT
DTSTART;TZID=Europe/Dublin:20270716T090000
DTEND;TZID=Europe/Dublin:20270716T100000
DTSTAMP:20260424T043612
CREATED:20260127T153017Z
LAST-MODIFIED:20260127T153017Z
UID:10000530-1815728400-1815732000@terenureswimmingpool.ie
SUMMARY:Free Swim
DESCRIPTION:
URL:https://terenureswimmingpool.ie/timetable/free-swim/2027-07-16/
LOCATION:Terenure College Swimming Pool
END:VEVENT
BEGIN:VEVENT
DTSTART;TZID=Europe/Dublin:20270717T090000
DTEND;TZID=Europe/Dublin:20270717T100000
DTSTAMP:20260424T043612
CREATED:20260127T153017Z
LAST-MODIFIED:20260127T153017Z
UID:10000531-1815814800-1815818400@terenureswimmingpool.ie
SUMMARY:Free Swim
DESCRIPTION:
URL:https://terenureswimmingpool.ie/timetable/free-swim/2027-07-17/
LOCATION:Terenure College Swimming Pool
END:VEVENT
BEGIN:VEVENT
DTSTART;TZID=Europe/Dublin:20270718T090000
DTEND;TZID=Europe/Dublin:20270718T100000
DTSTAMP:20260424T043612
CREATED:20260127T153017Z
LAST-MODIFIED:20260127T153017Z
UID:10000532-1815901200-1815904800@terenureswimmingpool.ie
SUMMARY:Free Swim
DESCRIPTION:
URL:https://terenureswimmingpool.ie/timetable/free-swim/2027-07-18/
LOCATION:Terenure College Swimming Pool
END:VEVENT
END:VCALENDAR