BEGIN:VCALENDAR
VERSION:2.0
PRODID:-//Terenure Swimming Pool - ECPv6.15.20//NONSGML v1.0//EN
CALSCALE:GREGORIAN
METHOD:PUBLISH
X-ORIGINAL-URL:https://terenureswimmingpool.ie
X-WR-CALDESC:Events for Terenure Swimming Pool
REFRESH-INTERVAL;VALUE=DURATION:PT1H
X-Robots-Tag:noindex
X-PUBLISHED-TTL:PT1H
BEGIN:VTIMEZONE
TZID:Europe/Dublin
BEGIN:STANDARD
TZOFFSETFROM:+0000
TZOFFSETTO:+0100
TZNAME:IST
DTSTART:20260329T010000
END:STANDARD
BEGIN:DAYLIGHT
TZOFFSETFROM:+0100
TZOFFSETTO:+0000
TZNAME:GMT
DTSTART:20261025T010000
END:DAYLIGHT
BEGIN:STANDARD
TZOFFSETFROM:+0000
TZOFFSETTO:+0100
TZNAME:IST
DTSTART:20270328T010000
END:STANDARD
BEGIN:DAYLIGHT
TZOFFSETFROM:+0100
TZOFFSETTO:+0000
TZNAME:GMT
DTSTART:20271031T010000
END:DAYLIGHT
BEGIN:STANDARD
TZOFFSETFROM:+0000
TZOFFSETTO:+0100
TZNAME:IST
DTSTART:20280326T010000
END:STANDARD
BEGIN:DAYLIGHT
TZOFFSETFROM:+0100
TZOFFSETTO:+0000
TZNAME:GMT
DTSTART:20281029T010000
END:DAYLIGHT
END:VTIMEZONE
BEGIN:VEVENT
DTSTART;TZID=Europe/Dublin:20270802T090000
DTEND;TZID=Europe/Dublin:20270802T100000
DTSTAMP:20260424T041130
CREATED:20260127T153017Z
LAST-MODIFIED:20260127T153017Z
UID:10000547-1817197200-1817200800@terenureswimmingpool.ie
SUMMARY:Free Swim
DESCRIPTION:
URL:https://terenureswimmingpool.ie/timetable/free-swim/2027-08-02/
LOCATION:Terenure College Swimming Pool
END:VEVENT
BEGIN:VEVENT
DTSTART;TZID=Europe/Dublin:20270803T090000
DTEND;TZID=Europe/Dublin:20270803T100000
DTSTAMP:20260424T041130
CREATED:20260127T153017Z
LAST-MODIFIED:20260127T153017Z
UID:10000548-1817283600-1817287200@terenureswimmingpool.ie
SUMMARY:Free Swim
DESCRIPTION:
URL:https://terenureswimmingpool.ie/timetable/free-swim/2027-08-03/
LOCATION:Terenure College Swimming Pool
END:VEVENT
BEGIN:VEVENT
DTSTART;TZID=Europe/Dublin:20270804T090000
DTEND;TZID=Europe/Dublin:20270804T100000
DTSTAMP:20260424T041130
CREATED:20260127T153017Z
LAST-MODIFIED:20260127T153017Z
UID:10000549-1817370000-1817373600@terenureswimmingpool.ie
SUMMARY:Free Swim
DESCRIPTION:
URL:https://terenureswimmingpool.ie/timetable/free-swim/2027-08-04/
LOCATION:Terenure College Swimming Pool
END:VEVENT
BEGIN:VEVENT
DTSTART;TZID=Europe/Dublin:20270805T090000
DTEND;TZID=Europe/Dublin:20270805T100000
DTSTAMP:20260424T041130
CREATED:20260127T153017Z
LAST-MODIFIED:20260127T153017Z
UID:10000550-1817456400-1817460000@terenureswimmingpool.ie
SUMMARY:Free Swim
DESCRIPTION:
URL:https://terenureswimmingpool.ie/timetable/free-swim/2027-08-05/
LOCATION:Terenure College Swimming Pool
END:VEVENT
BEGIN:VEVENT
DTSTART;TZID=Europe/Dublin:20270806T090000
DTEND;TZID=Europe/Dublin:20270806T100000
DTSTAMP:20260424T041130
CREATED:20260127T153017Z
LAST-MODIFIED:20260127T153017Z
UID:10000551-1817542800-1817546400@terenureswimmingpool.ie
SUMMARY:Free Swim
DESCRIPTION:
URL:https://terenureswimmingpool.ie/timetable/free-swim/2027-08-06/
LOCATION:Terenure College Swimming Pool
END:VEVENT
BEGIN:VEVENT
DTSTART;TZID=Europe/Dublin:20270807T090000
DTEND;TZID=Europe/Dublin:20270807T100000
DTSTAMP:20260424T041131
CREATED:20260127T153017Z
LAST-MODIFIED:20260127T153017Z
UID:10000552-1817629200-1817632800@terenureswimmingpool.ie
SUMMARY:Free Swim
DESCRIPTION:
URL:https://terenureswimmingpool.ie/timetable/free-swim/2027-08-07/
LOCATION:Terenure College Swimming Pool
END:VEVENT
BEGIN:VEVENT
DTSTART;TZID=Europe/Dublin:20270808T090000
DTEND;TZID=Europe/Dublin:20270808T100000
DTSTAMP:20260424T041131
CREATED:20260127T153017Z
LAST-MODIFIED:20260127T153017Z
UID:10000553-1817715600-1817719200@terenureswimmingpool.ie
SUMMARY:Free Swim
DESCRIPTION:
URL:https://terenureswimmingpool.ie/timetable/free-swim/2027-08-08/
LOCATION:Terenure College Swimming Pool
END:VEVENT
END:VCALENDAR