BEGIN:VCALENDAR
VERSION:2.0
PRODID:-//Terenure Swimming Pool - ECPv6.15.20//NONSGML v1.0//EN
CALSCALE:GREGORIAN
METHOD:PUBLISH
X-ORIGINAL-URL:https://terenureswimmingpool.ie
X-WR-CALDESC:Events for Terenure Swimming Pool
REFRESH-INTERVAL;VALUE=DURATION:PT1H
X-Robots-Tag:noindex
X-PUBLISHED-TTL:PT1H
BEGIN:VTIMEZONE
TZID:Europe/Dublin
BEGIN:STANDARD
TZOFFSETFROM:+0000
TZOFFSETTO:+0100
TZNAME:IST
DTSTART:20260329T010000
END:STANDARD
BEGIN:DAYLIGHT
TZOFFSETFROM:+0100
TZOFFSETTO:+0000
TZNAME:GMT
DTSTART:20261025T010000
END:DAYLIGHT
BEGIN:STANDARD
TZOFFSETFROM:+0000
TZOFFSETTO:+0100
TZNAME:IST
DTSTART:20270328T010000
END:STANDARD
BEGIN:DAYLIGHT
TZOFFSETFROM:+0100
TZOFFSETTO:+0000
TZNAME:GMT
DTSTART:20271031T010000
END:DAYLIGHT
BEGIN:STANDARD
TZOFFSETFROM:+0000
TZOFFSETTO:+0100
TZNAME:IST
DTSTART:20280326T010000
END:STANDARD
BEGIN:DAYLIGHT
TZOFFSETFROM:+0100
TZOFFSETTO:+0000
TZNAME:GMT
DTSTART:20281029T010000
END:DAYLIGHT
END:VTIMEZONE
BEGIN:VEVENT
DTSTART;TZID=Europe/Dublin:20270809T090000
DTEND;TZID=Europe/Dublin:20270809T100000
DTSTAMP:20260424T052510
CREATED:20260127T153017Z
LAST-MODIFIED:20260127T153017Z
UID:10000554-1817802000-1817805600@terenureswimmingpool.ie
SUMMARY:Free Swim
DESCRIPTION:
URL:https://terenureswimmingpool.ie/timetable/free-swim/2027-08-09/
LOCATION:Terenure College Swimming Pool
END:VEVENT
BEGIN:VEVENT
DTSTART;TZID=Europe/Dublin:20270810T090000
DTEND;TZID=Europe/Dublin:20270810T100000
DTSTAMP:20260424T052510
CREATED:20260127T153017Z
LAST-MODIFIED:20260127T153017Z
UID:10000555-1817888400-1817892000@terenureswimmingpool.ie
SUMMARY:Free Swim
DESCRIPTION:
URL:https://terenureswimmingpool.ie/timetable/free-swim/2027-08-10/
LOCATION:Terenure College Swimming Pool
END:VEVENT
BEGIN:VEVENT
DTSTART;TZID=Europe/Dublin:20270811T090000
DTEND;TZID=Europe/Dublin:20270811T100000
DTSTAMP:20260424T052510
CREATED:20260127T153017Z
LAST-MODIFIED:20260127T153017Z
UID:10000556-1817974800-1817978400@terenureswimmingpool.ie
SUMMARY:Free Swim
DESCRIPTION:
URL:https://terenureswimmingpool.ie/timetable/free-swim/2027-08-11/
LOCATION:Terenure College Swimming Pool
END:VEVENT
BEGIN:VEVENT
DTSTART;TZID=Europe/Dublin:20270812T090000
DTEND;TZID=Europe/Dublin:20270812T100000
DTSTAMP:20260424T052510
CREATED:20260127T153017Z
LAST-MODIFIED:20260127T153017Z
UID:10000557-1818061200-1818064800@terenureswimmingpool.ie
SUMMARY:Free Swim
DESCRIPTION:
URL:https://terenureswimmingpool.ie/timetable/free-swim/2027-08-12/
LOCATION:Terenure College Swimming Pool
END:VEVENT
BEGIN:VEVENT
DTSTART;TZID=Europe/Dublin:20270813T090000
DTEND;TZID=Europe/Dublin:20270813T100000
DTSTAMP:20260424T052510
CREATED:20260127T153017Z
LAST-MODIFIED:20260127T153017Z
UID:10000558-1818147600-1818151200@terenureswimmingpool.ie
SUMMARY:Free Swim
DESCRIPTION:
URL:https://terenureswimmingpool.ie/timetable/free-swim/2027-08-13/
LOCATION:Terenure College Swimming Pool
END:VEVENT
BEGIN:VEVENT
DTSTART;TZID=Europe/Dublin:20270814T090000
DTEND;TZID=Europe/Dublin:20270814T100000
DTSTAMP:20260424T052510
CREATED:20260127T153017Z
LAST-MODIFIED:20260127T153017Z
UID:10000559-1818234000-1818237600@terenureswimmingpool.ie
SUMMARY:Free Swim
DESCRIPTION:
URL:https://terenureswimmingpool.ie/timetable/free-swim/2027-08-14/
LOCATION:Terenure College Swimming Pool
END:VEVENT
BEGIN:VEVENT
DTSTART;TZID=Europe/Dublin:20270815T090000
DTEND;TZID=Europe/Dublin:20270815T100000
DTSTAMP:20260424T052510
CREATED:20260127T153017Z
LAST-MODIFIED:20260127T153017Z
UID:10000560-1818320400-1818324000@terenureswimmingpool.ie
SUMMARY:Free Swim
DESCRIPTION:
URL:https://terenureswimmingpool.ie/timetable/free-swim/2027-08-15/
LOCATION:Terenure College Swimming Pool
END:VEVENT
END:VCALENDAR