BEGIN:VCALENDAR
VERSION:2.0
PRODID:-//Terenure Swimming Pool - ECPv6.15.20//NONSGML v1.0//EN
CALSCALE:GREGORIAN
METHOD:PUBLISH
X-ORIGINAL-URL:https://terenureswimmingpool.ie
X-WR-CALDESC:Events for Terenure Swimming Pool
REFRESH-INTERVAL;VALUE=DURATION:PT1H
X-Robots-Tag:noindex
X-PUBLISHED-TTL:PT1H
BEGIN:VTIMEZONE
TZID:Europe/Dublin
BEGIN:STANDARD
TZOFFSETFROM:+0000
TZOFFSETTO:+0100
TZNAME:IST
DTSTART:20260329T010000
END:STANDARD
BEGIN:DAYLIGHT
TZOFFSETFROM:+0100
TZOFFSETTO:+0000
TZNAME:GMT
DTSTART:20261025T010000
END:DAYLIGHT
BEGIN:STANDARD
TZOFFSETFROM:+0000
TZOFFSETTO:+0100
TZNAME:IST
DTSTART:20270328T010000
END:STANDARD
BEGIN:DAYLIGHT
TZOFFSETFROM:+0100
TZOFFSETTO:+0000
TZNAME:GMT
DTSTART:20271031T010000
END:DAYLIGHT
BEGIN:STANDARD
TZOFFSETFROM:+0000
TZOFFSETTO:+0100
TZNAME:IST
DTSTART:20280326T010000
END:STANDARD
BEGIN:DAYLIGHT
TZOFFSETFROM:+0100
TZOFFSETTO:+0000
TZNAME:GMT
DTSTART:20281029T010000
END:DAYLIGHT
END:VTIMEZONE
BEGIN:VEVENT
DTSTART;TZID=Europe/Dublin:20270816T090000
DTEND;TZID=Europe/Dublin:20270816T100000
DTSTAMP:20260424T063508
CREATED:20260127T153017Z
LAST-MODIFIED:20260127T153017Z
UID:10000561-1818406800-1818410400@terenureswimmingpool.ie
SUMMARY:Free Swim
DESCRIPTION:
URL:https://terenureswimmingpool.ie/timetable/free-swim/2027-08-16/
LOCATION:Terenure College Swimming Pool
END:VEVENT
BEGIN:VEVENT
DTSTART;TZID=Europe/Dublin:20270817T090000
DTEND;TZID=Europe/Dublin:20270817T100000
DTSTAMP:20260424T063508
CREATED:20260127T153017Z
LAST-MODIFIED:20260127T153017Z
UID:10000562-1818493200-1818496800@terenureswimmingpool.ie
SUMMARY:Free Swim
DESCRIPTION:
URL:https://terenureswimmingpool.ie/timetable/free-swim/2027-08-17/
LOCATION:Terenure College Swimming Pool
END:VEVENT
BEGIN:VEVENT
DTSTART;TZID=Europe/Dublin:20270818T090000
DTEND;TZID=Europe/Dublin:20270818T100000
DTSTAMP:20260424T063508
CREATED:20260127T153017Z
LAST-MODIFIED:20260127T153017Z
UID:10000563-1818579600-1818583200@terenureswimmingpool.ie
SUMMARY:Free Swim
DESCRIPTION:
URL:https://terenureswimmingpool.ie/timetable/free-swim/2027-08-18/
LOCATION:Terenure College Swimming Pool
END:VEVENT
BEGIN:VEVENT
DTSTART;TZID=Europe/Dublin:20270819T090000
DTEND;TZID=Europe/Dublin:20270819T100000
DTSTAMP:20260424T063508
CREATED:20260127T153017Z
LAST-MODIFIED:20260127T153017Z
UID:10000564-1818666000-1818669600@terenureswimmingpool.ie
SUMMARY:Free Swim
DESCRIPTION:
URL:https://terenureswimmingpool.ie/timetable/free-swim/2027-08-19/
LOCATION:Terenure College Swimming Pool
END:VEVENT
BEGIN:VEVENT
DTSTART;TZID=Europe/Dublin:20270820T090000
DTEND;TZID=Europe/Dublin:20270820T100000
DTSTAMP:20260424T063508
CREATED:20260127T153017Z
LAST-MODIFIED:20260127T153017Z
UID:10000565-1818752400-1818756000@terenureswimmingpool.ie
SUMMARY:Free Swim
DESCRIPTION:
URL:https://terenureswimmingpool.ie/timetable/free-swim/2027-08-20/
LOCATION:Terenure College Swimming Pool
END:VEVENT
BEGIN:VEVENT
DTSTART;TZID=Europe/Dublin:20270821T090000
DTEND;TZID=Europe/Dublin:20270821T100000
DTSTAMP:20260424T063508
CREATED:20260127T153017Z
LAST-MODIFIED:20260127T153017Z
UID:10000566-1818838800-1818842400@terenureswimmingpool.ie
SUMMARY:Free Swim
DESCRIPTION:
URL:https://terenureswimmingpool.ie/timetable/free-swim/2027-08-21/
LOCATION:Terenure College Swimming Pool
END:VEVENT
BEGIN:VEVENT
DTSTART;TZID=Europe/Dublin:20270822T090000
DTEND;TZID=Europe/Dublin:20270822T100000
DTSTAMP:20260424T063508
CREATED:20260127T153017Z
LAST-MODIFIED:20260127T153017Z
UID:10000567-1818925200-1818928800@terenureswimmingpool.ie
SUMMARY:Free Swim
DESCRIPTION:
URL:https://terenureswimmingpool.ie/timetable/free-swim/2027-08-22/
LOCATION:Terenure College Swimming Pool
END:VEVENT
END:VCALENDAR