BEGIN:VCALENDAR
VERSION:2.0
PRODID:-//Terenure Swimming Pool - ECPv6.15.20//NONSGML v1.0//EN
CALSCALE:GREGORIAN
METHOD:PUBLISH
X-ORIGINAL-URL:https://terenureswimmingpool.ie
X-WR-CALDESC:Events for Terenure Swimming Pool
REFRESH-INTERVAL;VALUE=DURATION:PT1H
X-Robots-Tag:noindex
X-PUBLISHED-TTL:PT1H
BEGIN:VTIMEZONE
TZID:Europe/Dublin
BEGIN:STANDARD
TZOFFSETFROM:+0000
TZOFFSETTO:+0100
TZNAME:IST
DTSTART:20260329T010000
END:STANDARD
BEGIN:DAYLIGHT
TZOFFSETFROM:+0100
TZOFFSETTO:+0000
TZNAME:GMT
DTSTART:20261025T010000
END:DAYLIGHT
BEGIN:STANDARD
TZOFFSETFROM:+0000
TZOFFSETTO:+0100
TZNAME:IST
DTSTART:20270328T010000
END:STANDARD
BEGIN:DAYLIGHT
TZOFFSETFROM:+0100
TZOFFSETTO:+0000
TZNAME:GMT
DTSTART:20271031T010000
END:DAYLIGHT
BEGIN:STANDARD
TZOFFSETFROM:+0000
TZOFFSETTO:+0100
TZNAME:IST
DTSTART:20280326T010000
END:STANDARD
BEGIN:DAYLIGHT
TZOFFSETFROM:+0100
TZOFFSETTO:+0000
TZNAME:GMT
DTSTART:20281029T010000
END:DAYLIGHT
END:VTIMEZONE
BEGIN:VEVENT
DTSTART;TZID=Europe/Dublin:20270920T090000
DTEND;TZID=Europe/Dublin:20270920T100000
DTSTAMP:20260424T063511
CREATED:20260127T153017Z
LAST-MODIFIED:20260127T153017Z
UID:10000596-1821430800-1821434400@terenureswimmingpool.ie
SUMMARY:Free Swim
DESCRIPTION:
URL:https://terenureswimmingpool.ie/timetable/free-swim/2027-09-20/
LOCATION:Terenure College Swimming Pool
END:VEVENT
BEGIN:VEVENT
DTSTART;TZID=Europe/Dublin:20270921T090000
DTEND;TZID=Europe/Dublin:20270921T100000
DTSTAMP:20260424T063511
CREATED:20260127T153017Z
LAST-MODIFIED:20260127T153017Z
UID:10000597-1821517200-1821520800@terenureswimmingpool.ie
SUMMARY:Free Swim
DESCRIPTION:
URL:https://terenureswimmingpool.ie/timetable/free-swim/2027-09-21/
LOCATION:Terenure College Swimming Pool
END:VEVENT
BEGIN:VEVENT
DTSTART;TZID=Europe/Dublin:20270922T090000
DTEND;TZID=Europe/Dublin:20270922T100000
DTSTAMP:20260424T063511
CREATED:20260127T153017Z
LAST-MODIFIED:20260127T153017Z
UID:10000598-1821603600-1821607200@terenureswimmingpool.ie
SUMMARY:Free Swim
DESCRIPTION:
URL:https://terenureswimmingpool.ie/timetable/free-swim/2027-09-22/
LOCATION:Terenure College Swimming Pool
END:VEVENT
BEGIN:VEVENT
DTSTART;TZID=Europe/Dublin:20270923T090000
DTEND;TZID=Europe/Dublin:20270923T100000
DTSTAMP:20260424T063511
CREATED:20260127T153017Z
LAST-MODIFIED:20260127T153017Z
UID:10000599-1821690000-1821693600@terenureswimmingpool.ie
SUMMARY:Free Swim
DESCRIPTION:
URL:https://terenureswimmingpool.ie/timetable/free-swim/2027-09-23/
LOCATION:Terenure College Swimming Pool
END:VEVENT
BEGIN:VEVENT
DTSTART;TZID=Europe/Dublin:20270924T090000
DTEND;TZID=Europe/Dublin:20270924T100000
DTSTAMP:20260424T063511
CREATED:20260127T153017Z
LAST-MODIFIED:20260127T153017Z
UID:10000600-1821776400-1821780000@terenureswimmingpool.ie
SUMMARY:Free Swim
DESCRIPTION:
URL:https://terenureswimmingpool.ie/timetable/free-swim/2027-09-24/
LOCATION:Terenure College Swimming Pool
END:VEVENT
BEGIN:VEVENT
DTSTART;TZID=Europe/Dublin:20270925T090000
DTEND;TZID=Europe/Dublin:20270925T100000
DTSTAMP:20260424T063511
CREATED:20260127T153017Z
LAST-MODIFIED:20260127T153017Z
UID:10000601-1821862800-1821866400@terenureswimmingpool.ie
SUMMARY:Free Swim
DESCRIPTION:
URL:https://terenureswimmingpool.ie/timetable/free-swim/2027-09-25/
LOCATION:Terenure College Swimming Pool
END:VEVENT
BEGIN:VEVENT
DTSTART;TZID=Europe/Dublin:20270926T090000
DTEND;TZID=Europe/Dublin:20270926T100000
DTSTAMP:20260424T063511
CREATED:20260127T153017Z
LAST-MODIFIED:20260127T153017Z
UID:10000602-1821949200-1821952800@terenureswimmingpool.ie
SUMMARY:Free Swim
DESCRIPTION:
URL:https://terenureswimmingpool.ie/timetable/free-swim/2027-09-26/
LOCATION:Terenure College Swimming Pool
END:VEVENT
END:VCALENDAR