BEGIN:VCALENDAR
VERSION:2.0
PRODID:-//Terenure Swimming Pool - ECPv6.15.20//NONSGML v1.0//EN
CALSCALE:GREGORIAN
METHOD:PUBLISH
X-ORIGINAL-URL:https://terenureswimmingpool.ie
X-WR-CALDESC:Events for Terenure Swimming Pool
REFRESH-INTERVAL;VALUE=DURATION:PT1H
X-Robots-Tag:noindex
X-PUBLISHED-TTL:PT1H
BEGIN:VTIMEZONE
TZID:Europe/Dublin
BEGIN:STANDARD
TZOFFSETFROM:+0000
TZOFFSETTO:+0100
TZNAME:IST
DTSTART:20260329T010000
END:STANDARD
BEGIN:DAYLIGHT
TZOFFSETFROM:+0100
TZOFFSETTO:+0000
TZNAME:GMT
DTSTART:20261025T010000
END:DAYLIGHT
BEGIN:STANDARD
TZOFFSETFROM:+0000
TZOFFSETTO:+0100
TZNAME:IST
DTSTART:20270328T010000
END:STANDARD
BEGIN:DAYLIGHT
TZOFFSETFROM:+0100
TZOFFSETTO:+0000
TZNAME:GMT
DTSTART:20271031T010000
END:DAYLIGHT
BEGIN:STANDARD
TZOFFSETFROM:+0000
TZOFFSETTO:+0100
TZNAME:IST
DTSTART:20280326T010000
END:STANDARD
BEGIN:DAYLIGHT
TZOFFSETFROM:+0100
TZOFFSETTO:+0000
TZNAME:GMT
DTSTART:20281029T010000
END:DAYLIGHT
END:VTIMEZONE
BEGIN:VEVENT
DTSTART;TZID=Europe/Dublin:20271101T090000
DTEND;TZID=Europe/Dublin:20271101T100000
DTSTAMP:20260424T063517
CREATED:20260127T153017Z
LAST-MODIFIED:20260127T153017Z
UID:10000638-1825059600-1825063200@terenureswimmingpool.ie
SUMMARY:Free Swim
DESCRIPTION:
URL:https://terenureswimmingpool.ie/timetable/free-swim/2027-11-01/
LOCATION:Terenure College Swimming Pool
END:VEVENT
BEGIN:VEVENT
DTSTART;TZID=Europe/Dublin:20271102T090000
DTEND;TZID=Europe/Dublin:20271102T100000
DTSTAMP:20260424T063517
CREATED:20260127T153017Z
LAST-MODIFIED:20260127T153017Z
UID:10000639-1825146000-1825149600@terenureswimmingpool.ie
SUMMARY:Free Swim
DESCRIPTION:
URL:https://terenureswimmingpool.ie/timetable/free-swim/2027-11-02/
LOCATION:Terenure College Swimming Pool
END:VEVENT
BEGIN:VEVENT
DTSTART;TZID=Europe/Dublin:20271103T090000
DTEND;TZID=Europe/Dublin:20271103T100000
DTSTAMP:20260424T063517
CREATED:20260127T153017Z
LAST-MODIFIED:20260127T153017Z
UID:10000640-1825232400-1825236000@terenureswimmingpool.ie
SUMMARY:Free Swim
DESCRIPTION:
URL:https://terenureswimmingpool.ie/timetable/free-swim/2027-11-03/
LOCATION:Terenure College Swimming Pool
END:VEVENT
BEGIN:VEVENT
DTSTART;TZID=Europe/Dublin:20271104T090000
DTEND;TZID=Europe/Dublin:20271104T100000
DTSTAMP:20260424T063517
CREATED:20260127T153017Z
LAST-MODIFIED:20260127T153017Z
UID:10000641-1825318800-1825322400@terenureswimmingpool.ie
SUMMARY:Free Swim
DESCRIPTION:
URL:https://terenureswimmingpool.ie/timetable/free-swim/2027-11-04/
LOCATION:Terenure College Swimming Pool
END:VEVENT
BEGIN:VEVENT
DTSTART;TZID=Europe/Dublin:20271105T090000
DTEND;TZID=Europe/Dublin:20271105T100000
DTSTAMP:20260424T063517
CREATED:20260127T153017Z
LAST-MODIFIED:20260127T153017Z
UID:10000642-1825405200-1825408800@terenureswimmingpool.ie
SUMMARY:Free Swim
DESCRIPTION:
URL:https://terenureswimmingpool.ie/timetable/free-swim/2027-11-05/
LOCATION:Terenure College Swimming Pool
END:VEVENT
BEGIN:VEVENT
DTSTART;TZID=Europe/Dublin:20271106T090000
DTEND;TZID=Europe/Dublin:20271106T100000
DTSTAMP:20260424T063517
CREATED:20260127T153017Z
LAST-MODIFIED:20260127T153017Z
UID:10000643-1825491600-1825495200@terenureswimmingpool.ie
SUMMARY:Free Swim
DESCRIPTION:
URL:https://terenureswimmingpool.ie/timetable/free-swim/2027-11-06/
LOCATION:Terenure College Swimming Pool
END:VEVENT
BEGIN:VEVENT
DTSTART;TZID=Europe/Dublin:20271107T090000
DTEND;TZID=Europe/Dublin:20271107T100000
DTSTAMP:20260424T063517
CREATED:20260127T153017Z
LAST-MODIFIED:20260127T153017Z
UID:10000644-1825578000-1825581600@terenureswimmingpool.ie
SUMMARY:Free Swim
DESCRIPTION:
URL:https://terenureswimmingpool.ie/timetable/free-swim/2027-11-07/
LOCATION:Terenure College Swimming Pool
END:VEVENT
END:VCALENDAR