BEGIN:VCALENDAR
VERSION:2.0
PRODID:-//Terenure Swimming Pool - ECPv6.15.20//NONSGML v1.0//EN
CALSCALE:GREGORIAN
METHOD:PUBLISH
X-ORIGINAL-URL:https://terenureswimmingpool.ie
X-WR-CALDESC:Events for Terenure Swimming Pool
REFRESH-INTERVAL;VALUE=DURATION:PT1H
X-Robots-Tag:noindex
X-PUBLISHED-TTL:PT1H
BEGIN:VTIMEZONE
TZID:Europe/Dublin
BEGIN:STANDARD
TZOFFSETFROM:+0000
TZOFFSETTO:+0100
TZNAME:IST
DTSTART:20260329T010000
END:STANDARD
BEGIN:DAYLIGHT
TZOFFSETFROM:+0100
TZOFFSETTO:+0000
TZNAME:GMT
DTSTART:20261025T010000
END:DAYLIGHT
BEGIN:STANDARD
TZOFFSETFROM:+0000
TZOFFSETTO:+0100
TZNAME:IST
DTSTART:20270328T010000
END:STANDARD
BEGIN:DAYLIGHT
TZOFFSETFROM:+0100
TZOFFSETTO:+0000
TZNAME:GMT
DTSTART:20271031T010000
END:DAYLIGHT
BEGIN:STANDARD
TZOFFSETFROM:+0000
TZOFFSETTO:+0100
TZNAME:IST
DTSTART:20280326T010000
END:STANDARD
BEGIN:DAYLIGHT
TZOFFSETFROM:+0100
TZOFFSETTO:+0000
TZNAME:GMT
DTSTART:20281029T010000
END:DAYLIGHT
END:VTIMEZONE
BEGIN:VEVENT
DTSTART;TZID=Europe/Dublin:20271108T090000
DTEND;TZID=Europe/Dublin:20271108T100000
DTSTAMP:20260424T074542
CREATED:20260127T153017Z
LAST-MODIFIED:20260127T153017Z
UID:10000645-1825664400-1825668000@terenureswimmingpool.ie
SUMMARY:Free Swim
DESCRIPTION:
URL:https://terenureswimmingpool.ie/timetable/free-swim/2027-11-08/
LOCATION:Terenure College Swimming Pool
END:VEVENT
BEGIN:VEVENT
DTSTART;TZID=Europe/Dublin:20271109T090000
DTEND;TZID=Europe/Dublin:20271109T100000
DTSTAMP:20260424T074542
CREATED:20260127T153017Z
LAST-MODIFIED:20260127T153017Z
UID:10000646-1825750800-1825754400@terenureswimmingpool.ie
SUMMARY:Free Swim
DESCRIPTION:
URL:https://terenureswimmingpool.ie/timetable/free-swim/2027-11-09/
LOCATION:Terenure College Swimming Pool
END:VEVENT
BEGIN:VEVENT
DTSTART;TZID=Europe/Dublin:20271110T090000
DTEND;TZID=Europe/Dublin:20271110T100000
DTSTAMP:20260424T074542
CREATED:20260127T153017Z
LAST-MODIFIED:20260127T153017Z
UID:10000647-1825837200-1825840800@terenureswimmingpool.ie
SUMMARY:Free Swim
DESCRIPTION:
URL:https://terenureswimmingpool.ie/timetable/free-swim/2027-11-10/
LOCATION:Terenure College Swimming Pool
END:VEVENT
BEGIN:VEVENT
DTSTART;TZID=Europe/Dublin:20271111T090000
DTEND;TZID=Europe/Dublin:20271111T100000
DTSTAMP:20260424T074542
CREATED:20260127T153017Z
LAST-MODIFIED:20260127T153017Z
UID:10000648-1825923600-1825927200@terenureswimmingpool.ie
SUMMARY:Free Swim
DESCRIPTION:
URL:https://terenureswimmingpool.ie/timetable/free-swim/2027-11-11/
LOCATION:Terenure College Swimming Pool
END:VEVENT
BEGIN:VEVENT
DTSTART;TZID=Europe/Dublin:20271112T090000
DTEND;TZID=Europe/Dublin:20271112T100000
DTSTAMP:20260424T074542
CREATED:20260127T153017Z
LAST-MODIFIED:20260127T153017Z
UID:10000649-1826010000-1826013600@terenureswimmingpool.ie
SUMMARY:Free Swim
DESCRIPTION:
URL:https://terenureswimmingpool.ie/timetable/free-swim/2027-11-12/
LOCATION:Terenure College Swimming Pool
END:VEVENT
BEGIN:VEVENT
DTSTART;TZID=Europe/Dublin:20271113T090000
DTEND;TZID=Europe/Dublin:20271113T100000
DTSTAMP:20260424T074542
CREATED:20260127T153017Z
LAST-MODIFIED:20260127T153017Z
UID:10000650-1826096400-1826100000@terenureswimmingpool.ie
SUMMARY:Free Swim
DESCRIPTION:
URL:https://terenureswimmingpool.ie/timetable/free-swim/2027-11-13/
LOCATION:Terenure College Swimming Pool
END:VEVENT
BEGIN:VEVENT
DTSTART;TZID=Europe/Dublin:20271114T090000
DTEND;TZID=Europe/Dublin:20271114T100000
DTSTAMP:20260424T074542
CREATED:20260127T153017Z
LAST-MODIFIED:20260127T153017Z
UID:10000651-1826182800-1826186400@terenureswimmingpool.ie
SUMMARY:Free Swim
DESCRIPTION:
URL:https://terenureswimmingpool.ie/timetable/free-swim/2027-11-14/
LOCATION:Terenure College Swimming Pool
END:VEVENT
END:VCALENDAR