BEGIN:VCALENDAR
VERSION:2.0
PRODID:-//Terenure Swimming Pool - ECPv6.15.20//NONSGML v1.0//EN
CALSCALE:GREGORIAN
METHOD:PUBLISH
X-ORIGINAL-URL:https://terenureswimmingpool.ie
X-WR-CALDESC:Events for Terenure Swimming Pool
REFRESH-INTERVAL;VALUE=DURATION:PT1H
X-Robots-Tag:noindex
X-PUBLISHED-TTL:PT1H
BEGIN:VTIMEZONE
TZID:Europe/Dublin
BEGIN:STANDARD
TZOFFSETFROM:+0000
TZOFFSETTO:+0100
TZNAME:IST
DTSTART:20260329T010000
END:STANDARD
BEGIN:DAYLIGHT
TZOFFSETFROM:+0100
TZOFFSETTO:+0000
TZNAME:GMT
DTSTART:20261025T010000
END:DAYLIGHT
BEGIN:STANDARD
TZOFFSETFROM:+0000
TZOFFSETTO:+0100
TZNAME:IST
DTSTART:20270328T010000
END:STANDARD
BEGIN:DAYLIGHT
TZOFFSETFROM:+0100
TZOFFSETTO:+0000
TZNAME:GMT
DTSTART:20271031T010000
END:DAYLIGHT
BEGIN:STANDARD
TZOFFSETFROM:+0000
TZOFFSETTO:+0100
TZNAME:IST
DTSTART:20280326T010000
END:STANDARD
BEGIN:DAYLIGHT
TZOFFSETFROM:+0100
TZOFFSETTO:+0000
TZNAME:GMT
DTSTART:20281029T010000
END:DAYLIGHT
END:VTIMEZONE
BEGIN:VEVENT
DTSTART;TZID=Europe/Dublin:20271213T090000
DTEND;TZID=Europe/Dublin:20271213T100000
DTSTAMP:20260424T095903
CREATED:20260127T153017Z
LAST-MODIFIED:20260127T153017Z
UID:10000680-1828688400-1828692000@terenureswimmingpool.ie
SUMMARY:Free Swim
DESCRIPTION:
URL:https://terenureswimmingpool.ie/timetable/free-swim/2027-12-13/
LOCATION:Terenure College Swimming Pool
END:VEVENT
BEGIN:VEVENT
DTSTART;TZID=Europe/Dublin:20271214T090000
DTEND;TZID=Europe/Dublin:20271214T100000
DTSTAMP:20260424T095903
CREATED:20260127T153017Z
LAST-MODIFIED:20260127T153017Z
UID:10000681-1828774800-1828778400@terenureswimmingpool.ie
SUMMARY:Free Swim
DESCRIPTION:
URL:https://terenureswimmingpool.ie/timetable/free-swim/2027-12-14/
LOCATION:Terenure College Swimming Pool
END:VEVENT
BEGIN:VEVENT
DTSTART;TZID=Europe/Dublin:20271215T090000
DTEND;TZID=Europe/Dublin:20271215T100000
DTSTAMP:20260424T095903
CREATED:20260127T153017Z
LAST-MODIFIED:20260127T153017Z
UID:10000682-1828861200-1828864800@terenureswimmingpool.ie
SUMMARY:Free Swim
DESCRIPTION:
URL:https://terenureswimmingpool.ie/timetable/free-swim/2027-12-15/
LOCATION:Terenure College Swimming Pool
END:VEVENT
BEGIN:VEVENT
DTSTART;TZID=Europe/Dublin:20271216T090000
DTEND;TZID=Europe/Dublin:20271216T100000
DTSTAMP:20260424T095903
CREATED:20260127T153017Z
LAST-MODIFIED:20260127T153017Z
UID:10000683-1828947600-1828951200@terenureswimmingpool.ie
SUMMARY:Free Swim
DESCRIPTION:
URL:https://terenureswimmingpool.ie/timetable/free-swim/2027-12-16/
LOCATION:Terenure College Swimming Pool
END:VEVENT
BEGIN:VEVENT
DTSTART;TZID=Europe/Dublin:20271217T090000
DTEND;TZID=Europe/Dublin:20271217T100000
DTSTAMP:20260424T095903
CREATED:20260127T153017Z
LAST-MODIFIED:20260127T153017Z
UID:10000684-1829034000-1829037600@terenureswimmingpool.ie
SUMMARY:Free Swim
DESCRIPTION:
URL:https://terenureswimmingpool.ie/timetable/free-swim/2027-12-17/
LOCATION:Terenure College Swimming Pool
END:VEVENT
BEGIN:VEVENT
DTSTART;TZID=Europe/Dublin:20271218T090000
DTEND;TZID=Europe/Dublin:20271218T100000
DTSTAMP:20260424T095903
CREATED:20260127T153017Z
LAST-MODIFIED:20260127T153017Z
UID:10000685-1829120400-1829124000@terenureswimmingpool.ie
SUMMARY:Free Swim
DESCRIPTION:
URL:https://terenureswimmingpool.ie/timetable/free-swim/2027-12-18/
LOCATION:Terenure College Swimming Pool
END:VEVENT
BEGIN:VEVENT
DTSTART;TZID=Europe/Dublin:20271219T090000
DTEND;TZID=Europe/Dublin:20271219T100000
DTSTAMP:20260424T095903
CREATED:20260127T153017Z
LAST-MODIFIED:20260127T153017Z
UID:10000686-1829206800-1829210400@terenureswimmingpool.ie
SUMMARY:Free Swim
DESCRIPTION:
URL:https://terenureswimmingpool.ie/timetable/free-swim/2027-12-19/
LOCATION:Terenure College Swimming Pool
END:VEVENT
END:VCALENDAR