BEGIN:VCALENDAR
VERSION:2.0
PRODID:-//Terenure Swimming Pool - ECPv6.15.20//NONSGML v1.0//EN
CALSCALE:GREGORIAN
METHOD:PUBLISH
X-WR-CALNAME:Terenure Swimming Pool
X-ORIGINAL-URL:https://terenureswimmingpool.ie
X-WR-CALDESC:Events for Terenure Swimming Pool
REFRESH-INTERVAL;VALUE=DURATION:PT1H
X-Robots-Tag:noindex
X-PUBLISHED-TTL:PT1H
BEGIN:VTIMEZONE
TZID:Europe/Dublin
BEGIN:STANDARD
TZOFFSETFROM:+0000
TZOFFSETTO:+0100
TZNAME:IST
DTSTART:20260329T010000
END:STANDARD
BEGIN:DAYLIGHT
TZOFFSETFROM:+0100
TZOFFSETTO:+0000
TZNAME:GMT
DTSTART:20261025T010000
END:DAYLIGHT
BEGIN:STANDARD
TZOFFSETFROM:+0000
TZOFFSETTO:+0100
TZNAME:IST
DTSTART:20270328T010000
END:STANDARD
BEGIN:DAYLIGHT
TZOFFSETFROM:+0100
TZOFFSETTO:+0000
TZNAME:GMT
DTSTART:20271031T010000
END:DAYLIGHT
BEGIN:STANDARD
TZOFFSETFROM:+0000
TZOFFSETTO:+0100
TZNAME:IST
DTSTART:20280326T010000
END:STANDARD
BEGIN:DAYLIGHT
TZOFFSETFROM:+0100
TZOFFSETTO:+0000
TZNAME:GMT
DTSTART:20281029T010000
END:DAYLIGHT
BEGIN:STANDARD
TZOFFSETFROM:+0000
TZOFFSETTO:+0100
TZNAME:IST
DTSTART:20290325T010000
END:STANDARD
BEGIN:DAYLIGHT
TZOFFSETFROM:+0100
TZOFFSETTO:+0000
TZNAME:GMT
DTSTART:20291028T010000
END:DAYLIGHT
END:VTIMEZONE
BEGIN:VEVENT
DTSTART;TZID=Europe/Dublin:20271227T090000
DTEND;TZID=Europe/Dublin:20271227T100000
DTSTAMP:20260424T083417
CREATED:20260127T153017Z
LAST-MODIFIED:20260127T153017Z
UID:10000694-1829898000-1829901600@terenureswimmingpool.ie
SUMMARY:Free Swim
DESCRIPTION:
URL:https://terenureswimmingpool.ie/timetable/free-swim/2027-12-27/
LOCATION:Terenure College Swimming Pool
END:VEVENT
BEGIN:VEVENT
DTSTART;TZID=Europe/Dublin:20271228T090000
DTEND;TZID=Europe/Dublin:20271228T100000
DTSTAMP:20260424T083417
CREATED:20260127T153017Z
LAST-MODIFIED:20260127T153017Z
UID:10000695-1829984400-1829988000@terenureswimmingpool.ie
SUMMARY:Free Swim
DESCRIPTION:
URL:https://terenureswimmingpool.ie/timetable/free-swim/2027-12-28/
LOCATION:Terenure College Swimming Pool
END:VEVENT
BEGIN:VEVENT
DTSTART;TZID=Europe/Dublin:20271229T090000
DTEND;TZID=Europe/Dublin:20271229T100000
DTSTAMP:20260424T083417
CREATED:20260127T153017Z
LAST-MODIFIED:20260127T153017Z
UID:10000696-1830070800-1830074400@terenureswimmingpool.ie
SUMMARY:Free Swim
DESCRIPTION:
URL:https://terenureswimmingpool.ie/timetable/free-swim/2027-12-29/
LOCATION:Terenure College Swimming Pool
END:VEVENT
BEGIN:VEVENT
DTSTART;TZID=Europe/Dublin:20271230T090000
DTEND;TZID=Europe/Dublin:20271230T100000
DTSTAMP:20260424T083417
CREATED:20260127T153017Z
LAST-MODIFIED:20260127T153017Z
UID:10000697-1830157200-1830160800@terenureswimmingpool.ie
SUMMARY:Free Swim
DESCRIPTION:
URL:https://terenureswimmingpool.ie/timetable/free-swim/2027-12-30/
LOCATION:Terenure College Swimming Pool
END:VEVENT
BEGIN:VEVENT
DTSTART;TZID=Europe/Dublin:20271231T090000
DTEND;TZID=Europe/Dublin:20271231T100000
DTSTAMP:20260424T083417
CREATED:20260127T153017Z
LAST-MODIFIED:20260127T153017Z
UID:10000698-1830243600-1830247200@terenureswimmingpool.ie
SUMMARY:Free Swim
DESCRIPTION:
URL:https://terenureswimmingpool.ie/timetable/free-swim/2027-12-31/
LOCATION:Terenure College Swimming Pool
END:VEVENT
BEGIN:VEVENT
DTSTART;TZID=Europe/Dublin:20280101T090000
DTEND;TZID=Europe/Dublin:20280101T100000
DTSTAMP:20260424T083417
CREATED:20260127T153017Z
LAST-MODIFIED:20260127T153017Z
UID:10000699-1830330000-1830333600@terenureswimmingpool.ie
SUMMARY:Free Swim
DESCRIPTION:
URL:https://terenureswimmingpool.ie/timetable/free-swim/2028-01-01/
LOCATION:Terenure College Swimming Pool
END:VEVENT
BEGIN:VEVENT
DTSTART;TZID=Europe/Dublin:20280102T090000
DTEND;TZID=Europe/Dublin:20280102T100000
DTSTAMP:20260424T083417
CREATED:20260127T153017Z
LAST-MODIFIED:20260127T153017Z
UID:10000700-1830416400-1830420000@terenureswimmingpool.ie
SUMMARY:Free Swim
DESCRIPTION:
URL:https://terenureswimmingpool.ie/timetable/free-swim/2028-01-02/
LOCATION:Terenure College Swimming Pool
END:VEVENT
END:VCALENDAR