BEGIN:VCALENDAR
VERSION:2.0
PRODID:-//Terenure Swimming Pool - ECPv6.15.20//NONSGML v1.0//EN
CALSCALE:GREGORIAN
METHOD:PUBLISH
X-WR-CALNAME:Terenure Swimming Pool
X-ORIGINAL-URL:https://terenureswimmingpool.ie
X-WR-CALDESC:Events for Terenure Swimming Pool
REFRESH-INTERVAL;VALUE=DURATION:PT1H
X-Robots-Tag:noindex
X-PUBLISHED-TTL:PT1H
BEGIN:VTIMEZONE
TZID:Europe/Dublin
BEGIN:STANDARD
TZOFFSETFROM:+0000
TZOFFSETTO:+0100
TZNAME:IST
DTSTART:20270328T010000
END:STANDARD
BEGIN:DAYLIGHT
TZOFFSETFROM:+0100
TZOFFSETTO:+0000
TZNAME:GMT
DTSTART:20271031T010000
END:DAYLIGHT
BEGIN:STANDARD
TZOFFSETFROM:+0000
TZOFFSETTO:+0100
TZNAME:IST
DTSTART:20280326T010000
END:STANDARD
BEGIN:DAYLIGHT
TZOFFSETFROM:+0100
TZOFFSETTO:+0000
TZNAME:GMT
DTSTART:20281029T010000
END:DAYLIGHT
BEGIN:STANDARD
TZOFFSETFROM:+0000
TZOFFSETTO:+0100
TZNAME:IST
DTSTART:20290325T010000
END:STANDARD
BEGIN:DAYLIGHT
TZOFFSETFROM:+0100
TZOFFSETTO:+0000
TZNAME:GMT
DTSTART:20291028T010000
END:DAYLIGHT
END:VTIMEZONE
BEGIN:VEVENT
DTSTART;TZID=Europe/Dublin:20280131T090000
DTEND;TZID=Europe/Dublin:20280131T100000
DTSTAMP:20260424T125159
CREATED:20260127T153017Z
LAST-MODIFIED:20260127T153017Z
UID:10000729-1832922000-1832925600@terenureswimmingpool.ie
SUMMARY:Free Swim
DESCRIPTION:
URL:https://terenureswimmingpool.ie/timetable/free-swim/2028-01-31/
LOCATION:Terenure College Swimming Pool
END:VEVENT
BEGIN:VEVENT
DTSTART;TZID=Europe/Dublin:20280201T090000
DTEND;TZID=Europe/Dublin:20280201T100000
DTSTAMP:20260424T125159
CREATED:20260127T153017Z
LAST-MODIFIED:20260127T153017Z
UID:10000730-1833008400-1833012000@terenureswimmingpool.ie
SUMMARY:Free Swim
DESCRIPTION:
URL:https://terenureswimmingpool.ie/timetable/free-swim/2028-02-01/
LOCATION:Terenure College Swimming Pool
END:VEVENT
BEGIN:VEVENT
DTSTART;TZID=Europe/Dublin:20280202T090000
DTEND;TZID=Europe/Dublin:20280202T100000
DTSTAMP:20260424T125159
CREATED:20260127T153017Z
LAST-MODIFIED:20260127T153017Z
UID:10000731-1833094800-1833098400@terenureswimmingpool.ie
SUMMARY:Free Swim
DESCRIPTION:
URL:https://terenureswimmingpool.ie/timetable/free-swim/2028-02-02/
LOCATION:Terenure College Swimming Pool
END:VEVENT
BEGIN:VEVENT
DTSTART;TZID=Europe/Dublin:20280203T090000
DTEND;TZID=Europe/Dublin:20280203T100000
DTSTAMP:20260424T125159
CREATED:20260127T153017Z
LAST-MODIFIED:20260127T153017Z
UID:10000732-1833181200-1833184800@terenureswimmingpool.ie
SUMMARY:Free Swim
DESCRIPTION:
URL:https://terenureswimmingpool.ie/timetable/free-swim/2028-02-03/
LOCATION:Terenure College Swimming Pool
END:VEVENT
BEGIN:VEVENT
DTSTART;TZID=Europe/Dublin:20280204T090000
DTEND;TZID=Europe/Dublin:20280204T100000
DTSTAMP:20260424T125159
CREATED:20260127T153017Z
LAST-MODIFIED:20260127T153017Z
UID:10000733-1833267600-1833271200@terenureswimmingpool.ie
SUMMARY:Free Swim
DESCRIPTION:
URL:https://terenureswimmingpool.ie/timetable/free-swim/2028-02-04/
LOCATION:Terenure College Swimming Pool
END:VEVENT
BEGIN:VEVENT
DTSTART;TZID=Europe/Dublin:20280205T090000
DTEND;TZID=Europe/Dublin:20280205T100000
DTSTAMP:20260424T125159
CREATED:20260127T153017Z
LAST-MODIFIED:20260127T153017Z
UID:10000734-1833354000-1833357600@terenureswimmingpool.ie
SUMMARY:Free Swim
DESCRIPTION:
URL:https://terenureswimmingpool.ie/timetable/free-swim/2028-02-05/
LOCATION:Terenure College Swimming Pool
END:VEVENT
BEGIN:VEVENT
DTSTART;TZID=Europe/Dublin:20280206T090000
DTEND;TZID=Europe/Dublin:20280206T100000
DTSTAMP:20260424T125159
CREATED:20260127T153017Z
LAST-MODIFIED:20260127T153017Z
UID:10000735-1833440400-1833444000@terenureswimmingpool.ie
SUMMARY:Free Swim
DESCRIPTION:
URL:https://terenureswimmingpool.ie/timetable/free-swim/2028-02-06/
LOCATION:Terenure College Swimming Pool
END:VEVENT
END:VCALENDAR