BEGIN:VCALENDAR
VERSION:2.0
PRODID:-//Terenure Swimming Pool - ECPv6.15.20//NONSGML v1.0//EN
CALSCALE:GREGORIAN
METHOD:PUBLISH
X-WR-CALNAME:Terenure Swimming Pool
X-ORIGINAL-URL:https://terenureswimmingpool.ie
X-WR-CALDESC:Events for Terenure Swimming Pool
REFRESH-INTERVAL;VALUE=DURATION:PT1H
X-Robots-Tag:noindex
X-PUBLISHED-TTL:PT1H
BEGIN:VTIMEZONE
TZID:Europe/Dublin
BEGIN:STANDARD
TZOFFSETFROM:+0000
TZOFFSETTO:+0100
TZNAME:IST
DTSTART:20270328T010000
END:STANDARD
BEGIN:DAYLIGHT
TZOFFSETFROM:+0100
TZOFFSETTO:+0000
TZNAME:GMT
DTSTART:20271031T010000
END:DAYLIGHT
BEGIN:STANDARD
TZOFFSETFROM:+0000
TZOFFSETTO:+0100
TZNAME:IST
DTSTART:20280326T010000
END:STANDARD
BEGIN:DAYLIGHT
TZOFFSETFROM:+0100
TZOFFSETTO:+0000
TZNAME:GMT
DTSTART:20281029T010000
END:DAYLIGHT
BEGIN:STANDARD
TZOFFSETFROM:+0000
TZOFFSETTO:+0100
TZNAME:IST
DTSTART:20290325T010000
END:STANDARD
BEGIN:DAYLIGHT
TZOFFSETFROM:+0100
TZOFFSETTO:+0000
TZNAME:GMT
DTSTART:20291028T010000
END:DAYLIGHT
END:VTIMEZONE
BEGIN:VEVENT
DTSTART;TZID=Europe/Dublin:20280207T090000
DTEND;TZID=Europe/Dublin:20280207T100000
DTSTAMP:20260424T113135
CREATED:20260127T153017Z
LAST-MODIFIED:20260127T153017Z
UID:10000736-1833526800-1833530400@terenureswimmingpool.ie
SUMMARY:Free Swim
DESCRIPTION:
URL:https://terenureswimmingpool.ie/timetable/free-swim/2028-02-07/
LOCATION:Terenure College Swimming Pool
END:VEVENT
BEGIN:VEVENT
DTSTART;TZID=Europe/Dublin:20280208T090000
DTEND;TZID=Europe/Dublin:20280208T100000
DTSTAMP:20260424T113135
CREATED:20260127T153017Z
LAST-MODIFIED:20260127T153017Z
UID:10000737-1833613200-1833616800@terenureswimmingpool.ie
SUMMARY:Free Swim
DESCRIPTION:
URL:https://terenureswimmingpool.ie/timetable/free-swim/2028-02-08/
LOCATION:Terenure College Swimming Pool
END:VEVENT
BEGIN:VEVENT
DTSTART;TZID=Europe/Dublin:20280209T090000
DTEND;TZID=Europe/Dublin:20280209T100000
DTSTAMP:20260424T113135
CREATED:20260127T153017Z
LAST-MODIFIED:20260127T153017Z
UID:10000738-1833699600-1833703200@terenureswimmingpool.ie
SUMMARY:Free Swim
DESCRIPTION:
URL:https://terenureswimmingpool.ie/timetable/free-swim/2028-02-09/
LOCATION:Terenure College Swimming Pool
END:VEVENT
BEGIN:VEVENT
DTSTART;TZID=Europe/Dublin:20280210T090000
DTEND;TZID=Europe/Dublin:20280210T100000
DTSTAMP:20260424T113135
CREATED:20260127T153017Z
LAST-MODIFIED:20260127T153017Z
UID:10000739-1833786000-1833789600@terenureswimmingpool.ie
SUMMARY:Free Swim
DESCRIPTION:
URL:https://terenureswimmingpool.ie/timetable/free-swim/2028-02-10/
LOCATION:Terenure College Swimming Pool
END:VEVENT
BEGIN:VEVENT
DTSTART;TZID=Europe/Dublin:20280211T090000
DTEND;TZID=Europe/Dublin:20280211T100000
DTSTAMP:20260424T113135
CREATED:20260127T153017Z
LAST-MODIFIED:20260127T153017Z
UID:10000740-1833872400-1833876000@terenureswimmingpool.ie
SUMMARY:Free Swim
DESCRIPTION:
URL:https://terenureswimmingpool.ie/timetable/free-swim/2028-02-11/
LOCATION:Terenure College Swimming Pool
END:VEVENT
BEGIN:VEVENT
DTSTART;TZID=Europe/Dublin:20280212T090000
DTEND;TZID=Europe/Dublin:20280212T100000
DTSTAMP:20260424T113135
CREATED:20260127T153017Z
LAST-MODIFIED:20260127T153017Z
UID:10000741-1833958800-1833962400@terenureswimmingpool.ie
SUMMARY:Free Swim
DESCRIPTION:
URL:https://terenureswimmingpool.ie/timetable/free-swim/2028-02-12/
LOCATION:Terenure College Swimming Pool
END:VEVENT
BEGIN:VEVENT
DTSTART;TZID=Europe/Dublin:20280213T090000
DTEND;TZID=Europe/Dublin:20280213T100000
DTSTAMP:20260424T113135
CREATED:20260127T153017Z
LAST-MODIFIED:20260127T153017Z
UID:10000742-1834045200-1834048800@terenureswimmingpool.ie
SUMMARY:Free Swim
DESCRIPTION:
URL:https://terenureswimmingpool.ie/timetable/free-swim/2028-02-13/
LOCATION:Terenure College Swimming Pool
END:VEVENT
END:VCALENDAR