BEGIN:VCALENDAR
VERSION:2.0
PRODID:-//Terenure Swimming Pool - ECPv6.15.20//NONSGML v1.0//EN
CALSCALE:GREGORIAN
METHOD:PUBLISH
X-ORIGINAL-URL:https://terenureswimmingpool.ie
X-WR-CALDESC:Events for Terenure Swimming Pool
REFRESH-INTERVAL;VALUE=DURATION:PT1H
X-Robots-Tag:noindex
X-PUBLISHED-TTL:PT1H
BEGIN:VTIMEZONE
TZID:Europe/Dublin
BEGIN:STANDARD
TZOFFSETFROM:+0000
TZOFFSETTO:+0100
TZNAME:IST
DTSTART:20270328T010000
END:STANDARD
BEGIN:DAYLIGHT
TZOFFSETFROM:+0100
TZOFFSETTO:+0000
TZNAME:GMT
DTSTART:20271031T010000
END:DAYLIGHT
BEGIN:STANDARD
TZOFFSETFROM:+0000
TZOFFSETTO:+0100
TZNAME:IST
DTSTART:20280326T010000
END:STANDARD
BEGIN:DAYLIGHT
TZOFFSETFROM:+0100
TZOFFSETTO:+0000
TZNAME:GMT
DTSTART:20281029T010000
END:DAYLIGHT
BEGIN:STANDARD
TZOFFSETFROM:+0000
TZOFFSETTO:+0100
TZNAME:IST
DTSTART:20290325T010000
END:STANDARD
BEGIN:DAYLIGHT
TZOFFSETFROM:+0100
TZOFFSETTO:+0000
TZNAME:GMT
DTSTART:20291028T010000
END:DAYLIGHT
END:VTIMEZONE
BEGIN:VEVENT
DTSTART;TZID=Europe/Dublin:20280228T090000
DTEND;TZID=Europe/Dublin:20280228T100000
DTSTAMP:20260424T113309
CREATED:20260127T153017Z
LAST-MODIFIED:20260127T153017Z
UID:10000757-1835341200-1835344800@terenureswimmingpool.ie
SUMMARY:Free Swim
DESCRIPTION:
URL:https://terenureswimmingpool.ie/timetable/free-swim/2028-02-28/
LOCATION:Terenure College Swimming Pool
END:VEVENT
BEGIN:VEVENT
DTSTART;TZID=Europe/Dublin:20280229T090000
DTEND;TZID=Europe/Dublin:20280229T100000
DTSTAMP:20260424T113309
CREATED:20260127T153017Z
LAST-MODIFIED:20260127T153017Z
UID:10000758-1835427600-1835431200@terenureswimmingpool.ie
SUMMARY:Free Swim
DESCRIPTION:
URL:https://terenureswimmingpool.ie/timetable/free-swim/2028-02-29/
LOCATION:Terenure College Swimming Pool
END:VEVENT
BEGIN:VEVENT
DTSTART;TZID=Europe/Dublin:20280301T090000
DTEND;TZID=Europe/Dublin:20280301T100000
DTSTAMP:20260424T113309
CREATED:20260127T153017Z
LAST-MODIFIED:20260127T153017Z
UID:10000759-1835514000-1835517600@terenureswimmingpool.ie
SUMMARY:Free Swim
DESCRIPTION:
URL:https://terenureswimmingpool.ie/timetable/free-swim/2028-03-01/
LOCATION:Terenure College Swimming Pool
END:VEVENT
BEGIN:VEVENT
DTSTART;TZID=Europe/Dublin:20280302T090000
DTEND;TZID=Europe/Dublin:20280302T100000
DTSTAMP:20260424T113309
CREATED:20260127T153017Z
LAST-MODIFIED:20260127T153017Z
UID:10000760-1835600400-1835604000@terenureswimmingpool.ie
SUMMARY:Free Swim
DESCRIPTION:
URL:https://terenureswimmingpool.ie/timetable/free-swim/2028-03-02/
LOCATION:Terenure College Swimming Pool
END:VEVENT
BEGIN:VEVENT
DTSTART;TZID=Europe/Dublin:20280303T090000
DTEND;TZID=Europe/Dublin:20280303T100000
DTSTAMP:20260424T113309
CREATED:20260127T153017Z
LAST-MODIFIED:20260127T153017Z
UID:10000761-1835686800-1835690400@terenureswimmingpool.ie
SUMMARY:Free Swim
DESCRIPTION:
URL:https://terenureswimmingpool.ie/timetable/free-swim/2028-03-03/
LOCATION:Terenure College Swimming Pool
END:VEVENT
BEGIN:VEVENT
DTSTART;TZID=Europe/Dublin:20280304T090000
DTEND;TZID=Europe/Dublin:20280304T100000
DTSTAMP:20260424T113309
CREATED:20260127T153017Z
LAST-MODIFIED:20260127T153017Z
UID:10000762-1835773200-1835776800@terenureswimmingpool.ie
SUMMARY:Free Swim
DESCRIPTION:
URL:https://terenureswimmingpool.ie/timetable/free-swim/2028-03-04/
LOCATION:Terenure College Swimming Pool
END:VEVENT
BEGIN:VEVENT
DTSTART;TZID=Europe/Dublin:20280305T090000
DTEND;TZID=Europe/Dublin:20280305T100000
DTSTAMP:20260424T113309
CREATED:20260127T153017Z
LAST-MODIFIED:20260127T153017Z
UID:10000763-1835859600-1835863200@terenureswimmingpool.ie
SUMMARY:Free Swim
DESCRIPTION:
URL:https://terenureswimmingpool.ie/timetable/free-swim/2028-03-05/
LOCATION:Terenure College Swimming Pool
END:VEVENT
END:VCALENDAR