BEGIN:VCALENDAR
VERSION:2.0
PRODID:-//Terenure Swimming Pool - ECPv6.15.20//NONSGML v1.0//EN
CALSCALE:GREGORIAN
METHOD:PUBLISH
X-WR-CALNAME:Terenure Swimming Pool
X-ORIGINAL-URL:https://terenureswimmingpool.ie
X-WR-CALDESC:Events for Terenure Swimming Pool
REFRESH-INTERVAL;VALUE=DURATION:PT1H
X-Robots-Tag:noindex
X-PUBLISHED-TTL:PT1H
BEGIN:VTIMEZONE
TZID:Europe/Dublin
BEGIN:STANDARD
TZOFFSETFROM:+0000
TZOFFSETTO:+0100
TZNAME:IST
DTSTART:20270328T010000
END:STANDARD
BEGIN:DAYLIGHT
TZOFFSETFROM:+0100
TZOFFSETTO:+0000
TZNAME:GMT
DTSTART:20271031T010000
END:DAYLIGHT
BEGIN:STANDARD
TZOFFSETFROM:+0000
TZOFFSETTO:+0100
TZNAME:IST
DTSTART:20280326T010000
END:STANDARD
BEGIN:DAYLIGHT
TZOFFSETFROM:+0100
TZOFFSETTO:+0000
TZNAME:GMT
DTSTART:20281029T010000
END:DAYLIGHT
BEGIN:STANDARD
TZOFFSETFROM:+0000
TZOFFSETTO:+0100
TZNAME:IST
DTSTART:20290325T010000
END:STANDARD
BEGIN:DAYLIGHT
TZOFFSETFROM:+0100
TZOFFSETTO:+0000
TZNAME:GMT
DTSTART:20291028T010000
END:DAYLIGHT
END:VTIMEZONE
BEGIN:VEVENT
DTSTART;TZID=Europe/Dublin:20280327T090000
DTEND;TZID=Europe/Dublin:20280327T100000
DTSTAMP:20260424T154334
CREATED:20260127T153017Z
LAST-MODIFIED:20260127T153017Z
UID:10000785-1837760400-1837764000@terenureswimmingpool.ie
SUMMARY:Free Swim
DESCRIPTION:
URL:https://terenureswimmingpool.ie/timetable/free-swim/2028-03-27/
LOCATION:Terenure College Swimming Pool
END:VEVENT
BEGIN:VEVENT
DTSTART;TZID=Europe/Dublin:20280328T090000
DTEND;TZID=Europe/Dublin:20280328T100000
DTSTAMP:20260424T154334
CREATED:20260127T153017Z
LAST-MODIFIED:20260127T153017Z
UID:10000786-1837846800-1837850400@terenureswimmingpool.ie
SUMMARY:Free Swim
DESCRIPTION:
URL:https://terenureswimmingpool.ie/timetable/free-swim/2028-03-28/
LOCATION:Terenure College Swimming Pool
END:VEVENT
BEGIN:VEVENT
DTSTART;TZID=Europe/Dublin:20280329T090000
DTEND;TZID=Europe/Dublin:20280329T100000
DTSTAMP:20260424T154334
CREATED:20260127T153017Z
LAST-MODIFIED:20260127T153017Z
UID:10000787-1837933200-1837936800@terenureswimmingpool.ie
SUMMARY:Free Swim
DESCRIPTION:
URL:https://terenureswimmingpool.ie/timetable/free-swim/2028-03-29/
LOCATION:Terenure College Swimming Pool
END:VEVENT
BEGIN:VEVENT
DTSTART;TZID=Europe/Dublin:20280330T090000
DTEND;TZID=Europe/Dublin:20280330T100000
DTSTAMP:20260424T154334
CREATED:20260127T153017Z
LAST-MODIFIED:20260127T153017Z
UID:10000788-1838019600-1838023200@terenureswimmingpool.ie
SUMMARY:Free Swim
DESCRIPTION:
URL:https://terenureswimmingpool.ie/timetable/free-swim/2028-03-30/
LOCATION:Terenure College Swimming Pool
END:VEVENT
BEGIN:VEVENT
DTSTART;TZID=Europe/Dublin:20280331T090000
DTEND;TZID=Europe/Dublin:20280331T100000
DTSTAMP:20260424T154334
CREATED:20260127T153017Z
LAST-MODIFIED:20260127T153017Z
UID:10000789-1838106000-1838109600@terenureswimmingpool.ie
SUMMARY:Free Swim
DESCRIPTION:
URL:https://terenureswimmingpool.ie/timetable/free-swim/2028-03-31/
LOCATION:Terenure College Swimming Pool
END:VEVENT
BEGIN:VEVENT
DTSTART;TZID=Europe/Dublin:20280401T090000
DTEND;TZID=Europe/Dublin:20280401T100000
DTSTAMP:20260424T154334
CREATED:20260127T153017Z
LAST-MODIFIED:20260127T153017Z
UID:10000790-1838192400-1838196000@terenureswimmingpool.ie
SUMMARY:Free Swim
DESCRIPTION:
URL:https://terenureswimmingpool.ie/timetable/free-swim/2028-04-01/
LOCATION:Terenure College Swimming Pool
END:VEVENT
BEGIN:VEVENT
DTSTART;TZID=Europe/Dublin:20280402T090000
DTEND;TZID=Europe/Dublin:20280402T100000
DTSTAMP:20260424T154334
CREATED:20260127T153017Z
LAST-MODIFIED:20260127T153017Z
UID:10000791-1838278800-1838282400@terenureswimmingpool.ie
SUMMARY:Free Swim
DESCRIPTION:
URL:https://terenureswimmingpool.ie/timetable/free-swim/2028-04-02/
LOCATION:Terenure College Swimming Pool
END:VEVENT
END:VCALENDAR