BEGIN:VCALENDAR
VERSION:2.0
PRODID:-//Terenure Swimming Pool - ECPv6.15.20//NONSGML v1.0//EN
CALSCALE:GREGORIAN
METHOD:PUBLISH
X-ORIGINAL-URL:https://terenureswimmingpool.ie
X-WR-CALDESC:Events for Terenure Swimming Pool
REFRESH-INTERVAL;VALUE=DURATION:PT1H
X-Robots-Tag:noindex
X-PUBLISHED-TTL:PT1H
BEGIN:VTIMEZONE
TZID:Europe/Dublin
BEGIN:STANDARD
TZOFFSETFROM:+0000
TZOFFSETTO:+0100
TZNAME:IST
DTSTART:20270328T010000
END:STANDARD
BEGIN:DAYLIGHT
TZOFFSETFROM:+0100
TZOFFSETTO:+0000
TZNAME:GMT
DTSTART:20271031T010000
END:DAYLIGHT
BEGIN:STANDARD
TZOFFSETFROM:+0000
TZOFFSETTO:+0100
TZNAME:IST
DTSTART:20280326T010000
END:STANDARD
BEGIN:DAYLIGHT
TZOFFSETFROM:+0100
TZOFFSETTO:+0000
TZNAME:GMT
DTSTART:20281029T010000
END:DAYLIGHT
BEGIN:STANDARD
TZOFFSETFROM:+0000
TZOFFSETTO:+0100
TZNAME:IST
DTSTART:20290325T010000
END:STANDARD
BEGIN:DAYLIGHT
TZOFFSETFROM:+0100
TZOFFSETTO:+0000
TZNAME:GMT
DTSTART:20291028T010000
END:DAYLIGHT
END:VTIMEZONE
BEGIN:VEVENT
DTSTART;TZID=Europe/Dublin:20280508T090000
DTEND;TZID=Europe/Dublin:20280508T100000
DTSTAMP:20260424T154350
CREATED:20260127T153017Z
LAST-MODIFIED:20260127T153017Z
UID:10000827-1841389200-1841392800@terenureswimmingpool.ie
SUMMARY:Free Swim
DESCRIPTION:
URL:https://terenureswimmingpool.ie/timetable/free-swim/2028-05-08/
LOCATION:Terenure College Swimming Pool
END:VEVENT
BEGIN:VEVENT
DTSTART;TZID=Europe/Dublin:20280509T090000
DTEND;TZID=Europe/Dublin:20280509T100000
DTSTAMP:20260424T154350
CREATED:20260127T153017Z
LAST-MODIFIED:20260127T153017Z
UID:10000828-1841475600-1841479200@terenureswimmingpool.ie
SUMMARY:Free Swim
DESCRIPTION:
URL:https://terenureswimmingpool.ie/timetable/free-swim/2028-05-09/
LOCATION:Terenure College Swimming Pool
END:VEVENT
BEGIN:VEVENT
DTSTART;TZID=Europe/Dublin:20280510T090000
DTEND;TZID=Europe/Dublin:20280510T100000
DTSTAMP:20260424T154350
CREATED:20260127T153017Z
LAST-MODIFIED:20260127T153017Z
UID:10000829-1841562000-1841565600@terenureswimmingpool.ie
SUMMARY:Free Swim
DESCRIPTION:
URL:https://terenureswimmingpool.ie/timetable/free-swim/2028-05-10/
LOCATION:Terenure College Swimming Pool
END:VEVENT
BEGIN:VEVENT
DTSTART;TZID=Europe/Dublin:20280511T090000
DTEND;TZID=Europe/Dublin:20280511T100000
DTSTAMP:20260424T154350
CREATED:20260127T153017Z
LAST-MODIFIED:20260127T153017Z
UID:10000830-1841648400-1841652000@terenureswimmingpool.ie
SUMMARY:Free Swim
DESCRIPTION:
URL:https://terenureswimmingpool.ie/timetable/free-swim/2028-05-11/
LOCATION:Terenure College Swimming Pool
END:VEVENT
BEGIN:VEVENT
DTSTART;TZID=Europe/Dublin:20280512T090000
DTEND;TZID=Europe/Dublin:20280512T100000
DTSTAMP:20260424T154350
CREATED:20260127T153017Z
LAST-MODIFIED:20260127T153017Z
UID:10000831-1841734800-1841738400@terenureswimmingpool.ie
SUMMARY:Free Swim
DESCRIPTION:
URL:https://terenureswimmingpool.ie/timetable/free-swim/2028-05-12/
LOCATION:Terenure College Swimming Pool
END:VEVENT
BEGIN:VEVENT
DTSTART;TZID=Europe/Dublin:20280513T090000
DTEND;TZID=Europe/Dublin:20280513T100000
DTSTAMP:20260424T154350
CREATED:20260127T153017Z
LAST-MODIFIED:20260127T153017Z
UID:10000832-1841821200-1841824800@terenureswimmingpool.ie
SUMMARY:Free Swim
DESCRIPTION:
URL:https://terenureswimmingpool.ie/timetable/free-swim/2028-05-13/
LOCATION:Terenure College Swimming Pool
END:VEVENT
BEGIN:VEVENT
DTSTART;TZID=Europe/Dublin:20280514T090000
DTEND;TZID=Europe/Dublin:20280514T100000
DTSTAMP:20260424T154350
CREATED:20260127T153017Z
LAST-MODIFIED:20260127T153017Z
UID:10000833-1841907600-1841911200@terenureswimmingpool.ie
SUMMARY:Free Swim
DESCRIPTION:
URL:https://terenureswimmingpool.ie/timetable/free-swim/2028-05-14/
LOCATION:Terenure College Swimming Pool
END:VEVENT
END:VCALENDAR