BEGIN:VCALENDAR
VERSION:2.0
PRODID:-//Terenure Swimming Pool - ECPv6.15.20//NONSGML v1.0//EN
CALSCALE:GREGORIAN
METHOD:PUBLISH
X-ORIGINAL-URL:https://terenureswimmingpool.ie
X-WR-CALDESC:Events for Terenure Swimming Pool
REFRESH-INTERVAL;VALUE=DURATION:PT1H
X-Robots-Tag:noindex
X-PUBLISHED-TTL:PT1H
BEGIN:VTIMEZONE
TZID:Europe/Dublin
BEGIN:STANDARD
TZOFFSETFROM:+0000
TZOFFSETTO:+0100
TZNAME:IST
DTSTART:20270328T010000
END:STANDARD
BEGIN:DAYLIGHT
TZOFFSETFROM:+0100
TZOFFSETTO:+0000
TZNAME:GMT
DTSTART:20271031T010000
END:DAYLIGHT
BEGIN:STANDARD
TZOFFSETFROM:+0000
TZOFFSETTO:+0100
TZNAME:IST
DTSTART:20280326T010000
END:STANDARD
BEGIN:DAYLIGHT
TZOFFSETFROM:+0100
TZOFFSETTO:+0000
TZNAME:GMT
DTSTART:20281029T010000
END:DAYLIGHT
BEGIN:STANDARD
TZOFFSETFROM:+0000
TZOFFSETTO:+0100
TZNAME:IST
DTSTART:20290325T010000
END:STANDARD
BEGIN:DAYLIGHT
TZOFFSETFROM:+0100
TZOFFSETTO:+0000
TZNAME:GMT
DTSTART:20291028T010000
END:DAYLIGHT
END:VTIMEZONE
BEGIN:VEVENT
DTSTART;TZID=Europe/Dublin:20280605T090000
DTEND;TZID=Europe/Dublin:20280605T100000
DTSTAMP:20260424T165213
CREATED:20260127T153017Z
LAST-MODIFIED:20260127T153017Z
UID:10000855-1843808400-1843812000@terenureswimmingpool.ie
SUMMARY:Free Swim
DESCRIPTION:
URL:https://terenureswimmingpool.ie/timetable/free-swim/2028-06-05/
LOCATION:Terenure College Swimming Pool
END:VEVENT
BEGIN:VEVENT
DTSTART;TZID=Europe/Dublin:20280606T090000
DTEND;TZID=Europe/Dublin:20280606T100000
DTSTAMP:20260424T165213
CREATED:20260127T153017Z
LAST-MODIFIED:20260127T153017Z
UID:10000856-1843894800-1843898400@terenureswimmingpool.ie
SUMMARY:Free Swim
DESCRIPTION:
URL:https://terenureswimmingpool.ie/timetable/free-swim/2028-06-06/
LOCATION:Terenure College Swimming Pool
END:VEVENT
BEGIN:VEVENT
DTSTART;TZID=Europe/Dublin:20280607T090000
DTEND;TZID=Europe/Dublin:20280607T100000
DTSTAMP:20260424T165213
CREATED:20260127T153017Z
LAST-MODIFIED:20260127T153017Z
UID:10000857-1843981200-1843984800@terenureswimmingpool.ie
SUMMARY:Free Swim
DESCRIPTION:
URL:https://terenureswimmingpool.ie/timetable/free-swim/2028-06-07/
LOCATION:Terenure College Swimming Pool
END:VEVENT
BEGIN:VEVENT
DTSTART;TZID=Europe/Dublin:20280608T090000
DTEND;TZID=Europe/Dublin:20280608T100000
DTSTAMP:20260424T165213
CREATED:20260127T153017Z
LAST-MODIFIED:20260127T153017Z
UID:10000858-1844067600-1844071200@terenureswimmingpool.ie
SUMMARY:Free Swim
DESCRIPTION:
URL:https://terenureswimmingpool.ie/timetable/free-swim/2028-06-08/
LOCATION:Terenure College Swimming Pool
END:VEVENT
BEGIN:VEVENT
DTSTART;TZID=Europe/Dublin:20280609T090000
DTEND;TZID=Europe/Dublin:20280609T100000
DTSTAMP:20260424T165213
CREATED:20260127T153017Z
LAST-MODIFIED:20260127T153017Z
UID:10000859-1844154000-1844157600@terenureswimmingpool.ie
SUMMARY:Free Swim
DESCRIPTION:
URL:https://terenureswimmingpool.ie/timetable/free-swim/2028-06-09/
LOCATION:Terenure College Swimming Pool
END:VEVENT
BEGIN:VEVENT
DTSTART;TZID=Europe/Dublin:20280610T090000
DTEND;TZID=Europe/Dublin:20280610T100000
DTSTAMP:20260424T165213
CREATED:20260127T153017Z
LAST-MODIFIED:20260127T153017Z
UID:10000860-1844240400-1844244000@terenureswimmingpool.ie
SUMMARY:Free Swim
DESCRIPTION:
URL:https://terenureswimmingpool.ie/timetable/free-swim/2028-06-10/
LOCATION:Terenure College Swimming Pool
END:VEVENT
BEGIN:VEVENT
DTSTART;TZID=Europe/Dublin:20280611T090000
DTEND;TZID=Europe/Dublin:20280611T100000
DTSTAMP:20260424T165213
CREATED:20260127T153017Z
LAST-MODIFIED:20260127T153017Z
UID:10000861-1844326800-1844330400@terenureswimmingpool.ie
SUMMARY:Free Swim
DESCRIPTION:
URL:https://terenureswimmingpool.ie/timetable/free-swim/2028-06-11/
LOCATION:Terenure College Swimming Pool
END:VEVENT
END:VCALENDAR