BEGIN:VCALENDAR
VERSION:2.0
PRODID:-//Terenure Swimming Pool - ECPv6.15.20//NONSGML v1.0//EN
CALSCALE:GREGORIAN
METHOD:PUBLISH
X-ORIGINAL-URL:https://terenureswimmingpool.ie
X-WR-CALDESC:Events for Terenure Swimming Pool
REFRESH-INTERVAL;VALUE=DURATION:PT1H
X-Robots-Tag:noindex
X-PUBLISHED-TTL:PT1H
BEGIN:VTIMEZONE
TZID:Europe/Dublin
BEGIN:STANDARD
TZOFFSETFROM:+0000
TZOFFSETTO:+0100
TZNAME:IST
DTSTART:20270328T010000
END:STANDARD
BEGIN:DAYLIGHT
TZOFFSETFROM:+0100
TZOFFSETTO:+0000
TZNAME:GMT
DTSTART:20271031T010000
END:DAYLIGHT
BEGIN:STANDARD
TZOFFSETFROM:+0000
TZOFFSETTO:+0100
TZNAME:IST
DTSTART:20280326T010000
END:STANDARD
BEGIN:DAYLIGHT
TZOFFSETFROM:+0100
TZOFFSETTO:+0000
TZNAME:GMT
DTSTART:20281029T010000
END:DAYLIGHT
BEGIN:STANDARD
TZOFFSETFROM:+0000
TZOFFSETTO:+0100
TZNAME:IST
DTSTART:20290325T010000
END:STANDARD
BEGIN:DAYLIGHT
TZOFFSETFROM:+0100
TZOFFSETTO:+0000
TZNAME:GMT
DTSTART:20291028T010000
END:DAYLIGHT
END:VTIMEZONE
BEGIN:VEVENT
DTSTART;TZID=Europe/Dublin:20280821T090000
DTEND;TZID=Europe/Dublin:20280821T100000
DTSTAMP:20260425T033008
CREATED:20260127T153017Z
LAST-MODIFIED:20260127T153017Z
UID:10000932-1850461200-1850464800@terenureswimmingpool.ie
SUMMARY:Free Swim
DESCRIPTION:
URL:https://terenureswimmingpool.ie/timetable/free-swim/2028-08-21/
LOCATION:Terenure College Swimming Pool
END:VEVENT
BEGIN:VEVENT
DTSTART;TZID=Europe/Dublin:20280822T090000
DTEND;TZID=Europe/Dublin:20280822T100000
DTSTAMP:20260425T033008
CREATED:20260127T153017Z
LAST-MODIFIED:20260127T153017Z
UID:10000933-1850547600-1850551200@terenureswimmingpool.ie
SUMMARY:Free Swim
DESCRIPTION:
URL:https://terenureswimmingpool.ie/timetable/free-swim/2028-08-22/
LOCATION:Terenure College Swimming Pool
END:VEVENT
BEGIN:VEVENT
DTSTART;TZID=Europe/Dublin:20280823T090000
DTEND;TZID=Europe/Dublin:20280823T100000
DTSTAMP:20260425T033008
CREATED:20260127T153017Z
LAST-MODIFIED:20260127T153017Z
UID:10000934-1850634000-1850637600@terenureswimmingpool.ie
SUMMARY:Free Swim
DESCRIPTION:
URL:https://terenureswimmingpool.ie/timetable/free-swim/2028-08-23/
LOCATION:Terenure College Swimming Pool
END:VEVENT
BEGIN:VEVENT
DTSTART;TZID=Europe/Dublin:20280824T090000
DTEND;TZID=Europe/Dublin:20280824T100000
DTSTAMP:20260425T033008
CREATED:20260127T153017Z
LAST-MODIFIED:20260127T153017Z
UID:10000935-1850720400-1850724000@terenureswimmingpool.ie
SUMMARY:Free Swim
DESCRIPTION:
URL:https://terenureswimmingpool.ie/timetable/free-swim/2028-08-24/
LOCATION:Terenure College Swimming Pool
END:VEVENT
BEGIN:VEVENT
DTSTART;TZID=Europe/Dublin:20280825T090000
DTEND;TZID=Europe/Dublin:20280825T100000
DTSTAMP:20260425T033008
CREATED:20260127T153017Z
LAST-MODIFIED:20260127T153017Z
UID:10000936-1850806800-1850810400@terenureswimmingpool.ie
SUMMARY:Free Swim
DESCRIPTION:
URL:https://terenureswimmingpool.ie/timetable/free-swim/2028-08-25/
LOCATION:Terenure College Swimming Pool
END:VEVENT
BEGIN:VEVENT
DTSTART;TZID=Europe/Dublin:20280826T090000
DTEND;TZID=Europe/Dublin:20280826T100000
DTSTAMP:20260425T033008
CREATED:20260127T153017Z
LAST-MODIFIED:20260127T153017Z
UID:10000937-1850893200-1850896800@terenureswimmingpool.ie
SUMMARY:Free Swim
DESCRIPTION:
URL:https://terenureswimmingpool.ie/timetable/free-swim/2028-08-26/
LOCATION:Terenure College Swimming Pool
END:VEVENT
BEGIN:VEVENT
DTSTART;TZID=Europe/Dublin:20280827T090000
DTEND;TZID=Europe/Dublin:20280827T100000
DTSTAMP:20260425T033008
CREATED:20260127T153017Z
LAST-MODIFIED:20260127T153017Z
UID:10000938-1850979600-1850983200@terenureswimmingpool.ie
SUMMARY:Free Swim
DESCRIPTION:
URL:https://terenureswimmingpool.ie/timetable/free-swim/2028-08-27/
LOCATION:Terenure College Swimming Pool
END:VEVENT
END:VCALENDAR