BEGIN:VCALENDAR
VERSION:2.0
PRODID:-//Terenure Swimming Pool - ECPv6.15.20//NONSGML v1.0//EN
CALSCALE:GREGORIAN
METHOD:PUBLISH
X-WR-CALNAME:Terenure Swimming Pool
X-ORIGINAL-URL:https://terenureswimmingpool.ie
X-WR-CALDESC:Events for Terenure Swimming Pool
REFRESH-INTERVAL;VALUE=DURATION:PT1H
X-Robots-Tag:noindex
X-PUBLISHED-TTL:PT1H
BEGIN:VTIMEZONE
TZID:Europe/Dublin
BEGIN:STANDARD
TZOFFSETFROM:+0000
TZOFFSETTO:+0100
TZNAME:IST
DTSTART:20270328T010000
END:STANDARD
BEGIN:DAYLIGHT
TZOFFSETFROM:+0100
TZOFFSETTO:+0000
TZNAME:GMT
DTSTART:20271031T010000
END:DAYLIGHT
BEGIN:STANDARD
TZOFFSETFROM:+0000
TZOFFSETTO:+0100
TZNAME:IST
DTSTART:20280326T010000
END:STANDARD
BEGIN:DAYLIGHT
TZOFFSETFROM:+0100
TZOFFSETTO:+0000
TZNAME:GMT
DTSTART:20281029T010000
END:DAYLIGHT
BEGIN:STANDARD
TZOFFSETFROM:+0000
TZOFFSETTO:+0100
TZNAME:IST
DTSTART:20290325T010000
END:STANDARD
BEGIN:DAYLIGHT
TZOFFSETFROM:+0100
TZOFFSETTO:+0000
TZNAME:GMT
DTSTART:20291028T010000
END:DAYLIGHT
END:VTIMEZONE
BEGIN:VEVENT
DTSTART;TZID=Europe/Dublin:20280911T090000
DTEND;TZID=Europe/Dublin:20280911T100000
DTSTAMP:20260424T232715
CREATED:20260127T153017Z
LAST-MODIFIED:20260127T153017Z
UID:10000953-1852275600-1852279200@terenureswimmingpool.ie
SUMMARY:Free Swim
DESCRIPTION:
URL:https://terenureswimmingpool.ie/timetable/free-swim/2028-09-11/
LOCATION:Terenure College Swimming Pool
END:VEVENT
BEGIN:VEVENT
DTSTART;TZID=Europe/Dublin:20280912T090000
DTEND;TZID=Europe/Dublin:20280912T100000
DTSTAMP:20260424T232715
CREATED:20260127T153017Z
LAST-MODIFIED:20260127T153017Z
UID:10000954-1852362000-1852365600@terenureswimmingpool.ie
SUMMARY:Free Swim
DESCRIPTION:
URL:https://terenureswimmingpool.ie/timetable/free-swim/2028-09-12/
LOCATION:Terenure College Swimming Pool
END:VEVENT
BEGIN:VEVENT
DTSTART;TZID=Europe/Dublin:20280913T090000
DTEND;TZID=Europe/Dublin:20280913T100000
DTSTAMP:20260424T232715
CREATED:20260127T153017Z
LAST-MODIFIED:20260127T153017Z
UID:10000955-1852448400-1852452000@terenureswimmingpool.ie
SUMMARY:Free Swim
DESCRIPTION:
URL:https://terenureswimmingpool.ie/timetable/free-swim/2028-09-13/
LOCATION:Terenure College Swimming Pool
END:VEVENT
BEGIN:VEVENT
DTSTART;TZID=Europe/Dublin:20280914T090000
DTEND;TZID=Europe/Dublin:20280914T100000
DTSTAMP:20260424T232715
CREATED:20260127T153017Z
LAST-MODIFIED:20260127T153017Z
UID:10000956-1852534800-1852538400@terenureswimmingpool.ie
SUMMARY:Free Swim
DESCRIPTION:
URL:https://terenureswimmingpool.ie/timetable/free-swim/2028-09-14/
LOCATION:Terenure College Swimming Pool
END:VEVENT
BEGIN:VEVENT
DTSTART;TZID=Europe/Dublin:20280915T090000
DTEND;TZID=Europe/Dublin:20280915T100000
DTSTAMP:20260424T232715
CREATED:20260127T153017Z
LAST-MODIFIED:20260127T153017Z
UID:10000957-1852621200-1852624800@terenureswimmingpool.ie
SUMMARY:Free Swim
DESCRIPTION:
URL:https://terenureswimmingpool.ie/timetable/free-swim/2028-09-15/
LOCATION:Terenure College Swimming Pool
END:VEVENT
BEGIN:VEVENT
DTSTART;TZID=Europe/Dublin:20280916T090000
DTEND;TZID=Europe/Dublin:20280916T100000
DTSTAMP:20260424T232715
CREATED:20260127T153017Z
LAST-MODIFIED:20260127T153017Z
UID:10000958-1852707600-1852711200@terenureswimmingpool.ie
SUMMARY:Free Swim
DESCRIPTION:
URL:https://terenureswimmingpool.ie/timetable/free-swim/2028-09-16/
LOCATION:Terenure College Swimming Pool
END:VEVENT
BEGIN:VEVENT
DTSTART;TZID=Europe/Dublin:20280917T090000
DTEND;TZID=Europe/Dublin:20280917T100000
DTSTAMP:20260424T232715
CREATED:20260127T153017Z
LAST-MODIFIED:20260127T153017Z
UID:10000959-1852794000-1852797600@terenureswimmingpool.ie
SUMMARY:Free Swim
DESCRIPTION:
URL:https://terenureswimmingpool.ie/timetable/free-swim/2028-09-17/
LOCATION:Terenure College Swimming Pool
END:VEVENT
END:VCALENDAR