BEGIN:VCALENDAR
VERSION:2.0
PRODID:-//Terenure Swimming Pool - ECPv6.15.20//NONSGML v1.0//EN
CALSCALE:GREGORIAN
METHOD:PUBLISH
X-WR-CALNAME:Terenure Swimming Pool
X-ORIGINAL-URL:https://terenureswimmingpool.ie
X-WR-CALDESC:Events for Terenure Swimming Pool
REFRESH-INTERVAL;VALUE=DURATION:PT1H
X-Robots-Tag:noindex
X-PUBLISHED-TTL:PT1H
BEGIN:VTIMEZONE
TZID:Europe/Dublin
BEGIN:STANDARD
TZOFFSETFROM:+0000
TZOFFSETTO:+0100
TZNAME:IST
DTSTART:20270328T010000
END:STANDARD
BEGIN:DAYLIGHT
TZOFFSETFROM:+0100
TZOFFSETTO:+0000
TZNAME:GMT
DTSTART:20271031T010000
END:DAYLIGHT
BEGIN:STANDARD
TZOFFSETFROM:+0000
TZOFFSETTO:+0100
TZNAME:IST
DTSTART:20280326T010000
END:STANDARD
BEGIN:DAYLIGHT
TZOFFSETFROM:+0100
TZOFFSETTO:+0000
TZNAME:GMT
DTSTART:20281029T010000
END:DAYLIGHT
BEGIN:STANDARD
TZOFFSETFROM:+0000
TZOFFSETTO:+0100
TZNAME:IST
DTSTART:20290325T010000
END:STANDARD
BEGIN:DAYLIGHT
TZOFFSETFROM:+0100
TZOFFSETTO:+0000
TZNAME:GMT
DTSTART:20291028T010000
END:DAYLIGHT
END:VTIMEZONE
BEGIN:VEVENT
DTSTART;TZID=Europe/Dublin:20281016T090000
DTEND;TZID=Europe/Dublin:20281016T100000
DTSTAMP:20260425T005102
CREATED:20260127T153017Z
LAST-MODIFIED:20260127T153017Z
UID:10000988-1855299600-1855303200@terenureswimmingpool.ie
SUMMARY:Free Swim
DESCRIPTION:
URL:https://terenureswimmingpool.ie/timetable/free-swim/2028-10-16/
LOCATION:Terenure College Swimming Pool
END:VEVENT
BEGIN:VEVENT
DTSTART;TZID=Europe/Dublin:20281017T090000
DTEND;TZID=Europe/Dublin:20281017T100000
DTSTAMP:20260425T005102
CREATED:20260127T153017Z
LAST-MODIFIED:20260127T153017Z
UID:10000989-1855386000-1855389600@terenureswimmingpool.ie
SUMMARY:Free Swim
DESCRIPTION:
URL:https://terenureswimmingpool.ie/timetable/free-swim/2028-10-17/
LOCATION:Terenure College Swimming Pool
END:VEVENT
BEGIN:VEVENT
DTSTART;TZID=Europe/Dublin:20281018T090000
DTEND;TZID=Europe/Dublin:20281018T100000
DTSTAMP:20260425T005102
CREATED:20260127T153017Z
LAST-MODIFIED:20260127T153017Z
UID:10000990-1855472400-1855476000@terenureswimmingpool.ie
SUMMARY:Free Swim
DESCRIPTION:
URL:https://terenureswimmingpool.ie/timetable/free-swim/2028-10-18/
LOCATION:Terenure College Swimming Pool
END:VEVENT
BEGIN:VEVENT
DTSTART;TZID=Europe/Dublin:20281019T090000
DTEND;TZID=Europe/Dublin:20281019T100000
DTSTAMP:20260425T005102
CREATED:20260127T153017Z
LAST-MODIFIED:20260127T153017Z
UID:10000991-1855558800-1855562400@terenureswimmingpool.ie
SUMMARY:Free Swim
DESCRIPTION:
URL:https://terenureswimmingpool.ie/timetable/free-swim/2028-10-19/
LOCATION:Terenure College Swimming Pool
END:VEVENT
BEGIN:VEVENT
DTSTART;TZID=Europe/Dublin:20281020T090000
DTEND;TZID=Europe/Dublin:20281020T100000
DTSTAMP:20260425T005102
CREATED:20260127T153017Z
LAST-MODIFIED:20260127T153017Z
UID:10000992-1855645200-1855648800@terenureswimmingpool.ie
SUMMARY:Free Swim
DESCRIPTION:
URL:https://terenureswimmingpool.ie/timetable/free-swim/2028-10-20/
LOCATION:Terenure College Swimming Pool
END:VEVENT
BEGIN:VEVENT
DTSTART;TZID=Europe/Dublin:20281021T090000
DTEND;TZID=Europe/Dublin:20281021T100000
DTSTAMP:20260425T005102
CREATED:20260127T153017Z
LAST-MODIFIED:20260127T153017Z
UID:10000993-1855731600-1855735200@terenureswimmingpool.ie
SUMMARY:Free Swim
DESCRIPTION:
URL:https://terenureswimmingpool.ie/timetable/free-swim/2028-10-21/
LOCATION:Terenure College Swimming Pool
END:VEVENT
BEGIN:VEVENT
DTSTART;TZID=Europe/Dublin:20281022T090000
DTEND;TZID=Europe/Dublin:20281022T100000
DTSTAMP:20260425T005102
CREATED:20260127T153017Z
LAST-MODIFIED:20260127T153017Z
UID:10000994-1855818000-1855821600@terenureswimmingpool.ie
SUMMARY:Free Swim
DESCRIPTION:
URL:https://terenureswimmingpool.ie/timetable/free-swim/2028-10-22/
LOCATION:Terenure College Swimming Pool
END:VEVENT
END:VCALENDAR