BEGIN:VCALENDAR
VERSION:2.0
PRODID:-//Terenure Swimming Pool - ECPv6.15.20//NONSGML v1.0//EN
CALSCALE:GREGORIAN
METHOD:PUBLISH
X-ORIGINAL-URL:https://terenureswimmingpool.ie
X-WR-CALDESC:Events for Terenure Swimming Pool
REFRESH-INTERVAL;VALUE=DURATION:PT1H
X-Robots-Tag:noindex
X-PUBLISHED-TTL:PT1H
BEGIN:VTIMEZONE
TZID:Europe/Dublin
BEGIN:STANDARD
TZOFFSETFROM:+0000
TZOFFSETTO:+0100
TZNAME:IST
DTSTART:20270328T010000
END:STANDARD
BEGIN:DAYLIGHT
TZOFFSETFROM:+0100
TZOFFSETTO:+0000
TZNAME:GMT
DTSTART:20271031T010000
END:DAYLIGHT
BEGIN:STANDARD
TZOFFSETFROM:+0000
TZOFFSETTO:+0100
TZNAME:IST
DTSTART:20280326T010000
END:STANDARD
BEGIN:DAYLIGHT
TZOFFSETFROM:+0100
TZOFFSETTO:+0000
TZNAME:GMT
DTSTART:20281029T010000
END:DAYLIGHT
BEGIN:STANDARD
TZOFFSETFROM:+0000
TZOFFSETTO:+0100
TZNAME:IST
DTSTART:20290325T010000
END:STANDARD
BEGIN:DAYLIGHT
TZOFFSETFROM:+0100
TZOFFSETTO:+0000
TZNAME:GMT
DTSTART:20291028T010000
END:DAYLIGHT
END:VTIMEZONE
BEGIN:VEVENT
DTSTART;TZID=Europe/Dublin:20281106T090000
DTEND;TZID=Europe/Dublin:20281106T100000
DTSTAMP:20260425T043736
CREATED:20260127T153017Z
LAST-MODIFIED:20260127T153017Z
UID:10001009-1857114000-1857117600@terenureswimmingpool.ie
SUMMARY:Free Swim
DESCRIPTION:
URL:https://terenureswimmingpool.ie/timetable/free-swim/2028-11-06/
LOCATION:Terenure College Swimming Pool
END:VEVENT
BEGIN:VEVENT
DTSTART;TZID=Europe/Dublin:20281107T090000
DTEND;TZID=Europe/Dublin:20281107T100000
DTSTAMP:20260425T043736
CREATED:20260127T153017Z
LAST-MODIFIED:20260127T153017Z
UID:10001010-1857200400-1857204000@terenureswimmingpool.ie
SUMMARY:Free Swim
DESCRIPTION:
URL:https://terenureswimmingpool.ie/timetable/free-swim/2028-11-07/
LOCATION:Terenure College Swimming Pool
END:VEVENT
BEGIN:VEVENT
DTSTART;TZID=Europe/Dublin:20281108T090000
DTEND;TZID=Europe/Dublin:20281108T100000
DTSTAMP:20260425T043736
CREATED:20260127T153017Z
LAST-MODIFIED:20260127T153017Z
UID:10001011-1857286800-1857290400@terenureswimmingpool.ie
SUMMARY:Free Swim
DESCRIPTION:
URL:https://terenureswimmingpool.ie/timetable/free-swim/2028-11-08/
LOCATION:Terenure College Swimming Pool
END:VEVENT
BEGIN:VEVENT
DTSTART;TZID=Europe/Dublin:20281109T090000
DTEND;TZID=Europe/Dublin:20281109T100000
DTSTAMP:20260425T043736
CREATED:20260127T153017Z
LAST-MODIFIED:20260127T153017Z
UID:10001012-1857373200-1857376800@terenureswimmingpool.ie
SUMMARY:Free Swim
DESCRIPTION:
URL:https://terenureswimmingpool.ie/timetable/free-swim/2028-11-09/
LOCATION:Terenure College Swimming Pool
END:VEVENT
BEGIN:VEVENT
DTSTART;TZID=Europe/Dublin:20281110T090000
DTEND;TZID=Europe/Dublin:20281110T100000
DTSTAMP:20260425T043736
CREATED:20260127T153017Z
LAST-MODIFIED:20260127T153017Z
UID:10001013-1857459600-1857463200@terenureswimmingpool.ie
SUMMARY:Free Swim
DESCRIPTION:
URL:https://terenureswimmingpool.ie/timetable/free-swim/2028-11-10/
LOCATION:Terenure College Swimming Pool
END:VEVENT
BEGIN:VEVENT
DTSTART;TZID=Europe/Dublin:20281111T090000
DTEND;TZID=Europe/Dublin:20281111T100000
DTSTAMP:20260425T043736
CREATED:20260127T153017Z
LAST-MODIFIED:20260127T153017Z
UID:10001014-1857546000-1857549600@terenureswimmingpool.ie
SUMMARY:Free Swim
DESCRIPTION:
URL:https://terenureswimmingpool.ie/timetable/free-swim/2028-11-11/
LOCATION:Terenure College Swimming Pool
END:VEVENT
BEGIN:VEVENT
DTSTART;TZID=Europe/Dublin:20281112T090000
DTEND;TZID=Europe/Dublin:20281112T100000
DTSTAMP:20260425T043736
CREATED:20260127T153017Z
LAST-MODIFIED:20260127T153017Z
UID:10001015-1857632400-1857636000@terenureswimmingpool.ie
SUMMARY:Free Swim
DESCRIPTION:
URL:https://terenureswimmingpool.ie/timetable/free-swim/2028-11-12/
LOCATION:Terenure College Swimming Pool
END:VEVENT
END:VCALENDAR