BEGIN:VCALENDAR
VERSION:2.0
PRODID:-//Terenure Swimming Pool - ECPv6.15.20//NONSGML v1.0//EN
CALSCALE:GREGORIAN
METHOD:PUBLISH
X-ORIGINAL-URL:https://terenureswimmingpool.ie
X-WR-CALDESC:Events for Terenure Swimming Pool
REFRESH-INTERVAL;VALUE=DURATION:PT1H
X-Robots-Tag:noindex
X-PUBLISHED-TTL:PT1H
BEGIN:VTIMEZONE
TZID:Europe/Dublin
BEGIN:STANDARD
TZOFFSETFROM:+0000
TZOFFSETTO:+0100
TZNAME:IST
DTSTART:20270328T010000
END:STANDARD
BEGIN:DAYLIGHT
TZOFFSETFROM:+0100
TZOFFSETTO:+0000
TZNAME:GMT
DTSTART:20271031T010000
END:DAYLIGHT
BEGIN:STANDARD
TZOFFSETFROM:+0000
TZOFFSETTO:+0100
TZNAME:IST
DTSTART:20280326T010000
END:STANDARD
BEGIN:DAYLIGHT
TZOFFSETFROM:+0100
TZOFFSETTO:+0000
TZNAME:GMT
DTSTART:20281029T010000
END:DAYLIGHT
BEGIN:STANDARD
TZOFFSETFROM:+0000
TZOFFSETTO:+0100
TZNAME:IST
DTSTART:20290325T010000
END:STANDARD
BEGIN:DAYLIGHT
TZOFFSETFROM:+0100
TZOFFSETTO:+0000
TZNAME:GMT
DTSTART:20291028T010000
END:DAYLIGHT
END:VTIMEZONE
BEGIN:VEVENT
DTSTART;TZID=Europe/Dublin:20281127T090000
DTEND;TZID=Europe/Dublin:20281127T100000
DTSTAMP:20260425T122937
CREATED:20260127T153017Z
LAST-MODIFIED:20260127T153017Z
UID:10001030-1858928400-1858932000@terenureswimmingpool.ie
SUMMARY:Free Swim
DESCRIPTION:
URL:https://terenureswimmingpool.ie/timetable/free-swim/2028-11-27/
LOCATION:Terenure College Swimming Pool
END:VEVENT
BEGIN:VEVENT
DTSTART;TZID=Europe/Dublin:20281128T090000
DTEND;TZID=Europe/Dublin:20281128T100000
DTSTAMP:20260425T122937
CREATED:20260127T153017Z
LAST-MODIFIED:20260127T153017Z
UID:10001031-1859014800-1859018400@terenureswimmingpool.ie
SUMMARY:Free Swim
DESCRIPTION:
URL:https://terenureswimmingpool.ie/timetable/free-swim/2028-11-28/
LOCATION:Terenure College Swimming Pool
END:VEVENT
BEGIN:VEVENT
DTSTART;TZID=Europe/Dublin:20281129T090000
DTEND;TZID=Europe/Dublin:20281129T100000
DTSTAMP:20260425T122937
CREATED:20260127T153017Z
LAST-MODIFIED:20260127T153017Z
UID:10001032-1859101200-1859104800@terenureswimmingpool.ie
SUMMARY:Free Swim
DESCRIPTION:
URL:https://terenureswimmingpool.ie/timetable/free-swim/2028-11-29/
LOCATION:Terenure College Swimming Pool
END:VEVENT
BEGIN:VEVENT
DTSTART;TZID=Europe/Dublin:20281130T090000
DTEND;TZID=Europe/Dublin:20281130T100000
DTSTAMP:20260425T122937
CREATED:20260127T153017Z
LAST-MODIFIED:20260127T153017Z
UID:10001033-1859187600-1859191200@terenureswimmingpool.ie
SUMMARY:Free Swim
DESCRIPTION:
URL:https://terenureswimmingpool.ie/timetable/free-swim/2028-11-30/
LOCATION:Terenure College Swimming Pool
END:VEVENT
BEGIN:VEVENT
DTSTART;TZID=Europe/Dublin:20281201T090000
DTEND;TZID=Europe/Dublin:20281201T100000
DTSTAMP:20260425T122937
CREATED:20260127T153017Z
LAST-MODIFIED:20260127T153017Z
UID:10001034-1859274000-1859277600@terenureswimmingpool.ie
SUMMARY:Free Swim
DESCRIPTION:
URL:https://terenureswimmingpool.ie/timetable/free-swim/2028-12-01/
LOCATION:Terenure College Swimming Pool
END:VEVENT
BEGIN:VEVENT
DTSTART;TZID=Europe/Dublin:20281202T090000
DTEND;TZID=Europe/Dublin:20281202T100000
DTSTAMP:20260425T122937
CREATED:20260127T153017Z
LAST-MODIFIED:20260127T153017Z
UID:10001035-1859360400-1859364000@terenureswimmingpool.ie
SUMMARY:Free Swim
DESCRIPTION:
URL:https://terenureswimmingpool.ie/timetable/free-swim/2028-12-02/
LOCATION:Terenure College Swimming Pool
END:VEVENT
BEGIN:VEVENT
DTSTART;TZID=Europe/Dublin:20281203T090000
DTEND;TZID=Europe/Dublin:20281203T100000
DTSTAMP:20260425T122937
CREATED:20260127T153017Z
LAST-MODIFIED:20260127T153017Z
UID:10001036-1859446800-1859450400@terenureswimmingpool.ie
SUMMARY:Free Swim
DESCRIPTION:
URL:https://terenureswimmingpool.ie/timetable/free-swim/2028-12-03/
LOCATION:Terenure College Swimming Pool
END:VEVENT
END:VCALENDAR