BEGIN:VCALENDAR
VERSION:2.0
PRODID:-//Terenure Swimming Pool - ECPv6.15.20//NONSGML v1.0//EN
CALSCALE:GREGORIAN
METHOD:PUBLISH
X-WR-CALNAME:Terenure Swimming Pool
X-ORIGINAL-URL:https://terenureswimmingpool.ie
X-WR-CALDESC:Events for Terenure Swimming Pool
REFRESH-INTERVAL;VALUE=DURATION:PT1H
X-Robots-Tag:noindex
X-PUBLISHED-TTL:PT1H
BEGIN:VTIMEZONE
TZID:Europe/Dublin
BEGIN:STANDARD
TZOFFSETFROM:+0000
TZOFFSETTO:+0100
TZNAME:IST
DTSTART:20280326T010000
END:STANDARD
BEGIN:DAYLIGHT
TZOFFSETFROM:+0100
TZOFFSETTO:+0000
TZNAME:GMT
DTSTART:20281029T010000
END:DAYLIGHT
BEGIN:STANDARD
TZOFFSETFROM:+0000
TZOFFSETTO:+0100
TZNAME:IST
DTSTART:20290325T010000
END:STANDARD
BEGIN:DAYLIGHT
TZOFFSETFROM:+0100
TZOFFSETTO:+0000
TZNAME:GMT
DTSTART:20291028T010000
END:DAYLIGHT
BEGIN:STANDARD
TZOFFSETFROM:+0000
TZOFFSETTO:+0100
TZNAME:IST
DTSTART:20300331T010000
END:STANDARD
BEGIN:DAYLIGHT
TZOFFSETFROM:+0100
TZOFFSETTO:+0000
TZNAME:GMT
DTSTART:20301027T010000
END:DAYLIGHT
END:VTIMEZONE
BEGIN:VEVENT
DTSTART;TZID=Europe/Dublin:20290101T090000
DTEND;TZID=Europe/Dublin:20290101T100000
DTSTAMP:20260425T134905
CREATED:20260127T153017Z
LAST-MODIFIED:20260127T153017Z
UID:10001065-1861952400-1861956000@terenureswimmingpool.ie
SUMMARY:Free Swim
DESCRIPTION:
URL:https://terenureswimmingpool.ie/timetable/free-swim/2029-01-01/
LOCATION:Terenure College Swimming Pool
END:VEVENT
BEGIN:VEVENT
DTSTART;TZID=Europe/Dublin:20290102T090000
DTEND;TZID=Europe/Dublin:20290102T100000
DTSTAMP:20260425T134905
CREATED:20260127T153017Z
LAST-MODIFIED:20260127T153017Z
UID:10001066-1862038800-1862042400@terenureswimmingpool.ie
SUMMARY:Free Swim
DESCRIPTION:
URL:https://terenureswimmingpool.ie/timetable/free-swim/2029-01-02/
LOCATION:Terenure College Swimming Pool
END:VEVENT
BEGIN:VEVENT
DTSTART;TZID=Europe/Dublin:20290103T090000
DTEND;TZID=Europe/Dublin:20290103T100000
DTSTAMP:20260425T134905
CREATED:20260127T153017Z
LAST-MODIFIED:20260127T153017Z
UID:10001067-1862125200-1862128800@terenureswimmingpool.ie
SUMMARY:Free Swim
DESCRIPTION:
URL:https://terenureswimmingpool.ie/timetable/free-swim/2029-01-03/
LOCATION:Terenure College Swimming Pool
END:VEVENT
BEGIN:VEVENT
DTSTART;TZID=Europe/Dublin:20290104T090000
DTEND;TZID=Europe/Dublin:20290104T100000
DTSTAMP:20260425T134905
CREATED:20260127T153017Z
LAST-MODIFIED:20260127T153017Z
UID:10001068-1862211600-1862215200@terenureswimmingpool.ie
SUMMARY:Free Swim
DESCRIPTION:
URL:https://terenureswimmingpool.ie/timetable/free-swim/2029-01-04/
LOCATION:Terenure College Swimming Pool
END:VEVENT
BEGIN:VEVENT
DTSTART;TZID=Europe/Dublin:20290105T090000
DTEND;TZID=Europe/Dublin:20290105T100000
DTSTAMP:20260425T134905
CREATED:20260127T153017Z
LAST-MODIFIED:20260127T153017Z
UID:10001069-1862298000-1862301600@terenureswimmingpool.ie
SUMMARY:Free Swim
DESCRIPTION:
URL:https://terenureswimmingpool.ie/timetable/free-swim/2029-01-05/
LOCATION:Terenure College Swimming Pool
END:VEVENT
BEGIN:VEVENT
DTSTART;TZID=Europe/Dublin:20290106T090000
DTEND;TZID=Europe/Dublin:20290106T100000
DTSTAMP:20260425T134905
CREATED:20260127T153017Z
LAST-MODIFIED:20260127T153017Z
UID:10001070-1862384400-1862388000@terenureswimmingpool.ie
SUMMARY:Free Swim
DESCRIPTION:
URL:https://terenureswimmingpool.ie/timetable/free-swim/2029-01-06/
LOCATION:Terenure College Swimming Pool
END:VEVENT
BEGIN:VEVENT
DTSTART;TZID=Europe/Dublin:20290107T090000
DTEND;TZID=Europe/Dublin:20290107T100000
DTSTAMP:20260425T134905
CREATED:20260127T153017Z
LAST-MODIFIED:20260127T153017Z
UID:10001071-1862470800-1862474400@terenureswimmingpool.ie
SUMMARY:Free Swim
DESCRIPTION:
URL:https://terenureswimmingpool.ie/timetable/free-swim/2029-01-07/
LOCATION:Terenure College Swimming Pool
END:VEVENT
END:VCALENDAR