BEGIN:VCALENDAR
VERSION:2.0
PRODID:-//Terenure Swimming Pool - ECPv6.15.20//NONSGML v1.0//EN
CALSCALE:GREGORIAN
METHOD:PUBLISH
X-WR-CALNAME:Terenure Swimming Pool
X-ORIGINAL-URL:https://terenureswimmingpool.ie
X-WR-CALDESC:Events for Terenure Swimming Pool
REFRESH-INTERVAL;VALUE=DURATION:PT1H
X-Robots-Tag:noindex
X-PUBLISHED-TTL:PT1H
BEGIN:VTIMEZONE
TZID:Europe/Dublin
BEGIN:STANDARD
TZOFFSETFROM:+0000
TZOFFSETTO:+0100
TZNAME:IST
DTSTART:20280326T010000
END:STANDARD
BEGIN:DAYLIGHT
TZOFFSETFROM:+0100
TZOFFSETTO:+0000
TZNAME:GMT
DTSTART:20281029T010000
END:DAYLIGHT
BEGIN:STANDARD
TZOFFSETFROM:+0000
TZOFFSETTO:+0100
TZNAME:IST
DTSTART:20290325T010000
END:STANDARD
BEGIN:DAYLIGHT
TZOFFSETFROM:+0100
TZOFFSETTO:+0000
TZNAME:GMT
DTSTART:20291028T010000
END:DAYLIGHT
BEGIN:STANDARD
TZOFFSETFROM:+0000
TZOFFSETTO:+0100
TZNAME:IST
DTSTART:20300331T010000
END:STANDARD
BEGIN:DAYLIGHT
TZOFFSETFROM:+0100
TZOFFSETTO:+0000
TZNAME:GMT
DTSTART:20301027T010000
END:DAYLIGHT
END:VTIMEZONE
BEGIN:VEVENT
DTSTART;TZID=Europe/Dublin:20290115T090000
DTEND;TZID=Europe/Dublin:20290115T100000
DTSTAMP:20260425T162533
CREATED:20260127T153017Z
LAST-MODIFIED:20260127T153017Z
UID:10001079-1863162000-1863165600@terenureswimmingpool.ie
SUMMARY:Free Swim
DESCRIPTION:
URL:https://terenureswimmingpool.ie/timetable/free-swim/2029-01-15/
LOCATION:Terenure College Swimming Pool
END:VEVENT
BEGIN:VEVENT
DTSTART;TZID=Europe/Dublin:20290116T090000
DTEND;TZID=Europe/Dublin:20290116T100000
DTSTAMP:20260425T162533
CREATED:20260127T153017Z
LAST-MODIFIED:20260127T153017Z
UID:10001080-1863248400-1863252000@terenureswimmingpool.ie
SUMMARY:Free Swim
DESCRIPTION:
URL:https://terenureswimmingpool.ie/timetable/free-swim/2029-01-16/
LOCATION:Terenure College Swimming Pool
END:VEVENT
BEGIN:VEVENT
DTSTART;TZID=Europe/Dublin:20290117T090000
DTEND;TZID=Europe/Dublin:20290117T100000
DTSTAMP:20260425T162533
CREATED:20260127T153017Z
LAST-MODIFIED:20260127T153017Z
UID:10001081-1863334800-1863338400@terenureswimmingpool.ie
SUMMARY:Free Swim
DESCRIPTION:
URL:https://terenureswimmingpool.ie/timetable/free-swim/2029-01-17/
LOCATION:Terenure College Swimming Pool
END:VEVENT
BEGIN:VEVENT
DTSTART;TZID=Europe/Dublin:20290118T090000
DTEND;TZID=Europe/Dublin:20290118T100000
DTSTAMP:20260425T162533
CREATED:20260127T153017Z
LAST-MODIFIED:20260127T153017Z
UID:10001082-1863421200-1863424800@terenureswimmingpool.ie
SUMMARY:Free Swim
DESCRIPTION:
URL:https://terenureswimmingpool.ie/timetable/free-swim/2029-01-18/
LOCATION:Terenure College Swimming Pool
END:VEVENT
BEGIN:VEVENT
DTSTART;TZID=Europe/Dublin:20290119T090000
DTEND;TZID=Europe/Dublin:20290119T100000
DTSTAMP:20260425T162533
CREATED:20260127T153017Z
LAST-MODIFIED:20260127T153017Z
UID:10001083-1863507600-1863511200@terenureswimmingpool.ie
SUMMARY:Free Swim
DESCRIPTION:
URL:https://terenureswimmingpool.ie/timetable/free-swim/2029-01-19/
LOCATION:Terenure College Swimming Pool
END:VEVENT
BEGIN:VEVENT
DTSTART;TZID=Europe/Dublin:20290120T090000
DTEND;TZID=Europe/Dublin:20290120T100000
DTSTAMP:20260425T162533
CREATED:20260127T153017Z
LAST-MODIFIED:20260127T153017Z
UID:10001084-1863594000-1863597600@terenureswimmingpool.ie
SUMMARY:Free Swim
DESCRIPTION:
URL:https://terenureswimmingpool.ie/timetable/free-swim/2029-01-20/
LOCATION:Terenure College Swimming Pool
END:VEVENT
BEGIN:VEVENT
DTSTART;TZID=Europe/Dublin:20290121T090000
DTEND;TZID=Europe/Dublin:20290121T100000
DTSTAMP:20260425T162533
CREATED:20260127T153017Z
LAST-MODIFIED:20260127T153017Z
UID:10001085-1863680400-1863684000@terenureswimmingpool.ie
SUMMARY:Free Swim
DESCRIPTION:
URL:https://terenureswimmingpool.ie/timetable/free-swim/2029-01-21/
LOCATION:Terenure College Swimming Pool
END:VEVENT
END:VCALENDAR