BEGIN:VCALENDAR
VERSION:2.0
PRODID:-//Terenure Swimming Pool - ECPv6.15.20//NONSGML v1.0//EN
CALSCALE:GREGORIAN
METHOD:PUBLISH
X-ORIGINAL-URL:https://terenureswimmingpool.ie
X-WR-CALDESC:Events for Terenure Swimming Pool
REFRESH-INTERVAL;VALUE=DURATION:PT1H
X-Robots-Tag:noindex
X-PUBLISHED-TTL:PT1H
BEGIN:VTIMEZONE
TZID:Europe/Dublin
BEGIN:STANDARD
TZOFFSETFROM:+0000
TZOFFSETTO:+0100
TZNAME:IST
DTSTART:20280326T010000
END:STANDARD
BEGIN:DAYLIGHT
TZOFFSETFROM:+0100
TZOFFSETTO:+0000
TZNAME:GMT
DTSTART:20281029T010000
END:DAYLIGHT
BEGIN:STANDARD
TZOFFSETFROM:+0000
TZOFFSETTO:+0100
TZNAME:IST
DTSTART:20290325T010000
END:STANDARD
BEGIN:DAYLIGHT
TZOFFSETFROM:+0100
TZOFFSETTO:+0000
TZNAME:GMT
DTSTART:20291028T010000
END:DAYLIGHT
BEGIN:STANDARD
TZOFFSETFROM:+0000
TZOFFSETTO:+0100
TZNAME:IST
DTSTART:20300331T010000
END:STANDARD
BEGIN:DAYLIGHT
TZOFFSETFROM:+0100
TZOFFSETTO:+0000
TZNAME:GMT
DTSTART:20301027T010000
END:DAYLIGHT
END:VTIMEZONE
BEGIN:VEVENT
DTSTART;TZID=Europe/Dublin:20290205T090000
DTEND;TZID=Europe/Dublin:20290205T100000
DTSTAMP:20260425T163355
CREATED:20260127T153017Z
LAST-MODIFIED:20260127T153017Z
UID:10001100-1864976400-1864980000@terenureswimmingpool.ie
SUMMARY:Free Swim
DESCRIPTION:
URL:https://terenureswimmingpool.ie/timetable/free-swim/2029-02-05/
LOCATION:Terenure College Swimming Pool
END:VEVENT
BEGIN:VEVENT
DTSTART;TZID=Europe/Dublin:20290206T090000
DTEND;TZID=Europe/Dublin:20290206T100000
DTSTAMP:20260425T163355
CREATED:20260127T153017Z
LAST-MODIFIED:20260127T153017Z
UID:10001101-1865062800-1865066400@terenureswimmingpool.ie
SUMMARY:Free Swim
DESCRIPTION:
URL:https://terenureswimmingpool.ie/timetable/free-swim/2029-02-06/
LOCATION:Terenure College Swimming Pool
END:VEVENT
BEGIN:VEVENT
DTSTART;TZID=Europe/Dublin:20290207T090000
DTEND;TZID=Europe/Dublin:20290207T100000
DTSTAMP:20260425T163355
CREATED:20260127T153017Z
LAST-MODIFIED:20260127T153017Z
UID:10001102-1865149200-1865152800@terenureswimmingpool.ie
SUMMARY:Free Swim
DESCRIPTION:
URL:https://terenureswimmingpool.ie/timetable/free-swim/2029-02-07/
LOCATION:Terenure College Swimming Pool
END:VEVENT
BEGIN:VEVENT
DTSTART;TZID=Europe/Dublin:20290208T090000
DTEND;TZID=Europe/Dublin:20290208T100000
DTSTAMP:20260425T163355
CREATED:20260127T153017Z
LAST-MODIFIED:20260127T153017Z
UID:10001103-1865235600-1865239200@terenureswimmingpool.ie
SUMMARY:Free Swim
DESCRIPTION:
URL:https://terenureswimmingpool.ie/timetable/free-swim/2029-02-08/
LOCATION:Terenure College Swimming Pool
END:VEVENT
BEGIN:VEVENT
DTSTART;TZID=Europe/Dublin:20290209T090000
DTEND;TZID=Europe/Dublin:20290209T100000
DTSTAMP:20260425T163355
CREATED:20260127T153017Z
LAST-MODIFIED:20260127T153017Z
UID:10001104-1865322000-1865325600@terenureswimmingpool.ie
SUMMARY:Free Swim
DESCRIPTION:
URL:https://terenureswimmingpool.ie/timetable/free-swim/2029-02-09/
LOCATION:Terenure College Swimming Pool
END:VEVENT
BEGIN:VEVENT
DTSTART;TZID=Europe/Dublin:20290210T090000
DTEND;TZID=Europe/Dublin:20290210T100000
DTSTAMP:20260425T163355
CREATED:20260127T153017Z
LAST-MODIFIED:20260127T153017Z
UID:10001105-1865408400-1865412000@terenureswimmingpool.ie
SUMMARY:Free Swim
DESCRIPTION:
URL:https://terenureswimmingpool.ie/timetable/free-swim/2029-02-10/
LOCATION:Terenure College Swimming Pool
END:VEVENT
BEGIN:VEVENT
DTSTART;TZID=Europe/Dublin:20290211T090000
DTEND;TZID=Europe/Dublin:20290211T100000
DTSTAMP:20260425T163355
CREATED:20260127T153017Z
LAST-MODIFIED:20260127T153017Z
UID:10001106-1865494800-1865498400@terenureswimmingpool.ie
SUMMARY:Free Swim
DESCRIPTION:
URL:https://terenureswimmingpool.ie/timetable/free-swim/2029-02-11/
LOCATION:Terenure College Swimming Pool
END:VEVENT
END:VCALENDAR