BEGIN:VCALENDAR
VERSION:2.0
PRODID:-//Terenure Swimming Pool - ECPv6.15.20//NONSGML v1.0//EN
CALSCALE:GREGORIAN
METHOD:PUBLISH
X-WR-CALNAME:Terenure Swimming Pool
X-ORIGINAL-URL:https://terenureswimmingpool.ie
X-WR-CALDESC:Events for Terenure Swimming Pool
REFRESH-INTERVAL;VALUE=DURATION:PT1H
X-Robots-Tag:noindex
X-PUBLISHED-TTL:PT1H
BEGIN:VTIMEZONE
TZID:Europe/Dublin
BEGIN:STANDARD
TZOFFSETFROM:+0000
TZOFFSETTO:+0100
TZNAME:IST
DTSTART:20280326T010000
END:STANDARD
BEGIN:DAYLIGHT
TZOFFSETFROM:+0100
TZOFFSETTO:+0000
TZNAME:GMT
DTSTART:20281029T010000
END:DAYLIGHT
BEGIN:STANDARD
TZOFFSETFROM:+0000
TZOFFSETTO:+0100
TZNAME:IST
DTSTART:20290325T010000
END:STANDARD
BEGIN:DAYLIGHT
TZOFFSETFROM:+0100
TZOFFSETTO:+0000
TZNAME:GMT
DTSTART:20291028T010000
END:DAYLIGHT
BEGIN:STANDARD
TZOFFSETFROM:+0000
TZOFFSETTO:+0100
TZNAME:IST
DTSTART:20300331T010000
END:STANDARD
BEGIN:DAYLIGHT
TZOFFSETFROM:+0100
TZOFFSETTO:+0000
TZNAME:GMT
DTSTART:20301027T010000
END:DAYLIGHT
END:VTIMEZONE
BEGIN:VEVENT
DTSTART;TZID=Europe/Dublin:20290319T090000
DTEND;TZID=Europe/Dublin:20290319T100000
DTSTAMP:20260425T190135
CREATED:20260127T153017Z
LAST-MODIFIED:20260127T153017Z
UID:10001142-1868605200-1868608800@terenureswimmingpool.ie
SUMMARY:Free Swim
DESCRIPTION:
URL:https://terenureswimmingpool.ie/timetable/free-swim/2029-03-19/
LOCATION:Terenure College Swimming Pool
END:VEVENT
BEGIN:VEVENT
DTSTART;TZID=Europe/Dublin:20290320T090000
DTEND;TZID=Europe/Dublin:20290320T100000
DTSTAMP:20260425T190135
CREATED:20260127T153017Z
LAST-MODIFIED:20260127T153017Z
UID:10001143-1868691600-1868695200@terenureswimmingpool.ie
SUMMARY:Free Swim
DESCRIPTION:
URL:https://terenureswimmingpool.ie/timetable/free-swim/2029-03-20/
LOCATION:Terenure College Swimming Pool
END:VEVENT
BEGIN:VEVENT
DTSTART;TZID=Europe/Dublin:20290321T090000
DTEND;TZID=Europe/Dublin:20290321T100000
DTSTAMP:20260425T190135
CREATED:20260127T153017Z
LAST-MODIFIED:20260127T153017Z
UID:10001144-1868778000-1868781600@terenureswimmingpool.ie
SUMMARY:Free Swim
DESCRIPTION:
URL:https://terenureswimmingpool.ie/timetable/free-swim/2029-03-21/
LOCATION:Terenure College Swimming Pool
END:VEVENT
BEGIN:VEVENT
DTSTART;TZID=Europe/Dublin:20290322T090000
DTEND;TZID=Europe/Dublin:20290322T100000
DTSTAMP:20260425T190135
CREATED:20260127T153017Z
LAST-MODIFIED:20260127T153017Z
UID:10001145-1868864400-1868868000@terenureswimmingpool.ie
SUMMARY:Free Swim
DESCRIPTION:
URL:https://terenureswimmingpool.ie/timetable/free-swim/2029-03-22/
LOCATION:Terenure College Swimming Pool
END:VEVENT
BEGIN:VEVENT
DTSTART;TZID=Europe/Dublin:20290323T090000
DTEND;TZID=Europe/Dublin:20290323T100000
DTSTAMP:20260425T190135
CREATED:20260127T153017Z
LAST-MODIFIED:20260127T153017Z
UID:10001146-1868950800-1868954400@terenureswimmingpool.ie
SUMMARY:Free Swim
DESCRIPTION:
URL:https://terenureswimmingpool.ie/timetable/free-swim/2029-03-23/
LOCATION:Terenure College Swimming Pool
END:VEVENT
BEGIN:VEVENT
DTSTART;TZID=Europe/Dublin:20290324T090000
DTEND;TZID=Europe/Dublin:20290324T100000
DTSTAMP:20260425T190135
CREATED:20260127T153017Z
LAST-MODIFIED:20260127T153017Z
UID:10001147-1869037200-1869040800@terenureswimmingpool.ie
SUMMARY:Free Swim
DESCRIPTION:
URL:https://terenureswimmingpool.ie/timetable/free-swim/2029-03-24/
LOCATION:Terenure College Swimming Pool
END:VEVENT
BEGIN:VEVENT
DTSTART;TZID=Europe/Dublin:20290325T090000
DTEND;TZID=Europe/Dublin:20290325T100000
DTSTAMP:20260425T190135
CREATED:20260127T153017Z
LAST-MODIFIED:20260127T153017Z
UID:10001148-1869123600-1869127200@terenureswimmingpool.ie
SUMMARY:Free Swim
DESCRIPTION:
URL:https://terenureswimmingpool.ie/timetable/free-swim/2029-03-25/
LOCATION:Terenure College Swimming Pool
END:VEVENT
END:VCALENDAR