BEGIN:VCALENDAR
VERSION:2.0
PRODID:-//Terenure Swimming Pool - ECPv6.15.20//NONSGML v1.0//EN
CALSCALE:GREGORIAN
METHOD:PUBLISH
X-ORIGINAL-URL:https://terenureswimmingpool.ie
X-WR-CALDESC:Events for Terenure Swimming Pool
REFRESH-INTERVAL;VALUE=DURATION:PT1H
X-Robots-Tag:noindex
X-PUBLISHED-TTL:PT1H
BEGIN:VTIMEZONE
TZID:Europe/Dublin
BEGIN:STANDARD
TZOFFSETFROM:+0000
TZOFFSETTO:+0100
TZNAME:IST
DTSTART:20280326T010000
END:STANDARD
BEGIN:DAYLIGHT
TZOFFSETFROM:+0100
TZOFFSETTO:+0000
TZNAME:GMT
DTSTART:20281029T010000
END:DAYLIGHT
BEGIN:STANDARD
TZOFFSETFROM:+0000
TZOFFSETTO:+0100
TZNAME:IST
DTSTART:20290325T010000
END:STANDARD
BEGIN:DAYLIGHT
TZOFFSETFROM:+0100
TZOFFSETTO:+0000
TZNAME:GMT
DTSTART:20291028T010000
END:DAYLIGHT
BEGIN:STANDARD
TZOFFSETFROM:+0000
TZOFFSETTO:+0100
TZNAME:IST
DTSTART:20300331T010000
END:STANDARD
BEGIN:DAYLIGHT
TZOFFSETFROM:+0100
TZOFFSETTO:+0000
TZNAME:GMT
DTSTART:20301027T010000
END:DAYLIGHT
END:VTIMEZONE
BEGIN:VEVENT
DTSTART;TZID=Europe/Dublin:20290326T090000
DTEND;TZID=Europe/Dublin:20290326T100000
DTSTAMP:20260425T202510
CREATED:20260127T153017Z
LAST-MODIFIED:20260127T153017Z
UID:10001149-1869210000-1869213600@terenureswimmingpool.ie
SUMMARY:Free Swim
DESCRIPTION:
URL:https://terenureswimmingpool.ie/timetable/free-swim/2029-03-26/
LOCATION:Terenure College Swimming Pool
END:VEVENT
BEGIN:VEVENT
DTSTART;TZID=Europe/Dublin:20290327T090000
DTEND;TZID=Europe/Dublin:20290327T100000
DTSTAMP:20260425T202510
CREATED:20260127T153017Z
LAST-MODIFIED:20260127T153017Z
UID:10001150-1869296400-1869300000@terenureswimmingpool.ie
SUMMARY:Free Swim
DESCRIPTION:
URL:https://terenureswimmingpool.ie/timetable/free-swim/2029-03-27/
LOCATION:Terenure College Swimming Pool
END:VEVENT
BEGIN:VEVENT
DTSTART;TZID=Europe/Dublin:20290328T090000
DTEND;TZID=Europe/Dublin:20290328T100000
DTSTAMP:20260425T202510
CREATED:20260127T153017Z
LAST-MODIFIED:20260127T153017Z
UID:10001151-1869382800-1869386400@terenureswimmingpool.ie
SUMMARY:Free Swim
DESCRIPTION:
URL:https://terenureswimmingpool.ie/timetable/free-swim/2029-03-28/
LOCATION:Terenure College Swimming Pool
END:VEVENT
BEGIN:VEVENT
DTSTART;TZID=Europe/Dublin:20290329T090000
DTEND;TZID=Europe/Dublin:20290329T100000
DTSTAMP:20260425T202510
CREATED:20260127T153017Z
LAST-MODIFIED:20260127T153017Z
UID:10001152-1869469200-1869472800@terenureswimmingpool.ie
SUMMARY:Free Swim
DESCRIPTION:
URL:https://terenureswimmingpool.ie/timetable/free-swim/2029-03-29/
LOCATION:Terenure College Swimming Pool
END:VEVENT
BEGIN:VEVENT
DTSTART;TZID=Europe/Dublin:20290330T090000
DTEND;TZID=Europe/Dublin:20290330T100000
DTSTAMP:20260425T202510
CREATED:20260127T153017Z
LAST-MODIFIED:20260127T153017Z
UID:10001153-1869555600-1869559200@terenureswimmingpool.ie
SUMMARY:Free Swim
DESCRIPTION:
URL:https://terenureswimmingpool.ie/timetable/free-swim/2029-03-30/
LOCATION:Terenure College Swimming Pool
END:VEVENT
BEGIN:VEVENT
DTSTART;TZID=Europe/Dublin:20290331T090000
DTEND;TZID=Europe/Dublin:20290331T100000
DTSTAMP:20260425T202510
CREATED:20260127T153017Z
LAST-MODIFIED:20260127T153017Z
UID:10001154-1869642000-1869645600@terenureswimmingpool.ie
SUMMARY:Free Swim
DESCRIPTION:
URL:https://terenureswimmingpool.ie/timetable/free-swim/2029-03-31/
LOCATION:Terenure College Swimming Pool
END:VEVENT
BEGIN:VEVENT
DTSTART;TZID=Europe/Dublin:20290401T090000
DTEND;TZID=Europe/Dublin:20290401T100000
DTSTAMP:20260425T202510
CREATED:20260127T153017Z
LAST-MODIFIED:20260127T153017Z
UID:10001155-1869728400-1869732000@terenureswimmingpool.ie
SUMMARY:Free Swim
DESCRIPTION:
URL:https://terenureswimmingpool.ie/timetable/free-swim/2029-04-01/
LOCATION:Terenure College Swimming Pool
END:VEVENT
END:VCALENDAR