BEGIN:VCALENDAR
VERSION:2.0
PRODID:-//Terenure Swimming Pool - ECPv6.15.20//NONSGML v1.0//EN
CALSCALE:GREGORIAN
METHOD:PUBLISH
X-WR-CALNAME:Terenure Swimming Pool
X-ORIGINAL-URL:https://terenureswimmingpool.ie
X-WR-CALDESC:Events for Terenure Swimming Pool
REFRESH-INTERVAL;VALUE=DURATION:PT1H
X-Robots-Tag:noindex
X-PUBLISHED-TTL:PT1H
BEGIN:VTIMEZONE
TZID:Europe/Dublin
BEGIN:STANDARD
TZOFFSETFROM:+0000
TZOFFSETTO:+0100
TZNAME:IST
DTSTART:20280326T010000
END:STANDARD
BEGIN:DAYLIGHT
TZOFFSETFROM:+0100
TZOFFSETTO:+0000
TZNAME:GMT
DTSTART:20281029T010000
END:DAYLIGHT
BEGIN:STANDARD
TZOFFSETFROM:+0000
TZOFFSETTO:+0100
TZNAME:IST
DTSTART:20290325T010000
END:STANDARD
BEGIN:DAYLIGHT
TZOFFSETFROM:+0100
TZOFFSETTO:+0000
TZNAME:GMT
DTSTART:20291028T010000
END:DAYLIGHT
BEGIN:STANDARD
TZOFFSETFROM:+0000
TZOFFSETTO:+0100
TZNAME:IST
DTSTART:20300331T010000
END:STANDARD
BEGIN:DAYLIGHT
TZOFFSETFROM:+0100
TZOFFSETTO:+0000
TZNAME:GMT
DTSTART:20301027T010000
END:DAYLIGHT
END:VTIMEZONE
BEGIN:VEVENT
DTSTART;TZID=Europe/Dublin:20290423T090000
DTEND;TZID=Europe/Dublin:20290423T100000
DTSTAMP:20260425T225542
CREATED:20260127T153017Z
LAST-MODIFIED:20260127T153017Z
UID:10001177-1871629200-1871632800@terenureswimmingpool.ie
SUMMARY:Free Swim
DESCRIPTION:
URL:https://terenureswimmingpool.ie/timetable/free-swim/2029-04-23/
LOCATION:Terenure College Swimming Pool
END:VEVENT
BEGIN:VEVENT
DTSTART;TZID=Europe/Dublin:20290424T090000
DTEND;TZID=Europe/Dublin:20290424T100000
DTSTAMP:20260425T225542
CREATED:20260127T153017Z
LAST-MODIFIED:20260127T153017Z
UID:10001178-1871715600-1871719200@terenureswimmingpool.ie
SUMMARY:Free Swim
DESCRIPTION:
URL:https://terenureswimmingpool.ie/timetable/free-swim/2029-04-24/
LOCATION:Terenure College Swimming Pool
END:VEVENT
BEGIN:VEVENT
DTSTART;TZID=Europe/Dublin:20290425T090000
DTEND;TZID=Europe/Dublin:20290425T100000
DTSTAMP:20260425T225542
CREATED:20260127T153017Z
LAST-MODIFIED:20260127T153017Z
UID:10001179-1871802000-1871805600@terenureswimmingpool.ie
SUMMARY:Free Swim
DESCRIPTION:
URL:https://terenureswimmingpool.ie/timetable/free-swim/2029-04-25/
LOCATION:Terenure College Swimming Pool
END:VEVENT
BEGIN:VEVENT
DTSTART;TZID=Europe/Dublin:20290426T090000
DTEND;TZID=Europe/Dublin:20290426T100000
DTSTAMP:20260425T225542
CREATED:20260127T153017Z
LAST-MODIFIED:20260127T153017Z
UID:10001180-1871888400-1871892000@terenureswimmingpool.ie
SUMMARY:Free Swim
DESCRIPTION:
URL:https://terenureswimmingpool.ie/timetable/free-swim/2029-04-26/
LOCATION:Terenure College Swimming Pool
END:VEVENT
BEGIN:VEVENT
DTSTART;TZID=Europe/Dublin:20290427T090000
DTEND;TZID=Europe/Dublin:20290427T100000
DTSTAMP:20260425T225542
CREATED:20260127T153017Z
LAST-MODIFIED:20260127T153017Z
UID:10001181-1871974800-1871978400@terenureswimmingpool.ie
SUMMARY:Free Swim
DESCRIPTION:
URL:https://terenureswimmingpool.ie/timetable/free-swim/2029-04-27/
LOCATION:Terenure College Swimming Pool
END:VEVENT
BEGIN:VEVENT
DTSTART;TZID=Europe/Dublin:20290428T090000
DTEND;TZID=Europe/Dublin:20290428T100000
DTSTAMP:20260425T225542
CREATED:20260127T153017Z
LAST-MODIFIED:20260127T153017Z
UID:10001182-1872061200-1872064800@terenureswimmingpool.ie
SUMMARY:Free Swim
DESCRIPTION:
URL:https://terenureswimmingpool.ie/timetable/free-swim/2029-04-28/
LOCATION:Terenure College Swimming Pool
END:VEVENT
BEGIN:VEVENT
DTSTART;TZID=Europe/Dublin:20290429T090000
DTEND;TZID=Europe/Dublin:20290429T100000
DTSTAMP:20260425T225542
CREATED:20260127T153017Z
LAST-MODIFIED:20260127T153017Z
UID:10001183-1872147600-1872151200@terenureswimmingpool.ie
SUMMARY:Free Swim
DESCRIPTION:
URL:https://terenureswimmingpool.ie/timetable/free-swim/2029-04-29/
LOCATION:Terenure College Swimming Pool
END:VEVENT
END:VCALENDAR