BEGIN:VCALENDAR
VERSION:2.0
PRODID:-//Terenure Swimming Pool - ECPv6.15.20//NONSGML v1.0//EN
CALSCALE:GREGORIAN
METHOD:PUBLISH
X-ORIGINAL-URL:https://terenureswimmingpool.ie
X-WR-CALDESC:Events for Terenure Swimming Pool
REFRESH-INTERVAL;VALUE=DURATION:PT1H
X-Robots-Tag:noindex
X-PUBLISHED-TTL:PT1H
BEGIN:VTIMEZONE
TZID:Europe/Dublin
BEGIN:STANDARD
TZOFFSETFROM:+0000
TZOFFSETTO:+0100
TZNAME:IST
DTSTART:20280326T010000
END:STANDARD
BEGIN:DAYLIGHT
TZOFFSETFROM:+0100
TZOFFSETTO:+0000
TZNAME:GMT
DTSTART:20281029T010000
END:DAYLIGHT
BEGIN:STANDARD
TZOFFSETFROM:+0000
TZOFFSETTO:+0100
TZNAME:IST
DTSTART:20290325T010000
END:STANDARD
BEGIN:DAYLIGHT
TZOFFSETFROM:+0100
TZOFFSETTO:+0000
TZNAME:GMT
DTSTART:20291028T010000
END:DAYLIGHT
BEGIN:STANDARD
TZOFFSETFROM:+0000
TZOFFSETTO:+0100
TZNAME:IST
DTSTART:20300331T010000
END:STANDARD
BEGIN:DAYLIGHT
TZOFFSETFROM:+0100
TZOFFSETTO:+0000
TZNAME:GMT
DTSTART:20301027T010000
END:DAYLIGHT
END:VTIMEZONE
BEGIN:VEVENT
DTSTART;TZID=Europe/Dublin:20290430T090000
DTEND;TZID=Europe/Dublin:20290430T100000
DTSTAMP:20260426T001823
CREATED:20260127T153017Z
LAST-MODIFIED:20260127T153017Z
UID:10001184-1872234000-1872237600@terenureswimmingpool.ie
SUMMARY:Free Swim
DESCRIPTION:
URL:https://terenureswimmingpool.ie/timetable/free-swim/2029-04-30/
LOCATION:Terenure College Swimming Pool
END:VEVENT
BEGIN:VEVENT
DTSTART;TZID=Europe/Dublin:20290501T090000
DTEND;TZID=Europe/Dublin:20290501T100000
DTSTAMP:20260426T001823
CREATED:20260127T153017Z
LAST-MODIFIED:20260127T153017Z
UID:10001185-1872320400-1872324000@terenureswimmingpool.ie
SUMMARY:Free Swim
DESCRIPTION:
URL:https://terenureswimmingpool.ie/timetable/free-swim/2029-05-01/
LOCATION:Terenure College Swimming Pool
END:VEVENT
BEGIN:VEVENT
DTSTART;TZID=Europe/Dublin:20290502T090000
DTEND;TZID=Europe/Dublin:20290502T100000
DTSTAMP:20260426T001823
CREATED:20260127T153017Z
LAST-MODIFIED:20260127T153017Z
UID:10001186-1872406800-1872410400@terenureswimmingpool.ie
SUMMARY:Free Swim
DESCRIPTION:
URL:https://terenureswimmingpool.ie/timetable/free-swim/2029-05-02/
LOCATION:Terenure College Swimming Pool
END:VEVENT
BEGIN:VEVENT
DTSTART;TZID=Europe/Dublin:20290503T090000
DTEND;TZID=Europe/Dublin:20290503T100000
DTSTAMP:20260426T001823
CREATED:20260127T153017Z
LAST-MODIFIED:20260127T153017Z
UID:10001187-1872493200-1872496800@terenureswimmingpool.ie
SUMMARY:Free Swim
DESCRIPTION:
URL:https://terenureswimmingpool.ie/timetable/free-swim/2029-05-03/
LOCATION:Terenure College Swimming Pool
END:VEVENT
BEGIN:VEVENT
DTSTART;TZID=Europe/Dublin:20290504T090000
DTEND;TZID=Europe/Dublin:20290504T100000
DTSTAMP:20260426T001823
CREATED:20260127T153017Z
LAST-MODIFIED:20260127T153017Z
UID:10001188-1872579600-1872583200@terenureswimmingpool.ie
SUMMARY:Free Swim
DESCRIPTION:
URL:https://terenureswimmingpool.ie/timetable/free-swim/2029-05-04/
LOCATION:Terenure College Swimming Pool
END:VEVENT
BEGIN:VEVENT
DTSTART;TZID=Europe/Dublin:20290505T090000
DTEND;TZID=Europe/Dublin:20290505T100000
DTSTAMP:20260426T001823
CREATED:20260127T153017Z
LAST-MODIFIED:20260127T153017Z
UID:10001189-1872666000-1872669600@terenureswimmingpool.ie
SUMMARY:Free Swim
DESCRIPTION:
URL:https://terenureswimmingpool.ie/timetable/free-swim/2029-05-05/
LOCATION:Terenure College Swimming Pool
END:VEVENT
BEGIN:VEVENT
DTSTART;TZID=Europe/Dublin:20290506T090000
DTEND;TZID=Europe/Dublin:20290506T100000
DTSTAMP:20260426T001823
CREATED:20260127T153017Z
LAST-MODIFIED:20260127T153017Z
UID:10001190-1872752400-1872756000@terenureswimmingpool.ie
SUMMARY:Free Swim
DESCRIPTION:
URL:https://terenureswimmingpool.ie/timetable/free-swim/2029-05-06/
LOCATION:Terenure College Swimming Pool
END:VEVENT
END:VCALENDAR