BEGIN:VCALENDAR
VERSION:2.0
PRODID:-//Terenure Swimming Pool - ECPv6.15.20//NONSGML v1.0//EN
CALSCALE:GREGORIAN
METHOD:PUBLISH
X-WR-CALNAME:Terenure Swimming Pool
X-ORIGINAL-URL:https://terenureswimmingpool.ie
X-WR-CALDESC:Events for Terenure Swimming Pool
REFRESH-INTERVAL;VALUE=DURATION:PT1H
X-Robots-Tag:noindex
X-PUBLISHED-TTL:PT1H
BEGIN:VTIMEZONE
TZID:Europe/Dublin
BEGIN:STANDARD
TZOFFSETFROM:+0000
TZOFFSETTO:+0100
TZNAME:IST
DTSTART:20280326T010000
END:STANDARD
BEGIN:DAYLIGHT
TZOFFSETFROM:+0100
TZOFFSETTO:+0000
TZNAME:GMT
DTSTART:20281029T010000
END:DAYLIGHT
BEGIN:STANDARD
TZOFFSETFROM:+0000
TZOFFSETTO:+0100
TZNAME:IST
DTSTART:20290325T010000
END:STANDARD
BEGIN:DAYLIGHT
TZOFFSETFROM:+0100
TZOFFSETTO:+0000
TZNAME:GMT
DTSTART:20291028T010000
END:DAYLIGHT
BEGIN:STANDARD
TZOFFSETFROM:+0000
TZOFFSETTO:+0100
TZNAME:IST
DTSTART:20300331T010000
END:STANDARD
BEGIN:DAYLIGHT
TZOFFSETFROM:+0100
TZOFFSETTO:+0000
TZNAME:GMT
DTSTART:20301027T010000
END:DAYLIGHT
END:VTIMEZONE
BEGIN:VEVENT
DTSTART;TZID=Europe/Dublin:20290507T090000
DTEND;TZID=Europe/Dublin:20290507T100000
DTSTAMP:20260426T002345
CREATED:20260127T153017Z
LAST-MODIFIED:20260127T153017Z
UID:10001191-1872838800-1872842400@terenureswimmingpool.ie
SUMMARY:Free Swim
DESCRIPTION:
URL:https://terenureswimmingpool.ie/timetable/free-swim/2029-05-07/
LOCATION:Terenure College Swimming Pool
END:VEVENT
BEGIN:VEVENT
DTSTART;TZID=Europe/Dublin:20290508T090000
DTEND;TZID=Europe/Dublin:20290508T100000
DTSTAMP:20260426T002345
CREATED:20260127T153017Z
LAST-MODIFIED:20260127T153017Z
UID:10001192-1872925200-1872928800@terenureswimmingpool.ie
SUMMARY:Free Swim
DESCRIPTION:
URL:https://terenureswimmingpool.ie/timetable/free-swim/2029-05-08/
LOCATION:Terenure College Swimming Pool
END:VEVENT
BEGIN:VEVENT
DTSTART;TZID=Europe/Dublin:20290509T090000
DTEND;TZID=Europe/Dublin:20290509T100000
DTSTAMP:20260426T002345
CREATED:20260127T153017Z
LAST-MODIFIED:20260127T153017Z
UID:10001193-1873011600-1873015200@terenureswimmingpool.ie
SUMMARY:Free Swim
DESCRIPTION:
URL:https://terenureswimmingpool.ie/timetable/free-swim/2029-05-09/
LOCATION:Terenure College Swimming Pool
END:VEVENT
BEGIN:VEVENT
DTSTART;TZID=Europe/Dublin:20290510T090000
DTEND;TZID=Europe/Dublin:20290510T100000
DTSTAMP:20260426T002345
CREATED:20260127T153017Z
LAST-MODIFIED:20260127T153017Z
UID:10001194-1873098000-1873101600@terenureswimmingpool.ie
SUMMARY:Free Swim
DESCRIPTION:
URL:https://terenureswimmingpool.ie/timetable/free-swim/2029-05-10/
LOCATION:Terenure College Swimming Pool
END:VEVENT
BEGIN:VEVENT
DTSTART;TZID=Europe/Dublin:20290511T090000
DTEND;TZID=Europe/Dublin:20290511T100000
DTSTAMP:20260426T002345
CREATED:20260127T153017Z
LAST-MODIFIED:20260127T153017Z
UID:10001195-1873184400-1873188000@terenureswimmingpool.ie
SUMMARY:Free Swim
DESCRIPTION:
URL:https://terenureswimmingpool.ie/timetable/free-swim/2029-05-11/
LOCATION:Terenure College Swimming Pool
END:VEVENT
BEGIN:VEVENT
DTSTART;TZID=Europe/Dublin:20290512T090000
DTEND;TZID=Europe/Dublin:20290512T100000
DTSTAMP:20260426T002345
CREATED:20260127T153017Z
LAST-MODIFIED:20260127T153017Z
UID:10001196-1873270800-1873274400@terenureswimmingpool.ie
SUMMARY:Free Swim
DESCRIPTION:
URL:https://terenureswimmingpool.ie/timetable/free-swim/2029-05-12/
LOCATION:Terenure College Swimming Pool
END:VEVENT
BEGIN:VEVENT
DTSTART;TZID=Europe/Dublin:20290513T090000
DTEND;TZID=Europe/Dublin:20290513T100000
DTSTAMP:20260426T002345
CREATED:20260127T153017Z
LAST-MODIFIED:20260127T153017Z
UID:10001197-1873357200-1873360800@terenureswimmingpool.ie
SUMMARY:Free Swim
DESCRIPTION:
URL:https://terenureswimmingpool.ie/timetable/free-swim/2029-05-13/
LOCATION:Terenure College Swimming Pool
END:VEVENT
END:VCALENDAR