BEGIN:VCALENDAR
VERSION:2.0
PRODID:-//Terenure Swimming Pool - ECPv6.15.20//NONSGML v1.0//EN
CALSCALE:GREGORIAN
METHOD:PUBLISH
X-WR-CALNAME:Terenure Swimming Pool
X-ORIGINAL-URL:https://terenureswimmingpool.ie
X-WR-CALDESC:Events for Terenure Swimming Pool
REFRESH-INTERVAL;VALUE=DURATION:PT1H
X-Robots-Tag:noindex
X-PUBLISHED-TTL:PT1H
BEGIN:VTIMEZONE
TZID:Europe/Dublin
BEGIN:STANDARD
TZOFFSETFROM:+0000
TZOFFSETTO:+0100
TZNAME:IST
DTSTART:20280326T010000
END:STANDARD
BEGIN:DAYLIGHT
TZOFFSETFROM:+0100
TZOFFSETTO:+0000
TZNAME:GMT
DTSTART:20281029T010000
END:DAYLIGHT
BEGIN:STANDARD
TZOFFSETFROM:+0000
TZOFFSETTO:+0100
TZNAME:IST
DTSTART:20290325T010000
END:STANDARD
BEGIN:DAYLIGHT
TZOFFSETFROM:+0100
TZOFFSETTO:+0000
TZNAME:GMT
DTSTART:20291028T010000
END:DAYLIGHT
BEGIN:STANDARD
TZOFFSETFROM:+0000
TZOFFSETTO:+0100
TZNAME:IST
DTSTART:20300331T010000
END:STANDARD
BEGIN:DAYLIGHT
TZOFFSETFROM:+0100
TZOFFSETTO:+0000
TZNAME:GMT
DTSTART:20301027T010000
END:DAYLIGHT
END:VTIMEZONE
BEGIN:VEVENT
DTSTART;TZID=Europe/Dublin:20290514T090000
DTEND;TZID=Europe/Dublin:20290514T100000
DTSTAMP:20260425T225352
CREATED:20260127T153017Z
LAST-MODIFIED:20260127T153017Z
UID:10001198-1873443600-1873447200@terenureswimmingpool.ie
SUMMARY:Free Swim
DESCRIPTION:
URL:https://terenureswimmingpool.ie/timetable/free-swim/2029-05-14/
LOCATION:Terenure College Swimming Pool
END:VEVENT
BEGIN:VEVENT
DTSTART;TZID=Europe/Dublin:20290515T090000
DTEND;TZID=Europe/Dublin:20290515T100000
DTSTAMP:20260425T225352
CREATED:20260127T153017Z
LAST-MODIFIED:20260127T153017Z
UID:10001199-1873530000-1873533600@terenureswimmingpool.ie
SUMMARY:Free Swim
DESCRIPTION:
URL:https://terenureswimmingpool.ie/timetable/free-swim/2029-05-15/
LOCATION:Terenure College Swimming Pool
END:VEVENT
BEGIN:VEVENT
DTSTART;TZID=Europe/Dublin:20290516T090000
DTEND;TZID=Europe/Dublin:20290516T100000
DTSTAMP:20260425T225352
CREATED:20260127T153017Z
LAST-MODIFIED:20260127T153017Z
UID:10001200-1873616400-1873620000@terenureswimmingpool.ie
SUMMARY:Free Swim
DESCRIPTION:
URL:https://terenureswimmingpool.ie/timetable/free-swim/2029-05-16/
LOCATION:Terenure College Swimming Pool
END:VEVENT
BEGIN:VEVENT
DTSTART;TZID=Europe/Dublin:20290517T090000
DTEND;TZID=Europe/Dublin:20290517T100000
DTSTAMP:20260425T225352
CREATED:20260127T153017Z
LAST-MODIFIED:20260127T153017Z
UID:10001201-1873702800-1873706400@terenureswimmingpool.ie
SUMMARY:Free Swim
DESCRIPTION:
URL:https://terenureswimmingpool.ie/timetable/free-swim/2029-05-17/
LOCATION:Terenure College Swimming Pool
END:VEVENT
BEGIN:VEVENT
DTSTART;TZID=Europe/Dublin:20290518T090000
DTEND;TZID=Europe/Dublin:20290518T100000
DTSTAMP:20260425T225352
CREATED:20260127T153017Z
LAST-MODIFIED:20260127T153017Z
UID:10001202-1873789200-1873792800@terenureswimmingpool.ie
SUMMARY:Free Swim
DESCRIPTION:
URL:https://terenureswimmingpool.ie/timetable/free-swim/2029-05-18/
LOCATION:Terenure College Swimming Pool
END:VEVENT
BEGIN:VEVENT
DTSTART;TZID=Europe/Dublin:20290519T090000
DTEND;TZID=Europe/Dublin:20290519T100000
DTSTAMP:20260425T225352
CREATED:20260127T153017Z
LAST-MODIFIED:20260127T153017Z
UID:10001203-1873875600-1873879200@terenureswimmingpool.ie
SUMMARY:Free Swim
DESCRIPTION:
URL:https://terenureswimmingpool.ie/timetable/free-swim/2029-05-19/
LOCATION:Terenure College Swimming Pool
END:VEVENT
BEGIN:VEVENT
DTSTART;TZID=Europe/Dublin:20290520T090000
DTEND;TZID=Europe/Dublin:20290520T100000
DTSTAMP:20260425T225352
CREATED:20260127T153017Z
LAST-MODIFIED:20260127T153017Z
UID:10001204-1873962000-1873965600@terenureswimmingpool.ie
SUMMARY:Free Swim
DESCRIPTION:
URL:https://terenureswimmingpool.ie/timetable/free-swim/2029-05-20/
LOCATION:Terenure College Swimming Pool
END:VEVENT
END:VCALENDAR