BEGIN:VCALENDAR
VERSION:2.0
PRODID:-//Terenure Swimming Pool - ECPv6.15.20//NONSGML v1.0//EN
CALSCALE:GREGORIAN
METHOD:PUBLISH
X-WR-CALNAME:Terenure Swimming Pool
X-ORIGINAL-URL:https://terenureswimmingpool.ie
X-WR-CALDESC:Events for Terenure Swimming Pool
REFRESH-INTERVAL;VALUE=DURATION:PT1H
X-Robots-Tag:noindex
X-PUBLISHED-TTL:PT1H
BEGIN:VTIMEZONE
TZID:Europe/Dublin
BEGIN:STANDARD
TZOFFSETFROM:+0000
TZOFFSETTO:+0100
TZNAME:IST
DTSTART:20280326T010000
END:STANDARD
BEGIN:DAYLIGHT
TZOFFSETFROM:+0100
TZOFFSETTO:+0000
TZNAME:GMT
DTSTART:20281029T010000
END:DAYLIGHT
BEGIN:STANDARD
TZOFFSETFROM:+0000
TZOFFSETTO:+0100
TZNAME:IST
DTSTART:20290325T010000
END:STANDARD
BEGIN:DAYLIGHT
TZOFFSETFROM:+0100
TZOFFSETTO:+0000
TZNAME:GMT
DTSTART:20291028T010000
END:DAYLIGHT
BEGIN:STANDARD
TZOFFSETFROM:+0000
TZOFFSETTO:+0100
TZNAME:IST
DTSTART:20300331T010000
END:STANDARD
BEGIN:DAYLIGHT
TZOFFSETFROM:+0100
TZOFFSETTO:+0000
TZNAME:GMT
DTSTART:20301027T010000
END:DAYLIGHT
END:VTIMEZONE
BEGIN:VEVENT
DTSTART;TZID=Europe/Dublin:20290709T090000
DTEND;TZID=Europe/Dublin:20290709T100000
DTSTAMP:20260426T035352
CREATED:20260127T153017Z
LAST-MODIFIED:20260127T153017Z
UID:10001254-1878282000-1878285600@terenureswimmingpool.ie
SUMMARY:Free Swim
DESCRIPTION:
URL:https://terenureswimmingpool.ie/timetable/free-swim/2029-07-09/
LOCATION:Terenure College Swimming Pool
END:VEVENT
BEGIN:VEVENT
DTSTART;TZID=Europe/Dublin:20290710T090000
DTEND;TZID=Europe/Dublin:20290710T100000
DTSTAMP:20260426T035352
CREATED:20260127T153017Z
LAST-MODIFIED:20260127T153017Z
UID:10001255-1878368400-1878372000@terenureswimmingpool.ie
SUMMARY:Free Swim
DESCRIPTION:
URL:https://terenureswimmingpool.ie/timetable/free-swim/2029-07-10/
LOCATION:Terenure College Swimming Pool
END:VEVENT
BEGIN:VEVENT
DTSTART;TZID=Europe/Dublin:20290711T090000
DTEND;TZID=Europe/Dublin:20290711T100000
DTSTAMP:20260426T035352
CREATED:20260127T153017Z
LAST-MODIFIED:20260127T153017Z
UID:10001256-1878454800-1878458400@terenureswimmingpool.ie
SUMMARY:Free Swim
DESCRIPTION:
URL:https://terenureswimmingpool.ie/timetable/free-swim/2029-07-11/
LOCATION:Terenure College Swimming Pool
END:VEVENT
BEGIN:VEVENT
DTSTART;TZID=Europe/Dublin:20290712T090000
DTEND;TZID=Europe/Dublin:20290712T100000
DTSTAMP:20260426T035352
CREATED:20260127T153017Z
LAST-MODIFIED:20260127T153017Z
UID:10001257-1878541200-1878544800@terenureswimmingpool.ie
SUMMARY:Free Swim
DESCRIPTION:
URL:https://terenureswimmingpool.ie/timetable/free-swim/2029-07-12/
LOCATION:Terenure College Swimming Pool
END:VEVENT
BEGIN:VEVENT
DTSTART;TZID=Europe/Dublin:20290713T090000
DTEND;TZID=Europe/Dublin:20290713T100000
DTSTAMP:20260426T035352
CREATED:20260127T153017Z
LAST-MODIFIED:20260127T153017Z
UID:10001258-1878627600-1878631200@terenureswimmingpool.ie
SUMMARY:Free Swim
DESCRIPTION:
URL:https://terenureswimmingpool.ie/timetable/free-swim/2029-07-13/
LOCATION:Terenure College Swimming Pool
END:VEVENT
BEGIN:VEVENT
DTSTART;TZID=Europe/Dublin:20290714T090000
DTEND;TZID=Europe/Dublin:20290714T100000
DTSTAMP:20260426T035352
CREATED:20260127T153017Z
LAST-MODIFIED:20260127T153017Z
UID:10001259-1878714000-1878717600@terenureswimmingpool.ie
SUMMARY:Free Swim
DESCRIPTION:
URL:https://terenureswimmingpool.ie/timetable/free-swim/2029-07-14/
LOCATION:Terenure College Swimming Pool
END:VEVENT
BEGIN:VEVENT
DTSTART;TZID=Europe/Dublin:20290715T090000
DTEND;TZID=Europe/Dublin:20290715T100000
DTSTAMP:20260426T035352
CREATED:20260127T153017Z
LAST-MODIFIED:20260127T153017Z
UID:10001260-1878800400-1878804000@terenureswimmingpool.ie
SUMMARY:Free Swim
DESCRIPTION:
URL:https://terenureswimmingpool.ie/timetable/free-swim/2029-07-15/
LOCATION:Terenure College Swimming Pool
END:VEVENT
END:VCALENDAR