BEGIN:VCALENDAR
VERSION:2.0
PRODID:-//Terenure Swimming Pool - ECPv6.15.20//NONSGML v1.0//EN
CALSCALE:GREGORIAN
METHOD:PUBLISH
X-ORIGINAL-URL:https://terenureswimmingpool.ie
X-WR-CALDESC:Events for Terenure Swimming Pool
REFRESH-INTERVAL;VALUE=DURATION:PT1H
X-Robots-Tag:noindex
X-PUBLISHED-TTL:PT1H
BEGIN:VTIMEZONE
TZID:Europe/Dublin
BEGIN:STANDARD
TZOFFSETFROM:+0000
TZOFFSETTO:+0100
TZNAME:IST
DTSTART:20280326T010000
END:STANDARD
BEGIN:DAYLIGHT
TZOFFSETFROM:+0100
TZOFFSETTO:+0000
TZNAME:GMT
DTSTART:20281029T010000
END:DAYLIGHT
BEGIN:STANDARD
TZOFFSETFROM:+0000
TZOFFSETTO:+0100
TZNAME:IST
DTSTART:20290325T010000
END:STANDARD
BEGIN:DAYLIGHT
TZOFFSETFROM:+0100
TZOFFSETTO:+0000
TZNAME:GMT
DTSTART:20291028T010000
END:DAYLIGHT
BEGIN:STANDARD
TZOFFSETFROM:+0000
TZOFFSETTO:+0100
TZNAME:IST
DTSTART:20300331T010000
END:STANDARD
BEGIN:DAYLIGHT
TZOFFSETFROM:+0100
TZOFFSETTO:+0000
TZNAME:GMT
DTSTART:20301027T010000
END:DAYLIGHT
END:VTIMEZONE
BEGIN:VEVENT
DTSTART;TZID=Europe/Dublin:20290716T090000
DTEND;TZID=Europe/Dublin:20290716T100000
DTSTAMP:20260426T050436
CREATED:20260127T153017Z
LAST-MODIFIED:20260127T153017Z
UID:10001261-1878886800-1878890400@terenureswimmingpool.ie
SUMMARY:Free Swim
DESCRIPTION:
URL:https://terenureswimmingpool.ie/timetable/free-swim/2029-07-16/
LOCATION:Terenure College Swimming Pool
END:VEVENT
BEGIN:VEVENT
DTSTART;TZID=Europe/Dublin:20290717T090000
DTEND;TZID=Europe/Dublin:20290717T100000
DTSTAMP:20260426T050436
CREATED:20260127T153017Z
LAST-MODIFIED:20260127T153017Z
UID:10001262-1878973200-1878976800@terenureswimmingpool.ie
SUMMARY:Free Swim
DESCRIPTION:
URL:https://terenureswimmingpool.ie/timetable/free-swim/2029-07-17/
LOCATION:Terenure College Swimming Pool
END:VEVENT
BEGIN:VEVENT
DTSTART;TZID=Europe/Dublin:20290718T090000
DTEND;TZID=Europe/Dublin:20290718T100000
DTSTAMP:20260426T050436
CREATED:20260127T153017Z
LAST-MODIFIED:20260127T153017Z
UID:10001263-1879059600-1879063200@terenureswimmingpool.ie
SUMMARY:Free Swim
DESCRIPTION:
URL:https://terenureswimmingpool.ie/timetable/free-swim/2029-07-18/
LOCATION:Terenure College Swimming Pool
END:VEVENT
BEGIN:VEVENT
DTSTART;TZID=Europe/Dublin:20290719T090000
DTEND;TZID=Europe/Dublin:20290719T100000
DTSTAMP:20260426T050436
CREATED:20260127T153017Z
LAST-MODIFIED:20260127T153017Z
UID:10001264-1879146000-1879149600@terenureswimmingpool.ie
SUMMARY:Free Swim
DESCRIPTION:
URL:https://terenureswimmingpool.ie/timetable/free-swim/2029-07-19/
LOCATION:Terenure College Swimming Pool
END:VEVENT
BEGIN:VEVENT
DTSTART;TZID=Europe/Dublin:20290720T090000
DTEND;TZID=Europe/Dublin:20290720T100000
DTSTAMP:20260426T050436
CREATED:20260127T153017Z
LAST-MODIFIED:20260127T153017Z
UID:10001265-1879232400-1879236000@terenureswimmingpool.ie
SUMMARY:Free Swim
DESCRIPTION:
URL:https://terenureswimmingpool.ie/timetable/free-swim/2029-07-20/
LOCATION:Terenure College Swimming Pool
END:VEVENT
BEGIN:VEVENT
DTSTART;TZID=Europe/Dublin:20290721T090000
DTEND;TZID=Europe/Dublin:20290721T100000
DTSTAMP:20260426T050436
CREATED:20260127T153017Z
LAST-MODIFIED:20260127T153017Z
UID:10001266-1879318800-1879322400@terenureswimmingpool.ie
SUMMARY:Free Swim
DESCRIPTION:
URL:https://terenureswimmingpool.ie/timetable/free-swim/2029-07-21/
LOCATION:Terenure College Swimming Pool
END:VEVENT
BEGIN:VEVENT
DTSTART;TZID=Europe/Dublin:20290722T090000
DTEND;TZID=Europe/Dublin:20290722T100000
DTSTAMP:20260426T050436
CREATED:20260127T153017Z
LAST-MODIFIED:20260127T153017Z
UID:10001267-1879405200-1879408800@terenureswimmingpool.ie
SUMMARY:Free Swim
DESCRIPTION:
URL:https://terenureswimmingpool.ie/timetable/free-swim/2029-07-22/
LOCATION:Terenure College Swimming Pool
END:VEVENT
END:VCALENDAR