BEGIN:VCALENDAR
VERSION:2.0
PRODID:-//Terenure Swimming Pool - ECPv6.15.20//NONSGML v1.0//EN
CALSCALE:GREGORIAN
METHOD:PUBLISH
X-ORIGINAL-URL:https://terenureswimmingpool.ie
X-WR-CALDESC:Events for Terenure Swimming Pool
REFRESH-INTERVAL;VALUE=DURATION:PT1H
X-Robots-Tag:noindex
X-PUBLISHED-TTL:PT1H
BEGIN:VTIMEZONE
TZID:Europe/Dublin
BEGIN:STANDARD
TZOFFSETFROM:+0000
TZOFFSETTO:+0100
TZNAME:IST
DTSTART:20250330T010000
END:STANDARD
BEGIN:DAYLIGHT
TZOFFSETFROM:+0100
TZOFFSETTO:+0000
TZNAME:GMT
DTSTART:20251026T010000
END:DAYLIGHT
BEGIN:STANDARD
TZOFFSETFROM:+0000
TZOFFSETTO:+0100
TZNAME:IST
DTSTART:20260329T010000
END:STANDARD
BEGIN:DAYLIGHT
TZOFFSETFROM:+0100
TZOFFSETTO:+0000
TZNAME:GMT
DTSTART:20261025T010000
END:DAYLIGHT
BEGIN:STANDARD
TZOFFSETFROM:+0000
TZOFFSETTO:+0100
TZNAME:IST
DTSTART:20270328T010000
END:STANDARD
BEGIN:DAYLIGHT
TZOFFSETFROM:+0100
TZOFFSETTO:+0000
TZNAME:GMT
DTSTART:20271031T010000
END:DAYLIGHT
END:VTIMEZONE
BEGIN:VEVENT
DTSTART;TZID=Europe/Dublin:20261112T090000
DTEND;TZID=Europe/Dublin:20261112T100000
DTSTAMP:20260421T183048
CREATED:20260127T153017Z
LAST-MODIFIED:20260127T153017Z
UID:10000284-1794474000-1794477600@terenureswimmingpool.ie
SUMMARY:Free Swim
DESCRIPTION:
URL:https://terenureswimmingpool.ie/timetable/free-swim/2026-11-12/
LOCATION:Terenure College Swimming Pool
END:VEVENT
BEGIN:VEVENT
DTSTART;TZID=Europe/Dublin:20261113T090000
DTEND;TZID=Europe/Dublin:20261113T100000
DTSTAMP:20260421T183048
CREATED:20260127T153017Z
LAST-MODIFIED:20260127T153017Z
UID:10000285-1794560400-1794564000@terenureswimmingpool.ie
SUMMARY:Free Swim
DESCRIPTION:
URL:https://terenureswimmingpool.ie/timetable/free-swim/2026-11-13/
LOCATION:Terenure College Swimming Pool
END:VEVENT
BEGIN:VEVENT
DTSTART;TZID=Europe/Dublin:20261114T090000
DTEND;TZID=Europe/Dublin:20261114T100000
DTSTAMP:20260421T183048
CREATED:20260127T153017Z
LAST-MODIFIED:20260127T153017Z
UID:10000286-1794646800-1794650400@terenureswimmingpool.ie
SUMMARY:Free Swim
DESCRIPTION:
URL:https://terenureswimmingpool.ie/timetable/free-swim/2026-11-14/
LOCATION:Terenure College Swimming Pool
END:VEVENT
BEGIN:VEVENT
DTSTART;TZID=Europe/Dublin:20261115T090000
DTEND;TZID=Europe/Dublin:20261115T100000
DTSTAMP:20260421T183048
CREATED:20260127T153017Z
LAST-MODIFIED:20260127T153017Z
UID:10000287-1794733200-1794736800@terenureswimmingpool.ie
SUMMARY:Free Swim
DESCRIPTION:
URL:https://terenureswimmingpool.ie/timetable/free-swim/2026-11-15/
LOCATION:Terenure College Swimming Pool
END:VEVENT
BEGIN:VEVENT
DTSTART;TZID=Europe/Dublin:20261116T090000
DTEND;TZID=Europe/Dublin:20261116T100000
DTSTAMP:20260421T183048
CREATED:20260127T153017Z
LAST-MODIFIED:20260127T153017Z
UID:10000288-1794819600-1794823200@terenureswimmingpool.ie
SUMMARY:Free Swim
DESCRIPTION:
URL:https://terenureswimmingpool.ie/timetable/free-swim/2026-11-16/
LOCATION:Terenure College Swimming Pool
END:VEVENT
BEGIN:VEVENT
DTSTART;TZID=Europe/Dublin:20261117T090000
DTEND;TZID=Europe/Dublin:20261117T100000
DTSTAMP:20260421T183048
CREATED:20260127T153017Z
LAST-MODIFIED:20260127T153017Z
UID:10000289-1794906000-1794909600@terenureswimmingpool.ie
SUMMARY:Free Swim
DESCRIPTION:
URL:https://terenureswimmingpool.ie/timetable/free-swim/2026-11-17/
LOCATION:Terenure College Swimming Pool
END:VEVENT
BEGIN:VEVENT
DTSTART;TZID=Europe/Dublin:20261118T090000
DTEND;TZID=Europe/Dublin:20261118T100000
DTSTAMP:20260421T183048
CREATED:20260127T153017Z
LAST-MODIFIED:20260127T153017Z
UID:10000290-1794992400-1794996000@terenureswimmingpool.ie
SUMMARY:Free Swim
DESCRIPTION:
URL:https://terenureswimmingpool.ie/timetable/free-swim/2026-11-18/
LOCATION:Terenure College Swimming Pool
END:VEVENT
BEGIN:VEVENT
DTSTART;TZID=Europe/Dublin:20261119T090000
DTEND;TZID=Europe/Dublin:20261119T100000
DTSTAMP:20260421T183048
CREATED:20260127T153017Z
LAST-MODIFIED:20260127T153017Z
UID:10000291-1795078800-1795082400@terenureswimmingpool.ie
SUMMARY:Free Swim
DESCRIPTION:
URL:https://terenureswimmingpool.ie/timetable/free-swim/2026-11-19/
LOCATION:Terenure College Swimming Pool
END:VEVENT
BEGIN:VEVENT
DTSTART;TZID=Europe/Dublin:20261120T090000
DTEND;TZID=Europe/Dublin:20261120T100000
DTSTAMP:20260421T183048
CREATED:20260127T153017Z
LAST-MODIFIED:20260127T153017Z
UID:10000292-1795165200-1795168800@terenureswimmingpool.ie
SUMMARY:Free Swim
DESCRIPTION:
URL:https://terenureswimmingpool.ie/timetable/free-swim/2026-11-20/
LOCATION:Terenure College Swimming Pool
END:VEVENT
BEGIN:VEVENT
DTSTART;TZID=Europe/Dublin:20261121T090000
DTEND;TZID=Europe/Dublin:20261121T100000
DTSTAMP:20260421T183048
CREATED:20260127T153017Z
LAST-MODIFIED:20260127T153017Z
UID:10000293-1795251600-1795255200@terenureswimmingpool.ie
SUMMARY:Free Swim
DESCRIPTION:
URL:https://terenureswimmingpool.ie/timetable/free-swim/2026-11-21/
LOCATION:Terenure College Swimming Pool
END:VEVENT
BEGIN:VEVENT
DTSTART;TZID=Europe/Dublin:20261122T090000
DTEND;TZID=Europe/Dublin:20261122T100000
DTSTAMP:20260421T183048
CREATED:20260127T153017Z
LAST-MODIFIED:20260127T153017Z
UID:10000294-1795338000-1795341600@terenureswimmingpool.ie
SUMMARY:Free Swim
DESCRIPTION:
URL:https://terenureswimmingpool.ie/timetable/free-swim/2026-11-22/
LOCATION:Terenure College Swimming Pool
END:VEVENT
BEGIN:VEVENT
DTSTART;TZID=Europe/Dublin:20261123T090000
DTEND;TZID=Europe/Dublin:20261123T100000
DTSTAMP:20260421T183048
CREATED:20260127T153017Z
LAST-MODIFIED:20260127T153017Z
UID:10000295-1795424400-1795428000@terenureswimmingpool.ie
SUMMARY:Free Swim
DESCRIPTION:
URL:https://terenureswimmingpool.ie/timetable/free-swim/2026-11-23/
LOCATION:Terenure College Swimming Pool
END:VEVENT
BEGIN:VEVENT
DTSTART;TZID=Europe/Dublin:20261124T090000
DTEND;TZID=Europe/Dublin:20261124T100000
DTSTAMP:20260421T183048
CREATED:20260127T153017Z
LAST-MODIFIED:20260127T153017Z
UID:10000296-1795510800-1795514400@terenureswimmingpool.ie
SUMMARY:Free Swim
DESCRIPTION:
URL:https://terenureswimmingpool.ie/timetable/free-swim/2026-11-24/
LOCATION:Terenure College Swimming Pool
END:VEVENT
BEGIN:VEVENT
DTSTART;TZID=Europe/Dublin:20261125T090000
DTEND;TZID=Europe/Dublin:20261125T100000
DTSTAMP:20260421T183048
CREATED:20260127T153017Z
LAST-MODIFIED:20260127T153017Z
UID:10000297-1795597200-1795600800@terenureswimmingpool.ie
SUMMARY:Free Swim
DESCRIPTION:
URL:https://terenureswimmingpool.ie/timetable/free-swim/2026-11-25/
LOCATION:Terenure College Swimming Pool
END:VEVENT
BEGIN:VEVENT
DTSTART;TZID=Europe/Dublin:20261126T090000
DTEND;TZID=Europe/Dublin:20261126T100000
DTSTAMP:20260421T183048
CREATED:20260127T153017Z
LAST-MODIFIED:20260127T153017Z
UID:10000298-1795683600-1795687200@terenureswimmingpool.ie
SUMMARY:Free Swim
DESCRIPTION:
URL:https://terenureswimmingpool.ie/timetable/free-swim/2026-11-26/
LOCATION:Terenure College Swimming Pool
END:VEVENT
BEGIN:VEVENT
DTSTART;TZID=Europe/Dublin:20261127T090000
DTEND;TZID=Europe/Dublin:20261127T100000
DTSTAMP:20260421T183048
CREATED:20260127T153017Z
LAST-MODIFIED:20260127T153017Z
UID:10000299-1795770000-1795773600@terenureswimmingpool.ie
SUMMARY:Free Swim
DESCRIPTION:
URL:https://terenureswimmingpool.ie/timetable/free-swim/2026-11-27/
LOCATION:Terenure College Swimming Pool
END:VEVENT
BEGIN:VEVENT
DTSTART;TZID=Europe/Dublin:20261128T090000
DTEND;TZID=Europe/Dublin:20261128T100000
DTSTAMP:20260421T183048
CREATED:20260127T153017Z
LAST-MODIFIED:20260127T153017Z
UID:10000300-1795856400-1795860000@terenureswimmingpool.ie
SUMMARY:Free Swim
DESCRIPTION:
URL:https://terenureswimmingpool.ie/timetable/free-swim/2026-11-28/
LOCATION:Terenure College Swimming Pool
END:VEVENT
BEGIN:VEVENT
DTSTART;TZID=Europe/Dublin:20261129T090000
DTEND;TZID=Europe/Dublin:20261129T100000
DTSTAMP:20260421T183048
CREATED:20260127T153017Z
LAST-MODIFIED:20260127T153017Z
UID:10000301-1795942800-1795946400@terenureswimmingpool.ie
SUMMARY:Free Swim
DESCRIPTION:
URL:https://terenureswimmingpool.ie/timetable/free-swim/2026-11-29/
LOCATION:Terenure College Swimming Pool
END:VEVENT
BEGIN:VEVENT
DTSTART;TZID=Europe/Dublin:20261130T090000
DTEND;TZID=Europe/Dublin:20261130T100000
DTSTAMP:20260421T183048
CREATED:20260127T153017Z
LAST-MODIFIED:20260127T153017Z
UID:10000302-1796029200-1796032800@terenureswimmingpool.ie
SUMMARY:Free Swim
DESCRIPTION:
URL:https://terenureswimmingpool.ie/timetable/free-swim/2026-11-30/
LOCATION:Terenure College Swimming Pool
END:VEVENT
BEGIN:VEVENT
DTSTART;TZID=Europe/Dublin:20261201T090000
DTEND;TZID=Europe/Dublin:20261201T100000
DTSTAMP:20260421T183048
CREATED:20260127T153017Z
LAST-MODIFIED:20260127T153017Z
UID:10000303-1796115600-1796119200@terenureswimmingpool.ie
SUMMARY:Free Swim
DESCRIPTION:
URL:https://terenureswimmingpool.ie/timetable/free-swim/2026-12-01/
LOCATION:Terenure College Swimming Pool
END:VEVENT
BEGIN:VEVENT
DTSTART;TZID=Europe/Dublin:20261202T090000
DTEND;TZID=Europe/Dublin:20261202T100000
DTSTAMP:20260421T183048
CREATED:20260127T153017Z
LAST-MODIFIED:20260127T153017Z
UID:10000304-1796202000-1796205600@terenureswimmingpool.ie
SUMMARY:Free Swim
DESCRIPTION:
URL:https://terenureswimmingpool.ie/timetable/free-swim/2026-12-02/
LOCATION:Terenure College Swimming Pool
END:VEVENT
BEGIN:VEVENT
DTSTART;TZID=Europe/Dublin:20261203T090000
DTEND;TZID=Europe/Dublin:20261203T100000
DTSTAMP:20260421T183048
CREATED:20260127T153017Z
LAST-MODIFIED:20260127T153017Z
UID:10000305-1796288400-1796292000@terenureswimmingpool.ie
SUMMARY:Free Swim
DESCRIPTION:
URL:https://terenureswimmingpool.ie/timetable/free-swim/2026-12-03/
LOCATION:Terenure College Swimming Pool
END:VEVENT
BEGIN:VEVENT
DTSTART;TZID=Europe/Dublin:20261204T090000
DTEND;TZID=Europe/Dublin:20261204T100000
DTSTAMP:20260421T183048
CREATED:20260127T153017Z
LAST-MODIFIED:20260127T153017Z
UID:10000306-1796374800-1796378400@terenureswimmingpool.ie
SUMMARY:Free Swim
DESCRIPTION:
URL:https://terenureswimmingpool.ie/timetable/free-swim/2026-12-04/
LOCATION:Terenure College Swimming Pool
END:VEVENT
BEGIN:VEVENT
DTSTART;TZID=Europe/Dublin:20261205T090000
DTEND;TZID=Europe/Dublin:20261205T100000
DTSTAMP:20260421T183048
CREATED:20260127T153017Z
LAST-MODIFIED:20260127T153017Z
UID:10000307-1796461200-1796464800@terenureswimmingpool.ie
SUMMARY:Free Swim
DESCRIPTION:
URL:https://terenureswimmingpool.ie/timetable/free-swim/2026-12-05/
LOCATION:Terenure College Swimming Pool
END:VEVENT
BEGIN:VEVENT
DTSTART;TZID=Europe/Dublin:20261206T090000
DTEND;TZID=Europe/Dublin:20261206T100000
DTSTAMP:20260421T183048
CREATED:20260127T153017Z
LAST-MODIFIED:20260127T153017Z
UID:10000308-1796547600-1796551200@terenureswimmingpool.ie
SUMMARY:Free Swim
DESCRIPTION:
URL:https://terenureswimmingpool.ie/timetable/free-swim/2026-12-06/
LOCATION:Terenure College Swimming Pool
END:VEVENT
BEGIN:VEVENT
DTSTART;TZID=Europe/Dublin:20261207T090000
DTEND;TZID=Europe/Dublin:20261207T100000
DTSTAMP:20260421T183048
CREATED:20260127T153017Z
LAST-MODIFIED:20260127T153017Z
UID:10000309-1796634000-1796637600@terenureswimmingpool.ie
SUMMARY:Free Swim
DESCRIPTION:
URL:https://terenureswimmingpool.ie/timetable/free-swim/2026-12-07/
LOCATION:Terenure College Swimming Pool
END:VEVENT
BEGIN:VEVENT
DTSTART;TZID=Europe/Dublin:20261208T090000
DTEND;TZID=Europe/Dublin:20261208T100000
DTSTAMP:20260421T183048
CREATED:20260127T153017Z
LAST-MODIFIED:20260127T153017Z
UID:10000310-1796720400-1796724000@terenureswimmingpool.ie
SUMMARY:Free Swim
DESCRIPTION:
URL:https://terenureswimmingpool.ie/timetable/free-swim/2026-12-08/
LOCATION:Terenure College Swimming Pool
END:VEVENT
BEGIN:VEVENT
DTSTART;TZID=Europe/Dublin:20261209T090000
DTEND;TZID=Europe/Dublin:20261209T100000
DTSTAMP:20260421T183048
CREATED:20260127T153017Z
LAST-MODIFIED:20260127T153017Z
UID:10000311-1796806800-1796810400@terenureswimmingpool.ie
SUMMARY:Free Swim
DESCRIPTION:
URL:https://terenureswimmingpool.ie/timetable/free-swim/2026-12-09/
LOCATION:Terenure College Swimming Pool
END:VEVENT
BEGIN:VEVENT
DTSTART;TZID=Europe/Dublin:20261210T090000
DTEND;TZID=Europe/Dublin:20261210T100000
DTSTAMP:20260421T183048
CREATED:20260127T153017Z
LAST-MODIFIED:20260127T153017Z
UID:10000312-1796893200-1796896800@terenureswimmingpool.ie
SUMMARY:Free Swim
DESCRIPTION:
URL:https://terenureswimmingpool.ie/timetable/free-swim/2026-12-10/
LOCATION:Terenure College Swimming Pool
END:VEVENT
BEGIN:VEVENT
DTSTART;TZID=Europe/Dublin:20261211T090000
DTEND;TZID=Europe/Dublin:20261211T100000
DTSTAMP:20260421T183048
CREATED:20260127T153017Z
LAST-MODIFIED:20260127T153017Z
UID:10000313-1796979600-1796983200@terenureswimmingpool.ie
SUMMARY:Free Swim
DESCRIPTION:
URL:https://terenureswimmingpool.ie/timetable/free-swim/2026-12-11/
LOCATION:Terenure College Swimming Pool
END:VEVENT
END:VCALENDAR