BEGIN:VCALENDAR
VERSION:2.0
PRODID:-//Terenure Swimming Pool - ECPv6.15.20//NONSGML v1.0//EN
CALSCALE:GREGORIAN
METHOD:PUBLISH
X-ORIGINAL-URL:https://terenureswimmingpool.ie
X-WR-CALDESC:Events for Terenure Swimming Pool
REFRESH-INTERVAL;VALUE=DURATION:PT1H
X-Robots-Tag:noindex
X-PUBLISHED-TTL:PT1H
BEGIN:VTIMEZONE
TZID:Europe/Dublin
BEGIN:STANDARD
TZOFFSETFROM:+0000
TZOFFSETTO:+0100
TZNAME:IST
DTSTART:20260329T010000
END:STANDARD
BEGIN:DAYLIGHT
TZOFFSETFROM:+0100
TZOFFSETTO:+0000
TZNAME:GMT
DTSTART:20261025T010000
END:DAYLIGHT
BEGIN:STANDARD
TZOFFSETFROM:+0000
TZOFFSETTO:+0100
TZNAME:IST
DTSTART:20270328T010000
END:STANDARD
BEGIN:DAYLIGHT
TZOFFSETFROM:+0100
TZOFFSETTO:+0000
TZNAME:GMT
DTSTART:20271031T010000
END:DAYLIGHT
BEGIN:STANDARD
TZOFFSETFROM:+0000
TZOFFSETTO:+0100
TZNAME:IST
DTSTART:20280326T010000
END:STANDARD
BEGIN:DAYLIGHT
TZOFFSETFROM:+0100
TZOFFSETTO:+0000
TZNAME:GMT
DTSTART:20281029T010000
END:DAYLIGHT
END:VTIMEZONE
BEGIN:VEVENT
DTSTART;TZID=Europe/Dublin:20270312T090000
DTEND;TZID=Europe/Dublin:20270312T100000
DTSTAMP:20260422T084559
CREATED:20260127T153017Z
LAST-MODIFIED:20260127T153017Z
UID:10000404-1804842000-1804845600@terenureswimmingpool.ie
SUMMARY:Free Swim
DESCRIPTION:
URL:https://terenureswimmingpool.ie/timetable/free-swim/2027-03-12/
LOCATION:Terenure College Swimming Pool
END:VEVENT
BEGIN:VEVENT
DTSTART;TZID=Europe/Dublin:20270313T090000
DTEND;TZID=Europe/Dublin:20270313T100000
DTSTAMP:20260422T084559
CREATED:20260127T153017Z
LAST-MODIFIED:20260127T153017Z
UID:10000405-1804928400-1804932000@terenureswimmingpool.ie
SUMMARY:Free Swim
DESCRIPTION:
URL:https://terenureswimmingpool.ie/timetable/free-swim/2027-03-13/
LOCATION:Terenure College Swimming Pool
END:VEVENT
BEGIN:VEVENT
DTSTART;TZID=Europe/Dublin:20270314T090000
DTEND;TZID=Europe/Dublin:20270314T100000
DTSTAMP:20260422T084559
CREATED:20260127T153017Z
LAST-MODIFIED:20260127T153017Z
UID:10000406-1805014800-1805018400@terenureswimmingpool.ie
SUMMARY:Free Swim
DESCRIPTION:
URL:https://terenureswimmingpool.ie/timetable/free-swim/2027-03-14/
LOCATION:Terenure College Swimming Pool
END:VEVENT
BEGIN:VEVENT
DTSTART;TZID=Europe/Dublin:20270315T090000
DTEND;TZID=Europe/Dublin:20270315T100000
DTSTAMP:20260422T084559
CREATED:20260127T153017Z
LAST-MODIFIED:20260127T153017Z
UID:10000407-1805101200-1805104800@terenureswimmingpool.ie
SUMMARY:Free Swim
DESCRIPTION:
URL:https://terenureswimmingpool.ie/timetable/free-swim/2027-03-15/
LOCATION:Terenure College Swimming Pool
END:VEVENT
BEGIN:VEVENT
DTSTART;TZID=Europe/Dublin:20270316T090000
DTEND;TZID=Europe/Dublin:20270316T100000
DTSTAMP:20260422T084559
CREATED:20260127T153017Z
LAST-MODIFIED:20260127T153017Z
UID:10000408-1805187600-1805191200@terenureswimmingpool.ie
SUMMARY:Free Swim
DESCRIPTION:
URL:https://terenureswimmingpool.ie/timetable/free-swim/2027-03-16/
LOCATION:Terenure College Swimming Pool
END:VEVENT
BEGIN:VEVENT
DTSTART;TZID=Europe/Dublin:20270317T090000
DTEND;TZID=Europe/Dublin:20270317T100000
DTSTAMP:20260422T084559
CREATED:20260127T153017Z
LAST-MODIFIED:20260127T153017Z
UID:10000409-1805274000-1805277600@terenureswimmingpool.ie
SUMMARY:Free Swim
DESCRIPTION:
URL:https://terenureswimmingpool.ie/timetable/free-swim/2027-03-17/
LOCATION:Terenure College Swimming Pool
END:VEVENT
BEGIN:VEVENT
DTSTART;TZID=Europe/Dublin:20270318T090000
DTEND;TZID=Europe/Dublin:20270318T100000
DTSTAMP:20260422T084559
CREATED:20260127T153017Z
LAST-MODIFIED:20260127T153017Z
UID:10000410-1805360400-1805364000@terenureswimmingpool.ie
SUMMARY:Free Swim
DESCRIPTION:
URL:https://terenureswimmingpool.ie/timetable/free-swim/2027-03-18/
LOCATION:Terenure College Swimming Pool
END:VEVENT
BEGIN:VEVENT
DTSTART;TZID=Europe/Dublin:20270319T090000
DTEND;TZID=Europe/Dublin:20270319T100000
DTSTAMP:20260422T084559
CREATED:20260127T153017Z
LAST-MODIFIED:20260127T153017Z
UID:10000411-1805446800-1805450400@terenureswimmingpool.ie
SUMMARY:Free Swim
DESCRIPTION:
URL:https://terenureswimmingpool.ie/timetable/free-swim/2027-03-19/
LOCATION:Terenure College Swimming Pool
END:VEVENT
BEGIN:VEVENT
DTSTART;TZID=Europe/Dublin:20270320T090000
DTEND;TZID=Europe/Dublin:20270320T100000
DTSTAMP:20260422T084559
CREATED:20260127T153017Z
LAST-MODIFIED:20260127T153017Z
UID:10000412-1805533200-1805536800@terenureswimmingpool.ie
SUMMARY:Free Swim
DESCRIPTION:
URL:https://terenureswimmingpool.ie/timetable/free-swim/2027-03-20/
LOCATION:Terenure College Swimming Pool
END:VEVENT
BEGIN:VEVENT
DTSTART;TZID=Europe/Dublin:20270321T090000
DTEND;TZID=Europe/Dublin:20270321T100000
DTSTAMP:20260422T084559
CREATED:20260127T153017Z
LAST-MODIFIED:20260127T153017Z
UID:10000413-1805619600-1805623200@terenureswimmingpool.ie
SUMMARY:Free Swim
DESCRIPTION:
URL:https://terenureswimmingpool.ie/timetable/free-swim/2027-03-21/
LOCATION:Terenure College Swimming Pool
END:VEVENT
BEGIN:VEVENT
DTSTART;TZID=Europe/Dublin:20270322T090000
DTEND;TZID=Europe/Dublin:20270322T100000
DTSTAMP:20260422T084559
CREATED:20260127T153017Z
LAST-MODIFIED:20260127T153017Z
UID:10000414-1805706000-1805709600@terenureswimmingpool.ie
SUMMARY:Free Swim
DESCRIPTION:
URL:https://terenureswimmingpool.ie/timetable/free-swim/2027-03-22/
LOCATION:Terenure College Swimming Pool
END:VEVENT
BEGIN:VEVENT
DTSTART;TZID=Europe/Dublin:20270323T090000
DTEND;TZID=Europe/Dublin:20270323T100000
DTSTAMP:20260422T084559
CREATED:20260127T153017Z
LAST-MODIFIED:20260127T153017Z
UID:10000415-1805792400-1805796000@terenureswimmingpool.ie
SUMMARY:Free Swim
DESCRIPTION:
URL:https://terenureswimmingpool.ie/timetable/free-swim/2027-03-23/
LOCATION:Terenure College Swimming Pool
END:VEVENT
BEGIN:VEVENT
DTSTART;TZID=Europe/Dublin:20270324T090000
DTEND;TZID=Europe/Dublin:20270324T100000
DTSTAMP:20260422T084559
CREATED:20260127T153017Z
LAST-MODIFIED:20260127T153017Z
UID:10000416-1805878800-1805882400@terenureswimmingpool.ie
SUMMARY:Free Swim
DESCRIPTION:
URL:https://terenureswimmingpool.ie/timetable/free-swim/2027-03-24/
LOCATION:Terenure College Swimming Pool
END:VEVENT
BEGIN:VEVENT
DTSTART;TZID=Europe/Dublin:20270325T090000
DTEND;TZID=Europe/Dublin:20270325T100000
DTSTAMP:20260422T084559
CREATED:20260127T153017Z
LAST-MODIFIED:20260127T153017Z
UID:10000417-1805965200-1805968800@terenureswimmingpool.ie
SUMMARY:Free Swim
DESCRIPTION:
URL:https://terenureswimmingpool.ie/timetable/free-swim/2027-03-25/
LOCATION:Terenure College Swimming Pool
END:VEVENT
BEGIN:VEVENT
DTSTART;TZID=Europe/Dublin:20270326T090000
DTEND;TZID=Europe/Dublin:20270326T100000
DTSTAMP:20260422T084559
CREATED:20260127T153017Z
LAST-MODIFIED:20260127T153017Z
UID:10000418-1806051600-1806055200@terenureswimmingpool.ie
SUMMARY:Free Swim
DESCRIPTION:
URL:https://terenureswimmingpool.ie/timetable/free-swim/2027-03-26/
LOCATION:Terenure College Swimming Pool
END:VEVENT
BEGIN:VEVENT
DTSTART;TZID=Europe/Dublin:20270327T090000
DTEND;TZID=Europe/Dublin:20270327T100000
DTSTAMP:20260422T084559
CREATED:20260127T153017Z
LAST-MODIFIED:20260127T153017Z
UID:10000419-1806138000-1806141600@terenureswimmingpool.ie
SUMMARY:Free Swim
DESCRIPTION:
URL:https://terenureswimmingpool.ie/timetable/free-swim/2027-03-27/
LOCATION:Terenure College Swimming Pool
END:VEVENT
BEGIN:VEVENT
DTSTART;TZID=Europe/Dublin:20270328T090000
DTEND;TZID=Europe/Dublin:20270328T100000
DTSTAMP:20260422T084559
CREATED:20260127T153017Z
LAST-MODIFIED:20260127T153017Z
UID:10000420-1806224400-1806228000@terenureswimmingpool.ie
SUMMARY:Free Swim
DESCRIPTION:
URL:https://terenureswimmingpool.ie/timetable/free-swim/2027-03-28/
LOCATION:Terenure College Swimming Pool
END:VEVENT
BEGIN:VEVENT
DTSTART;TZID=Europe/Dublin:20270329T090000
DTEND;TZID=Europe/Dublin:20270329T100000
DTSTAMP:20260422T084559
CREATED:20260127T153017Z
LAST-MODIFIED:20260127T153017Z
UID:10000421-1806310800-1806314400@terenureswimmingpool.ie
SUMMARY:Free Swim
DESCRIPTION:
URL:https://terenureswimmingpool.ie/timetable/free-swim/2027-03-29/
LOCATION:Terenure College Swimming Pool
END:VEVENT
BEGIN:VEVENT
DTSTART;TZID=Europe/Dublin:20270330T090000
DTEND;TZID=Europe/Dublin:20270330T100000
DTSTAMP:20260422T084559
CREATED:20260127T153017Z
LAST-MODIFIED:20260127T153017Z
UID:10000422-1806397200-1806400800@terenureswimmingpool.ie
SUMMARY:Free Swim
DESCRIPTION:
URL:https://terenureswimmingpool.ie/timetable/free-swim/2027-03-30/
LOCATION:Terenure College Swimming Pool
END:VEVENT
BEGIN:VEVENT
DTSTART;TZID=Europe/Dublin:20270331T090000
DTEND;TZID=Europe/Dublin:20270331T100000
DTSTAMP:20260422T084559
CREATED:20260127T153017Z
LAST-MODIFIED:20260127T153017Z
UID:10000423-1806483600-1806487200@terenureswimmingpool.ie
SUMMARY:Free Swim
DESCRIPTION:
URL:https://terenureswimmingpool.ie/timetable/free-swim/2027-03-31/
LOCATION:Terenure College Swimming Pool
END:VEVENT
BEGIN:VEVENT
DTSTART;TZID=Europe/Dublin:20270401T090000
DTEND;TZID=Europe/Dublin:20270401T100000
DTSTAMP:20260422T084559
CREATED:20260127T153017Z
LAST-MODIFIED:20260127T153017Z
UID:10000424-1806570000-1806573600@terenureswimmingpool.ie
SUMMARY:Free Swim
DESCRIPTION:
URL:https://terenureswimmingpool.ie/timetable/free-swim/2027-04-01/
LOCATION:Terenure College Swimming Pool
END:VEVENT
BEGIN:VEVENT
DTSTART;TZID=Europe/Dublin:20270402T090000
DTEND;TZID=Europe/Dublin:20270402T100000
DTSTAMP:20260422T084559
CREATED:20260127T153017Z
LAST-MODIFIED:20260127T153017Z
UID:10000425-1806656400-1806660000@terenureswimmingpool.ie
SUMMARY:Free Swim
DESCRIPTION:
URL:https://terenureswimmingpool.ie/timetable/free-swim/2027-04-02/
LOCATION:Terenure College Swimming Pool
END:VEVENT
BEGIN:VEVENT
DTSTART;TZID=Europe/Dublin:20270403T090000
DTEND;TZID=Europe/Dublin:20270403T100000
DTSTAMP:20260422T084559
CREATED:20260127T153017Z
LAST-MODIFIED:20260127T153017Z
UID:10000426-1806742800-1806746400@terenureswimmingpool.ie
SUMMARY:Free Swim
DESCRIPTION:
URL:https://terenureswimmingpool.ie/timetable/free-swim/2027-04-03/
LOCATION:Terenure College Swimming Pool
END:VEVENT
BEGIN:VEVENT
DTSTART;TZID=Europe/Dublin:20270404T090000
DTEND;TZID=Europe/Dublin:20270404T100000
DTSTAMP:20260422T084559
CREATED:20260127T153017Z
LAST-MODIFIED:20260127T153017Z
UID:10000427-1806829200-1806832800@terenureswimmingpool.ie
SUMMARY:Free Swim
DESCRIPTION:
URL:https://terenureswimmingpool.ie/timetable/free-swim/2027-04-04/
LOCATION:Terenure College Swimming Pool
END:VEVENT
BEGIN:VEVENT
DTSTART;TZID=Europe/Dublin:20270405T090000
DTEND;TZID=Europe/Dublin:20270405T100000
DTSTAMP:20260422T084559
CREATED:20260127T153017Z
LAST-MODIFIED:20260127T153017Z
UID:10000428-1806915600-1806919200@terenureswimmingpool.ie
SUMMARY:Free Swim
DESCRIPTION:
URL:https://terenureswimmingpool.ie/timetable/free-swim/2027-04-05/
LOCATION:Terenure College Swimming Pool
END:VEVENT
BEGIN:VEVENT
DTSTART;TZID=Europe/Dublin:20270406T090000
DTEND;TZID=Europe/Dublin:20270406T100000
DTSTAMP:20260422T084559
CREATED:20260127T153017Z
LAST-MODIFIED:20260127T153017Z
UID:10000429-1807002000-1807005600@terenureswimmingpool.ie
SUMMARY:Free Swim
DESCRIPTION:
URL:https://terenureswimmingpool.ie/timetable/free-swim/2027-04-06/
LOCATION:Terenure College Swimming Pool
END:VEVENT
BEGIN:VEVENT
DTSTART;TZID=Europe/Dublin:20270407T090000
DTEND;TZID=Europe/Dublin:20270407T100000
DTSTAMP:20260422T084559
CREATED:20260127T153017Z
LAST-MODIFIED:20260127T153017Z
UID:10000430-1807088400-1807092000@terenureswimmingpool.ie
SUMMARY:Free Swim
DESCRIPTION:
URL:https://terenureswimmingpool.ie/timetable/free-swim/2027-04-07/
LOCATION:Terenure College Swimming Pool
END:VEVENT
BEGIN:VEVENT
DTSTART;TZID=Europe/Dublin:20270408T090000
DTEND;TZID=Europe/Dublin:20270408T100000
DTSTAMP:20260422T084559
CREATED:20260127T153017Z
LAST-MODIFIED:20260127T153017Z
UID:10000431-1807174800-1807178400@terenureswimmingpool.ie
SUMMARY:Free Swim
DESCRIPTION:
URL:https://terenureswimmingpool.ie/timetable/free-swim/2027-04-08/
LOCATION:Terenure College Swimming Pool
END:VEVENT
BEGIN:VEVENT
DTSTART;TZID=Europe/Dublin:20270409T090000
DTEND;TZID=Europe/Dublin:20270409T100000
DTSTAMP:20260422T084559
CREATED:20260127T153017Z
LAST-MODIFIED:20260127T153017Z
UID:10000432-1807261200-1807264800@terenureswimmingpool.ie
SUMMARY:Free Swim
DESCRIPTION:
URL:https://terenureswimmingpool.ie/timetable/free-swim/2027-04-09/
LOCATION:Terenure College Swimming Pool
END:VEVENT
BEGIN:VEVENT
DTSTART;TZID=Europe/Dublin:20270410T090000
DTEND;TZID=Europe/Dublin:20270410T100000
DTSTAMP:20260422T084559
CREATED:20260127T153017Z
LAST-MODIFIED:20260127T153017Z
UID:10000433-1807347600-1807351200@terenureswimmingpool.ie
SUMMARY:Free Swim
DESCRIPTION:
URL:https://terenureswimmingpool.ie/timetable/free-swim/2027-04-10/
LOCATION:Terenure College Swimming Pool
END:VEVENT
END:VCALENDAR