BEGIN:VCALENDAR
VERSION:2.0
PRODID:-//Terenure Swimming Pool - ECPv6.15.20//NONSGML v1.0//EN
CALSCALE:GREGORIAN
METHOD:PUBLISH
X-WR-CALNAME:Terenure Swimming Pool
X-ORIGINAL-URL:https://terenureswimmingpool.ie
X-WR-CALDESC:Events for Terenure Swimming Pool
REFRESH-INTERVAL;VALUE=DURATION:PT1H
X-Robots-Tag:noindex
X-PUBLISHED-TTL:PT1H
BEGIN:VTIMEZONE
TZID:Europe/Dublin
BEGIN:STANDARD
TZOFFSETFROM:+0000
TZOFFSETTO:+0100
TZNAME:IST
DTSTART:20260329T010000
END:STANDARD
BEGIN:DAYLIGHT
TZOFFSETFROM:+0100
TZOFFSETTO:+0000
TZNAME:GMT
DTSTART:20261025T010000
END:DAYLIGHT
BEGIN:STANDARD
TZOFFSETFROM:+0000
TZOFFSETTO:+0100
TZNAME:IST
DTSTART:20270328T010000
END:STANDARD
BEGIN:DAYLIGHT
TZOFFSETFROM:+0100
TZOFFSETTO:+0000
TZNAME:GMT
DTSTART:20271031T010000
END:DAYLIGHT
BEGIN:STANDARD
TZOFFSETFROM:+0000
TZOFFSETTO:+0100
TZNAME:IST
DTSTART:20280326T010000
END:STANDARD
BEGIN:DAYLIGHT
TZOFFSETFROM:+0100
TZOFFSETTO:+0000
TZNAME:GMT
DTSTART:20281029T010000
END:DAYLIGHT
END:VTIMEZONE
BEGIN:VEVENT
DTSTART;TZID=Europe/Dublin:20270828T090000
DTEND;TZID=Europe/Dublin:20270828T100000
DTSTAMP:20260423T054436
CREATED:20260127T153017Z
LAST-MODIFIED:20260127T153017Z
UID:10000573-1819443600-1819447200@terenureswimmingpool.ie
SUMMARY:Free Swim
DESCRIPTION:
URL:https://terenureswimmingpool.ie/timetable/free-swim/2027-08-28/
LOCATION:Terenure College Swimming Pool
END:VEVENT
BEGIN:VEVENT
DTSTART;TZID=Europe/Dublin:20270829T090000
DTEND;TZID=Europe/Dublin:20270829T100000
DTSTAMP:20260423T054436
CREATED:20260127T153017Z
LAST-MODIFIED:20260127T153017Z
UID:10000574-1819530000-1819533600@terenureswimmingpool.ie
SUMMARY:Free Swim
DESCRIPTION:
URL:https://terenureswimmingpool.ie/timetable/free-swim/2027-08-29/
LOCATION:Terenure College Swimming Pool
END:VEVENT
BEGIN:VEVENT
DTSTART;TZID=Europe/Dublin:20270830T090000
DTEND;TZID=Europe/Dublin:20270830T100000
DTSTAMP:20260423T054436
CREATED:20260127T153017Z
LAST-MODIFIED:20260127T153017Z
UID:10000575-1819616400-1819620000@terenureswimmingpool.ie
SUMMARY:Free Swim
DESCRIPTION:
URL:https://terenureswimmingpool.ie/timetable/free-swim/2027-08-30/
LOCATION:Terenure College Swimming Pool
END:VEVENT
BEGIN:VEVENT
DTSTART;TZID=Europe/Dublin:20270831T090000
DTEND;TZID=Europe/Dublin:20270831T100000
DTSTAMP:20260423T054436
CREATED:20260127T153017Z
LAST-MODIFIED:20260127T153017Z
UID:10000576-1819702800-1819706400@terenureswimmingpool.ie
SUMMARY:Free Swim
DESCRIPTION:
URL:https://terenureswimmingpool.ie/timetable/free-swim/2027-08-31/
LOCATION:Terenure College Swimming Pool
END:VEVENT
BEGIN:VEVENT
DTSTART;TZID=Europe/Dublin:20270901T090000
DTEND;TZID=Europe/Dublin:20270901T100000
DTSTAMP:20260423T054436
CREATED:20260127T153017Z
LAST-MODIFIED:20260127T153017Z
UID:10000577-1819789200-1819792800@terenureswimmingpool.ie
SUMMARY:Free Swim
DESCRIPTION:
URL:https://terenureswimmingpool.ie/timetable/free-swim/2027-09-01/
LOCATION:Terenure College Swimming Pool
END:VEVENT
BEGIN:VEVENT
DTSTART;TZID=Europe/Dublin:20270902T090000
DTEND;TZID=Europe/Dublin:20270902T100000
DTSTAMP:20260423T054436
CREATED:20260127T153017Z
LAST-MODIFIED:20260127T153017Z
UID:10000578-1819875600-1819879200@terenureswimmingpool.ie
SUMMARY:Free Swim
DESCRIPTION:
URL:https://terenureswimmingpool.ie/timetable/free-swim/2027-09-02/
LOCATION:Terenure College Swimming Pool
END:VEVENT
BEGIN:VEVENT
DTSTART;TZID=Europe/Dublin:20270903T090000
DTEND;TZID=Europe/Dublin:20270903T100000
DTSTAMP:20260423T054436
CREATED:20260127T153017Z
LAST-MODIFIED:20260127T153017Z
UID:10000579-1819962000-1819965600@terenureswimmingpool.ie
SUMMARY:Free Swim
DESCRIPTION:
URL:https://terenureswimmingpool.ie/timetable/free-swim/2027-09-03/
LOCATION:Terenure College Swimming Pool
END:VEVENT
BEGIN:VEVENT
DTSTART;TZID=Europe/Dublin:20270904T090000
DTEND;TZID=Europe/Dublin:20270904T100000
DTSTAMP:20260423T054436
CREATED:20260127T153017Z
LAST-MODIFIED:20260127T153017Z
UID:10000580-1820048400-1820052000@terenureswimmingpool.ie
SUMMARY:Free Swim
DESCRIPTION:
URL:https://terenureswimmingpool.ie/timetable/free-swim/2027-09-04/
LOCATION:Terenure College Swimming Pool
END:VEVENT
BEGIN:VEVENT
DTSTART;TZID=Europe/Dublin:20270905T090000
DTEND;TZID=Europe/Dublin:20270905T100000
DTSTAMP:20260423T054436
CREATED:20260127T153017Z
LAST-MODIFIED:20260127T153017Z
UID:10000581-1820134800-1820138400@terenureswimmingpool.ie
SUMMARY:Free Swim
DESCRIPTION:
URL:https://terenureswimmingpool.ie/timetable/free-swim/2027-09-05/
LOCATION:Terenure College Swimming Pool
END:VEVENT
BEGIN:VEVENT
DTSTART;TZID=Europe/Dublin:20270906T090000
DTEND;TZID=Europe/Dublin:20270906T100000
DTSTAMP:20260423T054436
CREATED:20260127T153017Z
LAST-MODIFIED:20260127T153017Z
UID:10000582-1820221200-1820224800@terenureswimmingpool.ie
SUMMARY:Free Swim
DESCRIPTION:
URL:https://terenureswimmingpool.ie/timetable/free-swim/2027-09-06/
LOCATION:Terenure College Swimming Pool
END:VEVENT
BEGIN:VEVENT
DTSTART;TZID=Europe/Dublin:20270907T090000
DTEND;TZID=Europe/Dublin:20270907T100000
DTSTAMP:20260423T054436
CREATED:20260127T153017Z
LAST-MODIFIED:20260127T153017Z
UID:10000583-1820307600-1820311200@terenureswimmingpool.ie
SUMMARY:Free Swim
DESCRIPTION:
URL:https://terenureswimmingpool.ie/timetable/free-swim/2027-09-07/
LOCATION:Terenure College Swimming Pool
END:VEVENT
BEGIN:VEVENT
DTSTART;TZID=Europe/Dublin:20270908T090000
DTEND;TZID=Europe/Dublin:20270908T100000
DTSTAMP:20260423T054436
CREATED:20260127T153017Z
LAST-MODIFIED:20260127T153017Z
UID:10000584-1820394000-1820397600@terenureswimmingpool.ie
SUMMARY:Free Swim
DESCRIPTION:
URL:https://terenureswimmingpool.ie/timetable/free-swim/2027-09-08/
LOCATION:Terenure College Swimming Pool
END:VEVENT
BEGIN:VEVENT
DTSTART;TZID=Europe/Dublin:20270909T090000
DTEND;TZID=Europe/Dublin:20270909T100000
DTSTAMP:20260423T054436
CREATED:20260127T153017Z
LAST-MODIFIED:20260127T153017Z
UID:10000585-1820480400-1820484000@terenureswimmingpool.ie
SUMMARY:Free Swim
DESCRIPTION:
URL:https://terenureswimmingpool.ie/timetable/free-swim/2027-09-09/
LOCATION:Terenure College Swimming Pool
END:VEVENT
BEGIN:VEVENT
DTSTART;TZID=Europe/Dublin:20270910T090000
DTEND;TZID=Europe/Dublin:20270910T100000
DTSTAMP:20260423T054436
CREATED:20260127T153017Z
LAST-MODIFIED:20260127T153017Z
UID:10000586-1820566800-1820570400@terenureswimmingpool.ie
SUMMARY:Free Swim
DESCRIPTION:
URL:https://terenureswimmingpool.ie/timetable/free-swim/2027-09-10/
LOCATION:Terenure College Swimming Pool
END:VEVENT
BEGIN:VEVENT
DTSTART;TZID=Europe/Dublin:20270911T090000
DTEND;TZID=Europe/Dublin:20270911T100000
DTSTAMP:20260423T054436
CREATED:20260127T153017Z
LAST-MODIFIED:20260127T153017Z
UID:10000587-1820653200-1820656800@terenureswimmingpool.ie
SUMMARY:Free Swim
DESCRIPTION:
URL:https://terenureswimmingpool.ie/timetable/free-swim/2027-09-11/
LOCATION:Terenure College Swimming Pool
END:VEVENT
BEGIN:VEVENT
DTSTART;TZID=Europe/Dublin:20270912T090000
DTEND;TZID=Europe/Dublin:20270912T100000
DTSTAMP:20260423T054436
CREATED:20260127T153017Z
LAST-MODIFIED:20260127T153017Z
UID:10000588-1820739600-1820743200@terenureswimmingpool.ie
SUMMARY:Free Swim
DESCRIPTION:
URL:https://terenureswimmingpool.ie/timetable/free-swim/2027-09-12/
LOCATION:Terenure College Swimming Pool
END:VEVENT
BEGIN:VEVENT
DTSTART;TZID=Europe/Dublin:20270913T090000
DTEND;TZID=Europe/Dublin:20270913T100000
DTSTAMP:20260423T054436
CREATED:20260127T153017Z
LAST-MODIFIED:20260127T153017Z
UID:10000589-1820826000-1820829600@terenureswimmingpool.ie
SUMMARY:Free Swim
DESCRIPTION:
URL:https://terenureswimmingpool.ie/timetable/free-swim/2027-09-13/
LOCATION:Terenure College Swimming Pool
END:VEVENT
BEGIN:VEVENT
DTSTART;TZID=Europe/Dublin:20270914T090000
DTEND;TZID=Europe/Dublin:20270914T100000
DTSTAMP:20260423T054436
CREATED:20260127T153017Z
LAST-MODIFIED:20260127T153017Z
UID:10000590-1820912400-1820916000@terenureswimmingpool.ie
SUMMARY:Free Swim
DESCRIPTION:
URL:https://terenureswimmingpool.ie/timetable/free-swim/2027-09-14/
LOCATION:Terenure College Swimming Pool
END:VEVENT
BEGIN:VEVENT
DTSTART;TZID=Europe/Dublin:20270915T090000
DTEND;TZID=Europe/Dublin:20270915T100000
DTSTAMP:20260423T054436
CREATED:20260127T153017Z
LAST-MODIFIED:20260127T153017Z
UID:10000591-1820998800-1821002400@terenureswimmingpool.ie
SUMMARY:Free Swim
DESCRIPTION:
URL:https://terenureswimmingpool.ie/timetable/free-swim/2027-09-15/
LOCATION:Terenure College Swimming Pool
END:VEVENT
BEGIN:VEVENT
DTSTART;TZID=Europe/Dublin:20270916T090000
DTEND;TZID=Europe/Dublin:20270916T100000
DTSTAMP:20260423T054436
CREATED:20260127T153017Z
LAST-MODIFIED:20260127T153017Z
UID:10000592-1821085200-1821088800@terenureswimmingpool.ie
SUMMARY:Free Swim
DESCRIPTION:
URL:https://terenureswimmingpool.ie/timetable/free-swim/2027-09-16/
LOCATION:Terenure College Swimming Pool
END:VEVENT
BEGIN:VEVENT
DTSTART;TZID=Europe/Dublin:20270917T090000
DTEND;TZID=Europe/Dublin:20270917T100000
DTSTAMP:20260423T054436
CREATED:20260127T153017Z
LAST-MODIFIED:20260127T153017Z
UID:10000593-1821171600-1821175200@terenureswimmingpool.ie
SUMMARY:Free Swim
DESCRIPTION:
URL:https://terenureswimmingpool.ie/timetable/free-swim/2027-09-17/
LOCATION:Terenure College Swimming Pool
END:VEVENT
BEGIN:VEVENT
DTSTART;TZID=Europe/Dublin:20270918T090000
DTEND;TZID=Europe/Dublin:20270918T100000
DTSTAMP:20260423T054436
CREATED:20260127T153017Z
LAST-MODIFIED:20260127T153017Z
UID:10000594-1821258000-1821261600@terenureswimmingpool.ie
SUMMARY:Free Swim
DESCRIPTION:
URL:https://terenureswimmingpool.ie/timetable/free-swim/2027-09-18/
LOCATION:Terenure College Swimming Pool
END:VEVENT
BEGIN:VEVENT
DTSTART;TZID=Europe/Dublin:20270919T090000
DTEND;TZID=Europe/Dublin:20270919T100000
DTSTAMP:20260423T054436
CREATED:20260127T153017Z
LAST-MODIFIED:20260127T153017Z
UID:10000595-1821344400-1821348000@terenureswimmingpool.ie
SUMMARY:Free Swim
DESCRIPTION:
URL:https://terenureswimmingpool.ie/timetable/free-swim/2027-09-19/
LOCATION:Terenure College Swimming Pool
END:VEVENT
BEGIN:VEVENT
DTSTART;TZID=Europe/Dublin:20270920T090000
DTEND;TZID=Europe/Dublin:20270920T100000
DTSTAMP:20260423T054436
CREATED:20260127T153017Z
LAST-MODIFIED:20260127T153017Z
UID:10000596-1821430800-1821434400@terenureswimmingpool.ie
SUMMARY:Free Swim
DESCRIPTION:
URL:https://terenureswimmingpool.ie/timetable/free-swim/2027-09-20/
LOCATION:Terenure College Swimming Pool
END:VEVENT
BEGIN:VEVENT
DTSTART;TZID=Europe/Dublin:20270921T090000
DTEND;TZID=Europe/Dublin:20270921T100000
DTSTAMP:20260423T054436
CREATED:20260127T153017Z
LAST-MODIFIED:20260127T153017Z
UID:10000597-1821517200-1821520800@terenureswimmingpool.ie
SUMMARY:Free Swim
DESCRIPTION:
URL:https://terenureswimmingpool.ie/timetable/free-swim/2027-09-21/
LOCATION:Terenure College Swimming Pool
END:VEVENT
BEGIN:VEVENT
DTSTART;TZID=Europe/Dublin:20270922T090000
DTEND;TZID=Europe/Dublin:20270922T100000
DTSTAMP:20260423T054436
CREATED:20260127T153017Z
LAST-MODIFIED:20260127T153017Z
UID:10000598-1821603600-1821607200@terenureswimmingpool.ie
SUMMARY:Free Swim
DESCRIPTION:
URL:https://terenureswimmingpool.ie/timetable/free-swim/2027-09-22/
LOCATION:Terenure College Swimming Pool
END:VEVENT
BEGIN:VEVENT
DTSTART;TZID=Europe/Dublin:20270923T090000
DTEND;TZID=Europe/Dublin:20270923T100000
DTSTAMP:20260423T054436
CREATED:20260127T153017Z
LAST-MODIFIED:20260127T153017Z
UID:10000599-1821690000-1821693600@terenureswimmingpool.ie
SUMMARY:Free Swim
DESCRIPTION:
URL:https://terenureswimmingpool.ie/timetable/free-swim/2027-09-23/
LOCATION:Terenure College Swimming Pool
END:VEVENT
BEGIN:VEVENT
DTSTART;TZID=Europe/Dublin:20270924T090000
DTEND;TZID=Europe/Dublin:20270924T100000
DTSTAMP:20260423T054436
CREATED:20260127T153017Z
LAST-MODIFIED:20260127T153017Z
UID:10000600-1821776400-1821780000@terenureswimmingpool.ie
SUMMARY:Free Swim
DESCRIPTION:
URL:https://terenureswimmingpool.ie/timetable/free-swim/2027-09-24/
LOCATION:Terenure College Swimming Pool
END:VEVENT
BEGIN:VEVENT
DTSTART;TZID=Europe/Dublin:20270925T090000
DTEND;TZID=Europe/Dublin:20270925T100000
DTSTAMP:20260423T054436
CREATED:20260127T153017Z
LAST-MODIFIED:20260127T153017Z
UID:10000601-1821862800-1821866400@terenureswimmingpool.ie
SUMMARY:Free Swim
DESCRIPTION:
URL:https://terenureswimmingpool.ie/timetable/free-swim/2027-09-25/
LOCATION:Terenure College Swimming Pool
END:VEVENT
BEGIN:VEVENT
DTSTART;TZID=Europe/Dublin:20270926T090000
DTEND;TZID=Europe/Dublin:20270926T100000
DTSTAMP:20260423T054436
CREATED:20260127T153017Z
LAST-MODIFIED:20260127T153017Z
UID:10000602-1821949200-1821952800@terenureswimmingpool.ie
SUMMARY:Free Swim
DESCRIPTION:
URL:https://terenureswimmingpool.ie/timetable/free-swim/2027-09-26/
LOCATION:Terenure College Swimming Pool
END:VEVENT
END:VCALENDAR