BEGIN:VCALENDAR
VERSION:2.0
PRODID:-//Terenure Swimming Pool - ECPv6.15.20//NONSGML v1.0//EN
CALSCALE:GREGORIAN
METHOD:PUBLISH
X-WR-CALNAME:Terenure Swimming Pool
X-ORIGINAL-URL:https://terenureswimmingpool.ie
X-WR-CALDESC:Events for Terenure Swimming Pool
REFRESH-INTERVAL;VALUE=DURATION:PT1H
X-Robots-Tag:noindex
X-PUBLISHED-TTL:PT1H
BEGIN:VTIMEZONE
TZID:Europe/Dublin
BEGIN:STANDARD
TZOFFSETFROM:+0000
TZOFFSETTO:+0100
TZNAME:IST
DTSTART:20260329T010000
END:STANDARD
BEGIN:DAYLIGHT
TZOFFSETFROM:+0100
TZOFFSETTO:+0000
TZNAME:GMT
DTSTART:20261025T010000
END:DAYLIGHT
BEGIN:STANDARD
TZOFFSETFROM:+0000
TZOFFSETTO:+0100
TZNAME:IST
DTSTART:20270328T010000
END:STANDARD
BEGIN:DAYLIGHT
TZOFFSETFROM:+0100
TZOFFSETTO:+0000
TZNAME:GMT
DTSTART:20271031T010000
END:DAYLIGHT
BEGIN:STANDARD
TZOFFSETFROM:+0000
TZOFFSETTO:+0100
TZNAME:IST
DTSTART:20280326T010000
END:STANDARD
BEGIN:DAYLIGHT
TZOFFSETFROM:+0100
TZOFFSETTO:+0000
TZNAME:GMT
DTSTART:20281029T010000
END:DAYLIGHT
END:VTIMEZONE
BEGIN:VEVENT
DTSTART;TZID=Europe/Dublin:20271003T090000
DTEND;TZID=Europe/Dublin:20271003T100000
DTSTAMP:20260423T094524
CREATED:20260127T153017Z
LAST-MODIFIED:20260127T153017Z
UID:10000609-1822554000-1822557600@terenureswimmingpool.ie
SUMMARY:Free Swim
DESCRIPTION:
URL:https://terenureswimmingpool.ie/timetable/free-swim/2027-10-03/
LOCATION:Terenure College Swimming Pool
END:VEVENT
BEGIN:VEVENT
DTSTART;TZID=Europe/Dublin:20271004T090000
DTEND;TZID=Europe/Dublin:20271004T100000
DTSTAMP:20260423T094524
CREATED:20260127T153017Z
LAST-MODIFIED:20260127T153017Z
UID:10000610-1822640400-1822644000@terenureswimmingpool.ie
SUMMARY:Free Swim
DESCRIPTION:
URL:https://terenureswimmingpool.ie/timetable/free-swim/2027-10-04/
LOCATION:Terenure College Swimming Pool
END:VEVENT
BEGIN:VEVENT
DTSTART;TZID=Europe/Dublin:20271005T090000
DTEND;TZID=Europe/Dublin:20271005T100000
DTSTAMP:20260423T094524
CREATED:20260127T153017Z
LAST-MODIFIED:20260127T153017Z
UID:10000611-1822726800-1822730400@terenureswimmingpool.ie
SUMMARY:Free Swim
DESCRIPTION:
URL:https://terenureswimmingpool.ie/timetable/free-swim/2027-10-05/
LOCATION:Terenure College Swimming Pool
END:VEVENT
BEGIN:VEVENT
DTSTART;TZID=Europe/Dublin:20271006T090000
DTEND;TZID=Europe/Dublin:20271006T100000
DTSTAMP:20260423T094524
CREATED:20260127T153017Z
LAST-MODIFIED:20260127T153017Z
UID:10000612-1822813200-1822816800@terenureswimmingpool.ie
SUMMARY:Free Swim
DESCRIPTION:
URL:https://terenureswimmingpool.ie/timetable/free-swim/2027-10-06/
LOCATION:Terenure College Swimming Pool
END:VEVENT
BEGIN:VEVENT
DTSTART;TZID=Europe/Dublin:20271007T090000
DTEND;TZID=Europe/Dublin:20271007T100000
DTSTAMP:20260423T094524
CREATED:20260127T153017Z
LAST-MODIFIED:20260127T153017Z
UID:10000613-1822899600-1822903200@terenureswimmingpool.ie
SUMMARY:Free Swim
DESCRIPTION:
URL:https://terenureswimmingpool.ie/timetable/free-swim/2027-10-07/
LOCATION:Terenure College Swimming Pool
END:VEVENT
BEGIN:VEVENT
DTSTART;TZID=Europe/Dublin:20271008T090000
DTEND;TZID=Europe/Dublin:20271008T100000
DTSTAMP:20260423T094524
CREATED:20260127T153017Z
LAST-MODIFIED:20260127T153017Z
UID:10000614-1822986000-1822989600@terenureswimmingpool.ie
SUMMARY:Free Swim
DESCRIPTION:
URL:https://terenureswimmingpool.ie/timetable/free-swim/2027-10-08/
LOCATION:Terenure College Swimming Pool
END:VEVENT
BEGIN:VEVENT
DTSTART;TZID=Europe/Dublin:20271009T090000
DTEND;TZID=Europe/Dublin:20271009T100000
DTSTAMP:20260423T094524
CREATED:20260127T153017Z
LAST-MODIFIED:20260127T153017Z
UID:10000615-1823072400-1823076000@terenureswimmingpool.ie
SUMMARY:Free Swim
DESCRIPTION:
URL:https://terenureswimmingpool.ie/timetable/free-swim/2027-10-09/
LOCATION:Terenure College Swimming Pool
END:VEVENT
BEGIN:VEVENT
DTSTART;TZID=Europe/Dublin:20271010T090000
DTEND;TZID=Europe/Dublin:20271010T100000
DTSTAMP:20260423T094524
CREATED:20260127T153017Z
LAST-MODIFIED:20260127T153017Z
UID:10000616-1823158800-1823162400@terenureswimmingpool.ie
SUMMARY:Free Swim
DESCRIPTION:
URL:https://terenureswimmingpool.ie/timetable/free-swim/2027-10-10/
LOCATION:Terenure College Swimming Pool
END:VEVENT
BEGIN:VEVENT
DTSTART;TZID=Europe/Dublin:20271011T090000
DTEND;TZID=Europe/Dublin:20271011T100000
DTSTAMP:20260423T094524
CREATED:20260127T153017Z
LAST-MODIFIED:20260127T153017Z
UID:10000617-1823245200-1823248800@terenureswimmingpool.ie
SUMMARY:Free Swim
DESCRIPTION:
URL:https://terenureswimmingpool.ie/timetable/free-swim/2027-10-11/
LOCATION:Terenure College Swimming Pool
END:VEVENT
BEGIN:VEVENT
DTSTART;TZID=Europe/Dublin:20271012T090000
DTEND;TZID=Europe/Dublin:20271012T100000
DTSTAMP:20260423T094524
CREATED:20260127T153017Z
LAST-MODIFIED:20260127T153017Z
UID:10000618-1823331600-1823335200@terenureswimmingpool.ie
SUMMARY:Free Swim
DESCRIPTION:
URL:https://terenureswimmingpool.ie/timetable/free-swim/2027-10-12/
LOCATION:Terenure College Swimming Pool
END:VEVENT
BEGIN:VEVENT
DTSTART;TZID=Europe/Dublin:20271013T090000
DTEND;TZID=Europe/Dublin:20271013T100000
DTSTAMP:20260423T094524
CREATED:20260127T153017Z
LAST-MODIFIED:20260127T153017Z
UID:10000619-1823418000-1823421600@terenureswimmingpool.ie
SUMMARY:Free Swim
DESCRIPTION:
URL:https://terenureswimmingpool.ie/timetable/free-swim/2027-10-13/
LOCATION:Terenure College Swimming Pool
END:VEVENT
BEGIN:VEVENT
DTSTART;TZID=Europe/Dublin:20271014T090000
DTEND;TZID=Europe/Dublin:20271014T100000
DTSTAMP:20260423T094524
CREATED:20260127T153017Z
LAST-MODIFIED:20260127T153017Z
UID:10000620-1823504400-1823508000@terenureswimmingpool.ie
SUMMARY:Free Swim
DESCRIPTION:
URL:https://terenureswimmingpool.ie/timetable/free-swim/2027-10-14/
LOCATION:Terenure College Swimming Pool
END:VEVENT
BEGIN:VEVENT
DTSTART;TZID=Europe/Dublin:20271015T090000
DTEND;TZID=Europe/Dublin:20271015T100000
DTSTAMP:20260423T094524
CREATED:20260127T153017Z
LAST-MODIFIED:20260127T153017Z
UID:10000621-1823590800-1823594400@terenureswimmingpool.ie
SUMMARY:Free Swim
DESCRIPTION:
URL:https://terenureswimmingpool.ie/timetable/free-swim/2027-10-15/
LOCATION:Terenure College Swimming Pool
END:VEVENT
BEGIN:VEVENT
DTSTART;TZID=Europe/Dublin:20271016T090000
DTEND;TZID=Europe/Dublin:20271016T100000
DTSTAMP:20260423T094524
CREATED:20260127T153017Z
LAST-MODIFIED:20260127T153017Z
UID:10000622-1823677200-1823680800@terenureswimmingpool.ie
SUMMARY:Free Swim
DESCRIPTION:
URL:https://terenureswimmingpool.ie/timetable/free-swim/2027-10-16/
LOCATION:Terenure College Swimming Pool
END:VEVENT
BEGIN:VEVENT
DTSTART;TZID=Europe/Dublin:20271017T090000
DTEND;TZID=Europe/Dublin:20271017T100000
DTSTAMP:20260423T094524
CREATED:20260127T153017Z
LAST-MODIFIED:20260127T153017Z
UID:10000623-1823763600-1823767200@terenureswimmingpool.ie
SUMMARY:Free Swim
DESCRIPTION:
URL:https://terenureswimmingpool.ie/timetable/free-swim/2027-10-17/
LOCATION:Terenure College Swimming Pool
END:VEVENT
BEGIN:VEVENT
DTSTART;TZID=Europe/Dublin:20271018T090000
DTEND;TZID=Europe/Dublin:20271018T100000
DTSTAMP:20260423T094524
CREATED:20260127T153017Z
LAST-MODIFIED:20260127T153017Z
UID:10000624-1823850000-1823853600@terenureswimmingpool.ie
SUMMARY:Free Swim
DESCRIPTION:
URL:https://terenureswimmingpool.ie/timetable/free-swim/2027-10-18/
LOCATION:Terenure College Swimming Pool
END:VEVENT
BEGIN:VEVENT
DTSTART;TZID=Europe/Dublin:20271019T090000
DTEND;TZID=Europe/Dublin:20271019T100000
DTSTAMP:20260423T094524
CREATED:20260127T153017Z
LAST-MODIFIED:20260127T153017Z
UID:10000625-1823936400-1823940000@terenureswimmingpool.ie
SUMMARY:Free Swim
DESCRIPTION:
URL:https://terenureswimmingpool.ie/timetable/free-swim/2027-10-19/
LOCATION:Terenure College Swimming Pool
END:VEVENT
BEGIN:VEVENT
DTSTART;TZID=Europe/Dublin:20271020T090000
DTEND;TZID=Europe/Dublin:20271020T100000
DTSTAMP:20260423T094524
CREATED:20260127T153017Z
LAST-MODIFIED:20260127T153017Z
UID:10000626-1824022800-1824026400@terenureswimmingpool.ie
SUMMARY:Free Swim
DESCRIPTION:
URL:https://terenureswimmingpool.ie/timetable/free-swim/2027-10-20/
LOCATION:Terenure College Swimming Pool
END:VEVENT
BEGIN:VEVENT
DTSTART;TZID=Europe/Dublin:20271021T090000
DTEND;TZID=Europe/Dublin:20271021T100000
DTSTAMP:20260423T094524
CREATED:20260127T153017Z
LAST-MODIFIED:20260127T153017Z
UID:10000627-1824109200-1824112800@terenureswimmingpool.ie
SUMMARY:Free Swim
DESCRIPTION:
URL:https://terenureswimmingpool.ie/timetable/free-swim/2027-10-21/
LOCATION:Terenure College Swimming Pool
END:VEVENT
BEGIN:VEVENT
DTSTART;TZID=Europe/Dublin:20271022T090000
DTEND;TZID=Europe/Dublin:20271022T100000
DTSTAMP:20260423T094524
CREATED:20260127T153017Z
LAST-MODIFIED:20260127T153017Z
UID:10000628-1824195600-1824199200@terenureswimmingpool.ie
SUMMARY:Free Swim
DESCRIPTION:
URL:https://terenureswimmingpool.ie/timetable/free-swim/2027-10-22/
LOCATION:Terenure College Swimming Pool
END:VEVENT
BEGIN:VEVENT
DTSTART;TZID=Europe/Dublin:20271023T090000
DTEND;TZID=Europe/Dublin:20271023T100000
DTSTAMP:20260423T094524
CREATED:20260127T153017Z
LAST-MODIFIED:20260127T153017Z
UID:10000629-1824282000-1824285600@terenureswimmingpool.ie
SUMMARY:Free Swim
DESCRIPTION:
URL:https://terenureswimmingpool.ie/timetable/free-swim/2027-10-23/
LOCATION:Terenure College Swimming Pool
END:VEVENT
BEGIN:VEVENT
DTSTART;TZID=Europe/Dublin:20271024T090000
DTEND;TZID=Europe/Dublin:20271024T100000
DTSTAMP:20260423T094524
CREATED:20260127T153017Z
LAST-MODIFIED:20260127T153017Z
UID:10000630-1824368400-1824372000@terenureswimmingpool.ie
SUMMARY:Free Swim
DESCRIPTION:
URL:https://terenureswimmingpool.ie/timetable/free-swim/2027-10-24/
LOCATION:Terenure College Swimming Pool
END:VEVENT
BEGIN:VEVENT
DTSTART;TZID=Europe/Dublin:20271025T090000
DTEND;TZID=Europe/Dublin:20271025T100000
DTSTAMP:20260423T094524
CREATED:20260127T153017Z
LAST-MODIFIED:20260127T153017Z
UID:10000631-1824454800-1824458400@terenureswimmingpool.ie
SUMMARY:Free Swim
DESCRIPTION:
URL:https://terenureswimmingpool.ie/timetable/free-swim/2027-10-25/
LOCATION:Terenure College Swimming Pool
END:VEVENT
BEGIN:VEVENT
DTSTART;TZID=Europe/Dublin:20271026T090000
DTEND;TZID=Europe/Dublin:20271026T100000
DTSTAMP:20260423T094524
CREATED:20260127T153017Z
LAST-MODIFIED:20260127T153017Z
UID:10000632-1824541200-1824544800@terenureswimmingpool.ie
SUMMARY:Free Swim
DESCRIPTION:
URL:https://terenureswimmingpool.ie/timetable/free-swim/2027-10-26/
LOCATION:Terenure College Swimming Pool
END:VEVENT
BEGIN:VEVENT
DTSTART;TZID=Europe/Dublin:20271027T090000
DTEND;TZID=Europe/Dublin:20271027T100000
DTSTAMP:20260423T094524
CREATED:20260127T153017Z
LAST-MODIFIED:20260127T153017Z
UID:10000633-1824627600-1824631200@terenureswimmingpool.ie
SUMMARY:Free Swim
DESCRIPTION:
URL:https://terenureswimmingpool.ie/timetable/free-swim/2027-10-27/
LOCATION:Terenure College Swimming Pool
END:VEVENT
BEGIN:VEVENT
DTSTART;TZID=Europe/Dublin:20271028T090000
DTEND;TZID=Europe/Dublin:20271028T100000
DTSTAMP:20260423T094524
CREATED:20260127T153017Z
LAST-MODIFIED:20260127T153017Z
UID:10000634-1824714000-1824717600@terenureswimmingpool.ie
SUMMARY:Free Swim
DESCRIPTION:
URL:https://terenureswimmingpool.ie/timetable/free-swim/2027-10-28/
LOCATION:Terenure College Swimming Pool
END:VEVENT
BEGIN:VEVENT
DTSTART;TZID=Europe/Dublin:20271029T090000
DTEND;TZID=Europe/Dublin:20271029T100000
DTSTAMP:20260423T094524
CREATED:20260127T153017Z
LAST-MODIFIED:20260127T153017Z
UID:10000635-1824800400-1824804000@terenureswimmingpool.ie
SUMMARY:Free Swim
DESCRIPTION:
URL:https://terenureswimmingpool.ie/timetable/free-swim/2027-10-29/
LOCATION:Terenure College Swimming Pool
END:VEVENT
BEGIN:VEVENT
DTSTART;TZID=Europe/Dublin:20271030T090000
DTEND;TZID=Europe/Dublin:20271030T100000
DTSTAMP:20260423T094524
CREATED:20260127T153017Z
LAST-MODIFIED:20260127T153017Z
UID:10000636-1824886800-1824890400@terenureswimmingpool.ie
SUMMARY:Free Swim
DESCRIPTION:
URL:https://terenureswimmingpool.ie/timetable/free-swim/2027-10-30/
LOCATION:Terenure College Swimming Pool
END:VEVENT
BEGIN:VEVENT
DTSTART;TZID=Europe/Dublin:20271031T090000
DTEND;TZID=Europe/Dublin:20271031T100000
DTSTAMP:20260423T094524
CREATED:20260127T153017Z
LAST-MODIFIED:20260127T153017Z
UID:10000637-1824973200-1824976800@terenureswimmingpool.ie
SUMMARY:Free Swim
DESCRIPTION:
URL:https://terenureswimmingpool.ie/timetable/free-swim/2027-10-31/
LOCATION:Terenure College Swimming Pool
END:VEVENT
BEGIN:VEVENT
DTSTART;TZID=Europe/Dublin:20271101T090000
DTEND;TZID=Europe/Dublin:20271101T100000
DTSTAMP:20260423T094524
CREATED:20260127T153017Z
LAST-MODIFIED:20260127T153017Z
UID:10000638-1825059600-1825063200@terenureswimmingpool.ie
SUMMARY:Free Swim
DESCRIPTION:
URL:https://terenureswimmingpool.ie/timetable/free-swim/2027-11-01/
LOCATION:Terenure College Swimming Pool
END:VEVENT
END:VCALENDAR