BEGIN:VCALENDAR
VERSION:2.0
PRODID:-//Terenure Swimming Pool - ECPv6.15.20//NONSGML v1.0//EN
CALSCALE:GREGORIAN
METHOD:PUBLISH
X-ORIGINAL-URL:https://terenureswimmingpool.ie
X-WR-CALDESC:Events for Terenure Swimming Pool
REFRESH-INTERVAL;VALUE=DURATION:PT1H
X-Robots-Tag:noindex
X-PUBLISHED-TTL:PT1H
BEGIN:VTIMEZONE
TZID:Europe/Dublin
BEGIN:STANDARD
TZOFFSETFROM:+0000
TZOFFSETTO:+0100
TZNAME:IST
DTSTART:20260329T010000
END:STANDARD
BEGIN:DAYLIGHT
TZOFFSETFROM:+0100
TZOFFSETTO:+0000
TZNAME:GMT
DTSTART:20261025T010000
END:DAYLIGHT
BEGIN:STANDARD
TZOFFSETFROM:+0000
TZOFFSETTO:+0100
TZNAME:IST
DTSTART:20270328T010000
END:STANDARD
BEGIN:DAYLIGHT
TZOFFSETFROM:+0100
TZOFFSETTO:+0000
TZNAME:GMT
DTSTART:20271031T010000
END:DAYLIGHT
BEGIN:STANDARD
TZOFFSETFROM:+0000
TZOFFSETTO:+0100
TZNAME:IST
DTSTART:20280326T010000
END:STANDARD
BEGIN:DAYLIGHT
TZOFFSETFROM:+0100
TZOFFSETTO:+0000
TZNAME:GMT
DTSTART:20281029T010000
END:DAYLIGHT
END:VTIMEZONE
BEGIN:VEVENT
DTSTART;TZID=Europe/Dublin:20271028T090000
DTEND;TZID=Europe/Dublin:20271028T100000
DTSTAMP:20260423T125437
CREATED:20260127T153017Z
LAST-MODIFIED:20260127T153017Z
UID:10000634-1824714000-1824717600@terenureswimmingpool.ie
SUMMARY:Free Swim
DESCRIPTION:
URL:https://terenureswimmingpool.ie/timetable/free-swim/2027-10-28/
LOCATION:Terenure College Swimming Pool
END:VEVENT
BEGIN:VEVENT
DTSTART;TZID=Europe/Dublin:20271029T090000
DTEND;TZID=Europe/Dublin:20271029T100000
DTSTAMP:20260423T125437
CREATED:20260127T153017Z
LAST-MODIFIED:20260127T153017Z
UID:10000635-1824800400-1824804000@terenureswimmingpool.ie
SUMMARY:Free Swim
DESCRIPTION:
URL:https://terenureswimmingpool.ie/timetable/free-swim/2027-10-29/
LOCATION:Terenure College Swimming Pool
END:VEVENT
BEGIN:VEVENT
DTSTART;TZID=Europe/Dublin:20271030T090000
DTEND;TZID=Europe/Dublin:20271030T100000
DTSTAMP:20260423T125437
CREATED:20260127T153017Z
LAST-MODIFIED:20260127T153017Z
UID:10000636-1824886800-1824890400@terenureswimmingpool.ie
SUMMARY:Free Swim
DESCRIPTION:
URL:https://terenureswimmingpool.ie/timetable/free-swim/2027-10-30/
LOCATION:Terenure College Swimming Pool
END:VEVENT
BEGIN:VEVENT
DTSTART;TZID=Europe/Dublin:20271031T090000
DTEND;TZID=Europe/Dublin:20271031T100000
DTSTAMP:20260423T125437
CREATED:20260127T153017Z
LAST-MODIFIED:20260127T153017Z
UID:10000637-1824973200-1824976800@terenureswimmingpool.ie
SUMMARY:Free Swim
DESCRIPTION:
URL:https://terenureswimmingpool.ie/timetable/free-swim/2027-10-31/
LOCATION:Terenure College Swimming Pool
END:VEVENT
BEGIN:VEVENT
DTSTART;TZID=Europe/Dublin:20271101T090000
DTEND;TZID=Europe/Dublin:20271101T100000
DTSTAMP:20260423T125437
CREATED:20260127T153017Z
LAST-MODIFIED:20260127T153017Z
UID:10000638-1825059600-1825063200@terenureswimmingpool.ie
SUMMARY:Free Swim
DESCRIPTION:
URL:https://terenureswimmingpool.ie/timetable/free-swim/2027-11-01/
LOCATION:Terenure College Swimming Pool
END:VEVENT
BEGIN:VEVENT
DTSTART;TZID=Europe/Dublin:20271102T090000
DTEND;TZID=Europe/Dublin:20271102T100000
DTSTAMP:20260423T125437
CREATED:20260127T153017Z
LAST-MODIFIED:20260127T153017Z
UID:10000639-1825146000-1825149600@terenureswimmingpool.ie
SUMMARY:Free Swim
DESCRIPTION:
URL:https://terenureswimmingpool.ie/timetable/free-swim/2027-11-02/
LOCATION:Terenure College Swimming Pool
END:VEVENT
BEGIN:VEVENT
DTSTART;TZID=Europe/Dublin:20271103T090000
DTEND;TZID=Europe/Dublin:20271103T100000
DTSTAMP:20260423T125437
CREATED:20260127T153017Z
LAST-MODIFIED:20260127T153017Z
UID:10000640-1825232400-1825236000@terenureswimmingpool.ie
SUMMARY:Free Swim
DESCRIPTION:
URL:https://terenureswimmingpool.ie/timetable/free-swim/2027-11-03/
LOCATION:Terenure College Swimming Pool
END:VEVENT
BEGIN:VEVENT
DTSTART;TZID=Europe/Dublin:20271104T090000
DTEND;TZID=Europe/Dublin:20271104T100000
DTSTAMP:20260423T125437
CREATED:20260127T153017Z
LAST-MODIFIED:20260127T153017Z
UID:10000641-1825318800-1825322400@terenureswimmingpool.ie
SUMMARY:Free Swim
DESCRIPTION:
URL:https://terenureswimmingpool.ie/timetable/free-swim/2027-11-04/
LOCATION:Terenure College Swimming Pool
END:VEVENT
BEGIN:VEVENT
DTSTART;TZID=Europe/Dublin:20271105T090000
DTEND;TZID=Europe/Dublin:20271105T100000
DTSTAMP:20260423T125437
CREATED:20260127T153017Z
LAST-MODIFIED:20260127T153017Z
UID:10000642-1825405200-1825408800@terenureswimmingpool.ie
SUMMARY:Free Swim
DESCRIPTION:
URL:https://terenureswimmingpool.ie/timetable/free-swim/2027-11-05/
LOCATION:Terenure College Swimming Pool
END:VEVENT
BEGIN:VEVENT
DTSTART;TZID=Europe/Dublin:20271106T090000
DTEND;TZID=Europe/Dublin:20271106T100000
DTSTAMP:20260423T125437
CREATED:20260127T153017Z
LAST-MODIFIED:20260127T153017Z
UID:10000643-1825491600-1825495200@terenureswimmingpool.ie
SUMMARY:Free Swim
DESCRIPTION:
URL:https://terenureswimmingpool.ie/timetable/free-swim/2027-11-06/
LOCATION:Terenure College Swimming Pool
END:VEVENT
BEGIN:VEVENT
DTSTART;TZID=Europe/Dublin:20271107T090000
DTEND;TZID=Europe/Dublin:20271107T100000
DTSTAMP:20260423T125437
CREATED:20260127T153017Z
LAST-MODIFIED:20260127T153017Z
UID:10000644-1825578000-1825581600@terenureswimmingpool.ie
SUMMARY:Free Swim
DESCRIPTION:
URL:https://terenureswimmingpool.ie/timetable/free-swim/2027-11-07/
LOCATION:Terenure College Swimming Pool
END:VEVENT
BEGIN:VEVENT
DTSTART;TZID=Europe/Dublin:20271108T090000
DTEND;TZID=Europe/Dublin:20271108T100000
DTSTAMP:20260423T125437
CREATED:20260127T153017Z
LAST-MODIFIED:20260127T153017Z
UID:10000645-1825664400-1825668000@terenureswimmingpool.ie
SUMMARY:Free Swim
DESCRIPTION:
URL:https://terenureswimmingpool.ie/timetable/free-swim/2027-11-08/
LOCATION:Terenure College Swimming Pool
END:VEVENT
BEGIN:VEVENT
DTSTART;TZID=Europe/Dublin:20271109T090000
DTEND;TZID=Europe/Dublin:20271109T100000
DTSTAMP:20260423T125437
CREATED:20260127T153017Z
LAST-MODIFIED:20260127T153017Z
UID:10000646-1825750800-1825754400@terenureswimmingpool.ie
SUMMARY:Free Swim
DESCRIPTION:
URL:https://terenureswimmingpool.ie/timetable/free-swim/2027-11-09/
LOCATION:Terenure College Swimming Pool
END:VEVENT
BEGIN:VEVENT
DTSTART;TZID=Europe/Dublin:20271110T090000
DTEND;TZID=Europe/Dublin:20271110T100000
DTSTAMP:20260423T125437
CREATED:20260127T153017Z
LAST-MODIFIED:20260127T153017Z
UID:10000647-1825837200-1825840800@terenureswimmingpool.ie
SUMMARY:Free Swim
DESCRIPTION:
URL:https://terenureswimmingpool.ie/timetable/free-swim/2027-11-10/
LOCATION:Terenure College Swimming Pool
END:VEVENT
BEGIN:VEVENT
DTSTART;TZID=Europe/Dublin:20271111T090000
DTEND;TZID=Europe/Dublin:20271111T100000
DTSTAMP:20260423T125437
CREATED:20260127T153017Z
LAST-MODIFIED:20260127T153017Z
UID:10000648-1825923600-1825927200@terenureswimmingpool.ie
SUMMARY:Free Swim
DESCRIPTION:
URL:https://terenureswimmingpool.ie/timetable/free-swim/2027-11-11/
LOCATION:Terenure College Swimming Pool
END:VEVENT
BEGIN:VEVENT
DTSTART;TZID=Europe/Dublin:20271112T090000
DTEND;TZID=Europe/Dublin:20271112T100000
DTSTAMP:20260423T125437
CREATED:20260127T153017Z
LAST-MODIFIED:20260127T153017Z
UID:10000649-1826010000-1826013600@terenureswimmingpool.ie
SUMMARY:Free Swim
DESCRIPTION:
URL:https://terenureswimmingpool.ie/timetable/free-swim/2027-11-12/
LOCATION:Terenure College Swimming Pool
END:VEVENT
BEGIN:VEVENT
DTSTART;TZID=Europe/Dublin:20271113T090000
DTEND;TZID=Europe/Dublin:20271113T100000
DTSTAMP:20260423T125437
CREATED:20260127T153017Z
LAST-MODIFIED:20260127T153017Z
UID:10000650-1826096400-1826100000@terenureswimmingpool.ie
SUMMARY:Free Swim
DESCRIPTION:
URL:https://terenureswimmingpool.ie/timetable/free-swim/2027-11-13/
LOCATION:Terenure College Swimming Pool
END:VEVENT
BEGIN:VEVENT
DTSTART;TZID=Europe/Dublin:20271114T090000
DTEND;TZID=Europe/Dublin:20271114T100000
DTSTAMP:20260423T125437
CREATED:20260127T153017Z
LAST-MODIFIED:20260127T153017Z
UID:10000651-1826182800-1826186400@terenureswimmingpool.ie
SUMMARY:Free Swim
DESCRIPTION:
URL:https://terenureswimmingpool.ie/timetable/free-swim/2027-11-14/
LOCATION:Terenure College Swimming Pool
END:VEVENT
BEGIN:VEVENT
DTSTART;TZID=Europe/Dublin:20271115T090000
DTEND;TZID=Europe/Dublin:20271115T100000
DTSTAMP:20260423T125437
CREATED:20260127T153017Z
LAST-MODIFIED:20260127T153017Z
UID:10000652-1826269200-1826272800@terenureswimmingpool.ie
SUMMARY:Free Swim
DESCRIPTION:
URL:https://terenureswimmingpool.ie/timetable/free-swim/2027-11-15/
LOCATION:Terenure College Swimming Pool
END:VEVENT
BEGIN:VEVENT
DTSTART;TZID=Europe/Dublin:20271116T090000
DTEND;TZID=Europe/Dublin:20271116T100000
DTSTAMP:20260423T125437
CREATED:20260127T153017Z
LAST-MODIFIED:20260127T153017Z
UID:10000653-1826355600-1826359200@terenureswimmingpool.ie
SUMMARY:Free Swim
DESCRIPTION:
URL:https://terenureswimmingpool.ie/timetable/free-swim/2027-11-16/
LOCATION:Terenure College Swimming Pool
END:VEVENT
BEGIN:VEVENT
DTSTART;TZID=Europe/Dublin:20271117T090000
DTEND;TZID=Europe/Dublin:20271117T100000
DTSTAMP:20260423T125437
CREATED:20260127T153017Z
LAST-MODIFIED:20260127T153017Z
UID:10000654-1826442000-1826445600@terenureswimmingpool.ie
SUMMARY:Free Swim
DESCRIPTION:
URL:https://terenureswimmingpool.ie/timetable/free-swim/2027-11-17/
LOCATION:Terenure College Swimming Pool
END:VEVENT
BEGIN:VEVENT
DTSTART;TZID=Europe/Dublin:20271118T090000
DTEND;TZID=Europe/Dublin:20271118T100000
DTSTAMP:20260423T125437
CREATED:20260127T153017Z
LAST-MODIFIED:20260127T153017Z
UID:10000655-1826528400-1826532000@terenureswimmingpool.ie
SUMMARY:Free Swim
DESCRIPTION:
URL:https://terenureswimmingpool.ie/timetable/free-swim/2027-11-18/
LOCATION:Terenure College Swimming Pool
END:VEVENT
BEGIN:VEVENT
DTSTART;TZID=Europe/Dublin:20271119T090000
DTEND;TZID=Europe/Dublin:20271119T100000
DTSTAMP:20260423T125437
CREATED:20260127T153017Z
LAST-MODIFIED:20260127T153017Z
UID:10000656-1826614800-1826618400@terenureswimmingpool.ie
SUMMARY:Free Swim
DESCRIPTION:
URL:https://terenureswimmingpool.ie/timetable/free-swim/2027-11-19/
LOCATION:Terenure College Swimming Pool
END:VEVENT
BEGIN:VEVENT
DTSTART;TZID=Europe/Dublin:20271120T090000
DTEND;TZID=Europe/Dublin:20271120T100000
DTSTAMP:20260423T125437
CREATED:20260127T153017Z
LAST-MODIFIED:20260127T153017Z
UID:10000657-1826701200-1826704800@terenureswimmingpool.ie
SUMMARY:Free Swim
DESCRIPTION:
URL:https://terenureswimmingpool.ie/timetable/free-swim/2027-11-20/
LOCATION:Terenure College Swimming Pool
END:VEVENT
BEGIN:VEVENT
DTSTART;TZID=Europe/Dublin:20271121T090000
DTEND;TZID=Europe/Dublin:20271121T100000
DTSTAMP:20260423T125437
CREATED:20260127T153017Z
LAST-MODIFIED:20260127T153017Z
UID:10000658-1826787600-1826791200@terenureswimmingpool.ie
SUMMARY:Free Swim
DESCRIPTION:
URL:https://terenureswimmingpool.ie/timetable/free-swim/2027-11-21/
LOCATION:Terenure College Swimming Pool
END:VEVENT
BEGIN:VEVENT
DTSTART;TZID=Europe/Dublin:20271122T090000
DTEND;TZID=Europe/Dublin:20271122T100000
DTSTAMP:20260423T125437
CREATED:20260127T153017Z
LAST-MODIFIED:20260127T153017Z
UID:10000659-1826874000-1826877600@terenureswimmingpool.ie
SUMMARY:Free Swim
DESCRIPTION:
URL:https://terenureswimmingpool.ie/timetable/free-swim/2027-11-22/
LOCATION:Terenure College Swimming Pool
END:VEVENT
BEGIN:VEVENT
DTSTART;TZID=Europe/Dublin:20271123T090000
DTEND;TZID=Europe/Dublin:20271123T100000
DTSTAMP:20260423T125437
CREATED:20260127T153017Z
LAST-MODIFIED:20260127T153017Z
UID:10000660-1826960400-1826964000@terenureswimmingpool.ie
SUMMARY:Free Swim
DESCRIPTION:
URL:https://terenureswimmingpool.ie/timetable/free-swim/2027-11-23/
LOCATION:Terenure College Swimming Pool
END:VEVENT
BEGIN:VEVENT
DTSTART;TZID=Europe/Dublin:20271124T090000
DTEND;TZID=Europe/Dublin:20271124T100000
DTSTAMP:20260423T125437
CREATED:20260127T153017Z
LAST-MODIFIED:20260127T153017Z
UID:10000661-1827046800-1827050400@terenureswimmingpool.ie
SUMMARY:Free Swim
DESCRIPTION:
URL:https://terenureswimmingpool.ie/timetable/free-swim/2027-11-24/
LOCATION:Terenure College Swimming Pool
END:VEVENT
BEGIN:VEVENT
DTSTART;TZID=Europe/Dublin:20271125T090000
DTEND;TZID=Europe/Dublin:20271125T100000
DTSTAMP:20260423T125437
CREATED:20260127T153017Z
LAST-MODIFIED:20260127T153017Z
UID:10000662-1827133200-1827136800@terenureswimmingpool.ie
SUMMARY:Free Swim
DESCRIPTION:
URL:https://terenureswimmingpool.ie/timetable/free-swim/2027-11-25/
LOCATION:Terenure College Swimming Pool
END:VEVENT
BEGIN:VEVENT
DTSTART;TZID=Europe/Dublin:20271126T090000
DTEND;TZID=Europe/Dublin:20271126T100000
DTSTAMP:20260423T125437
CREATED:20260127T153017Z
LAST-MODIFIED:20260127T153017Z
UID:10000663-1827219600-1827223200@terenureswimmingpool.ie
SUMMARY:Free Swim
DESCRIPTION:
URL:https://terenureswimmingpool.ie/timetable/free-swim/2027-11-26/
LOCATION:Terenure College Swimming Pool
END:VEVENT
END:VCALENDAR