BEGIN:VCALENDAR
VERSION:2.0
PRODID:-//Terenure Swimming Pool - ECPv6.15.20//NONSGML v1.0//EN
CALSCALE:GREGORIAN
METHOD:PUBLISH
X-WR-CALNAME:Terenure Swimming Pool
X-ORIGINAL-URL:https://terenureswimmingpool.ie
X-WR-CALDESC:Events for Terenure Swimming Pool
REFRESH-INTERVAL;VALUE=DURATION:PT1H
X-Robots-Tag:noindex
X-PUBLISHED-TTL:PT1H
BEGIN:VTIMEZONE
TZID:Europe/Dublin
BEGIN:STANDARD
TZOFFSETFROM:+0000
TZOFFSETTO:+0100
TZNAME:IST
DTSTART:20260329T010000
END:STANDARD
BEGIN:DAYLIGHT
TZOFFSETFROM:+0100
TZOFFSETTO:+0000
TZNAME:GMT
DTSTART:20261025T010000
END:DAYLIGHT
BEGIN:STANDARD
TZOFFSETFROM:+0000
TZOFFSETTO:+0100
TZNAME:IST
DTSTART:20270328T010000
END:STANDARD
BEGIN:DAYLIGHT
TZOFFSETFROM:+0100
TZOFFSETTO:+0000
TZNAME:GMT
DTSTART:20271031T010000
END:DAYLIGHT
BEGIN:STANDARD
TZOFFSETFROM:+0000
TZOFFSETTO:+0100
TZNAME:IST
DTSTART:20280326T010000
END:STANDARD
BEGIN:DAYLIGHT
TZOFFSETFROM:+0100
TZOFFSETTO:+0000
TZNAME:GMT
DTSTART:20281029T010000
END:DAYLIGHT
BEGIN:STANDARD
TZOFFSETFROM:+0000
TZOFFSETTO:+0100
TZNAME:IST
DTSTART:20290325T010000
END:STANDARD
BEGIN:DAYLIGHT
TZOFFSETFROM:+0100
TZOFFSETTO:+0000
TZNAME:GMT
DTSTART:20291028T010000
END:DAYLIGHT
END:VTIMEZONE
BEGIN:VEVENT
DTSTART;TZID=Europe/Dublin:20271203T090000
DTEND;TZID=Europe/Dublin:20271203T100000
DTSTAMP:20260423T172720
CREATED:20260127T153017Z
LAST-MODIFIED:20260127T153017Z
UID:10000670-1827824400-1827828000@terenureswimmingpool.ie
SUMMARY:Free Swim
DESCRIPTION:
URL:https://terenureswimmingpool.ie/timetable/free-swim/2027-12-03/
LOCATION:Terenure College Swimming Pool
END:VEVENT
BEGIN:VEVENT
DTSTART;TZID=Europe/Dublin:20271204T090000
DTEND;TZID=Europe/Dublin:20271204T100000
DTSTAMP:20260423T172720
CREATED:20260127T153017Z
LAST-MODIFIED:20260127T153017Z
UID:10000671-1827910800-1827914400@terenureswimmingpool.ie
SUMMARY:Free Swim
DESCRIPTION:
URL:https://terenureswimmingpool.ie/timetable/free-swim/2027-12-04/
LOCATION:Terenure College Swimming Pool
END:VEVENT
BEGIN:VEVENT
DTSTART;TZID=Europe/Dublin:20271205T090000
DTEND;TZID=Europe/Dublin:20271205T100000
DTSTAMP:20260423T172720
CREATED:20260127T153017Z
LAST-MODIFIED:20260127T153017Z
UID:10000672-1827997200-1828000800@terenureswimmingpool.ie
SUMMARY:Free Swim
DESCRIPTION:
URL:https://terenureswimmingpool.ie/timetable/free-swim/2027-12-05/
LOCATION:Terenure College Swimming Pool
END:VEVENT
BEGIN:VEVENT
DTSTART;TZID=Europe/Dublin:20271206T090000
DTEND;TZID=Europe/Dublin:20271206T100000
DTSTAMP:20260423T172720
CREATED:20260127T153017Z
LAST-MODIFIED:20260127T153017Z
UID:10000673-1828083600-1828087200@terenureswimmingpool.ie
SUMMARY:Free Swim
DESCRIPTION:
URL:https://terenureswimmingpool.ie/timetable/free-swim/2027-12-06/
LOCATION:Terenure College Swimming Pool
END:VEVENT
BEGIN:VEVENT
DTSTART;TZID=Europe/Dublin:20271207T090000
DTEND;TZID=Europe/Dublin:20271207T100000
DTSTAMP:20260423T172720
CREATED:20260127T153017Z
LAST-MODIFIED:20260127T153017Z
UID:10000674-1828170000-1828173600@terenureswimmingpool.ie
SUMMARY:Free Swim
DESCRIPTION:
URL:https://terenureswimmingpool.ie/timetable/free-swim/2027-12-07/
LOCATION:Terenure College Swimming Pool
END:VEVENT
BEGIN:VEVENT
DTSTART;TZID=Europe/Dublin:20271208T090000
DTEND;TZID=Europe/Dublin:20271208T100000
DTSTAMP:20260423T172720
CREATED:20260127T153017Z
LAST-MODIFIED:20260127T153017Z
UID:10000675-1828256400-1828260000@terenureswimmingpool.ie
SUMMARY:Free Swim
DESCRIPTION:
URL:https://terenureswimmingpool.ie/timetable/free-swim/2027-12-08/
LOCATION:Terenure College Swimming Pool
END:VEVENT
BEGIN:VEVENT
DTSTART;TZID=Europe/Dublin:20271209T090000
DTEND;TZID=Europe/Dublin:20271209T100000
DTSTAMP:20260423T172720
CREATED:20260127T153017Z
LAST-MODIFIED:20260127T153017Z
UID:10000676-1828342800-1828346400@terenureswimmingpool.ie
SUMMARY:Free Swim
DESCRIPTION:
URL:https://terenureswimmingpool.ie/timetable/free-swim/2027-12-09/
LOCATION:Terenure College Swimming Pool
END:VEVENT
BEGIN:VEVENT
DTSTART;TZID=Europe/Dublin:20271210T090000
DTEND;TZID=Europe/Dublin:20271210T100000
DTSTAMP:20260423T172720
CREATED:20260127T153017Z
LAST-MODIFIED:20260127T153017Z
UID:10000677-1828429200-1828432800@terenureswimmingpool.ie
SUMMARY:Free Swim
DESCRIPTION:
URL:https://terenureswimmingpool.ie/timetable/free-swim/2027-12-10/
LOCATION:Terenure College Swimming Pool
END:VEVENT
BEGIN:VEVENT
DTSTART;TZID=Europe/Dublin:20271211T090000
DTEND;TZID=Europe/Dublin:20271211T100000
DTSTAMP:20260423T172720
CREATED:20260127T153017Z
LAST-MODIFIED:20260127T153017Z
UID:10000678-1828515600-1828519200@terenureswimmingpool.ie
SUMMARY:Free Swim
DESCRIPTION:
URL:https://terenureswimmingpool.ie/timetable/free-swim/2027-12-11/
LOCATION:Terenure College Swimming Pool
END:VEVENT
BEGIN:VEVENT
DTSTART;TZID=Europe/Dublin:20271212T090000
DTEND;TZID=Europe/Dublin:20271212T100000
DTSTAMP:20260423T172720
CREATED:20260127T153017Z
LAST-MODIFIED:20260127T153017Z
UID:10000679-1828602000-1828605600@terenureswimmingpool.ie
SUMMARY:Free Swim
DESCRIPTION:
URL:https://terenureswimmingpool.ie/timetable/free-swim/2027-12-12/
LOCATION:Terenure College Swimming Pool
END:VEVENT
BEGIN:VEVENT
DTSTART;TZID=Europe/Dublin:20271213T090000
DTEND;TZID=Europe/Dublin:20271213T100000
DTSTAMP:20260423T172720
CREATED:20260127T153017Z
LAST-MODIFIED:20260127T153017Z
UID:10000680-1828688400-1828692000@terenureswimmingpool.ie
SUMMARY:Free Swim
DESCRIPTION:
URL:https://terenureswimmingpool.ie/timetable/free-swim/2027-12-13/
LOCATION:Terenure College Swimming Pool
END:VEVENT
BEGIN:VEVENT
DTSTART;TZID=Europe/Dublin:20271214T090000
DTEND;TZID=Europe/Dublin:20271214T100000
DTSTAMP:20260423T172720
CREATED:20260127T153017Z
LAST-MODIFIED:20260127T153017Z
UID:10000681-1828774800-1828778400@terenureswimmingpool.ie
SUMMARY:Free Swim
DESCRIPTION:
URL:https://terenureswimmingpool.ie/timetable/free-swim/2027-12-14/
LOCATION:Terenure College Swimming Pool
END:VEVENT
BEGIN:VEVENT
DTSTART;TZID=Europe/Dublin:20271215T090000
DTEND;TZID=Europe/Dublin:20271215T100000
DTSTAMP:20260423T172720
CREATED:20260127T153017Z
LAST-MODIFIED:20260127T153017Z
UID:10000682-1828861200-1828864800@terenureswimmingpool.ie
SUMMARY:Free Swim
DESCRIPTION:
URL:https://terenureswimmingpool.ie/timetable/free-swim/2027-12-15/
LOCATION:Terenure College Swimming Pool
END:VEVENT
BEGIN:VEVENT
DTSTART;TZID=Europe/Dublin:20271216T090000
DTEND;TZID=Europe/Dublin:20271216T100000
DTSTAMP:20260423T172720
CREATED:20260127T153017Z
LAST-MODIFIED:20260127T153017Z
UID:10000683-1828947600-1828951200@terenureswimmingpool.ie
SUMMARY:Free Swim
DESCRIPTION:
URL:https://terenureswimmingpool.ie/timetable/free-swim/2027-12-16/
LOCATION:Terenure College Swimming Pool
END:VEVENT
BEGIN:VEVENT
DTSTART;TZID=Europe/Dublin:20271217T090000
DTEND;TZID=Europe/Dublin:20271217T100000
DTSTAMP:20260423T172720
CREATED:20260127T153017Z
LAST-MODIFIED:20260127T153017Z
UID:10000684-1829034000-1829037600@terenureswimmingpool.ie
SUMMARY:Free Swim
DESCRIPTION:
URL:https://terenureswimmingpool.ie/timetable/free-swim/2027-12-17/
LOCATION:Terenure College Swimming Pool
END:VEVENT
BEGIN:VEVENT
DTSTART;TZID=Europe/Dublin:20271218T090000
DTEND;TZID=Europe/Dublin:20271218T100000
DTSTAMP:20260423T172720
CREATED:20260127T153017Z
LAST-MODIFIED:20260127T153017Z
UID:10000685-1829120400-1829124000@terenureswimmingpool.ie
SUMMARY:Free Swim
DESCRIPTION:
URL:https://terenureswimmingpool.ie/timetable/free-swim/2027-12-18/
LOCATION:Terenure College Swimming Pool
END:VEVENT
BEGIN:VEVENT
DTSTART;TZID=Europe/Dublin:20271219T090000
DTEND;TZID=Europe/Dublin:20271219T100000
DTSTAMP:20260423T172720
CREATED:20260127T153017Z
LAST-MODIFIED:20260127T153017Z
UID:10000686-1829206800-1829210400@terenureswimmingpool.ie
SUMMARY:Free Swim
DESCRIPTION:
URL:https://terenureswimmingpool.ie/timetable/free-swim/2027-12-19/
LOCATION:Terenure College Swimming Pool
END:VEVENT
BEGIN:VEVENT
DTSTART;TZID=Europe/Dublin:20271220T090000
DTEND;TZID=Europe/Dublin:20271220T100000
DTSTAMP:20260423T172720
CREATED:20260127T153017Z
LAST-MODIFIED:20260127T153017Z
UID:10000687-1829293200-1829296800@terenureswimmingpool.ie
SUMMARY:Free Swim
DESCRIPTION:
URL:https://terenureswimmingpool.ie/timetable/free-swim/2027-12-20/
LOCATION:Terenure College Swimming Pool
END:VEVENT
BEGIN:VEVENT
DTSTART;TZID=Europe/Dublin:20271221T090000
DTEND;TZID=Europe/Dublin:20271221T100000
DTSTAMP:20260423T172720
CREATED:20260127T153017Z
LAST-MODIFIED:20260127T153017Z
UID:10000688-1829379600-1829383200@terenureswimmingpool.ie
SUMMARY:Free Swim
DESCRIPTION:
URL:https://terenureswimmingpool.ie/timetable/free-swim/2027-12-21/
LOCATION:Terenure College Swimming Pool
END:VEVENT
BEGIN:VEVENT
DTSTART;TZID=Europe/Dublin:20271222T090000
DTEND;TZID=Europe/Dublin:20271222T100000
DTSTAMP:20260423T172720
CREATED:20260127T153017Z
LAST-MODIFIED:20260127T153017Z
UID:10000689-1829466000-1829469600@terenureswimmingpool.ie
SUMMARY:Free Swim
DESCRIPTION:
URL:https://terenureswimmingpool.ie/timetable/free-swim/2027-12-22/
LOCATION:Terenure College Swimming Pool
END:VEVENT
BEGIN:VEVENT
DTSTART;TZID=Europe/Dublin:20271223T090000
DTEND;TZID=Europe/Dublin:20271223T100000
DTSTAMP:20260423T172720
CREATED:20260127T153017Z
LAST-MODIFIED:20260127T153017Z
UID:10000690-1829552400-1829556000@terenureswimmingpool.ie
SUMMARY:Free Swim
DESCRIPTION:
URL:https://terenureswimmingpool.ie/timetable/free-swim/2027-12-23/
LOCATION:Terenure College Swimming Pool
END:VEVENT
BEGIN:VEVENT
DTSTART;TZID=Europe/Dublin:20271224T090000
DTEND;TZID=Europe/Dublin:20271224T100000
DTSTAMP:20260423T172720
CREATED:20260127T153017Z
LAST-MODIFIED:20260127T153017Z
UID:10000691-1829638800-1829642400@terenureswimmingpool.ie
SUMMARY:Free Swim
DESCRIPTION:
URL:https://terenureswimmingpool.ie/timetable/free-swim/2027-12-24/
LOCATION:Terenure College Swimming Pool
END:VEVENT
BEGIN:VEVENT
DTSTART;TZID=Europe/Dublin:20271225T090000
DTEND;TZID=Europe/Dublin:20271225T100000
DTSTAMP:20260423T172720
CREATED:20260127T153017Z
LAST-MODIFIED:20260127T153017Z
UID:10000692-1829725200-1829728800@terenureswimmingpool.ie
SUMMARY:Free Swim
DESCRIPTION:
URL:https://terenureswimmingpool.ie/timetable/free-swim/2027-12-25/
LOCATION:Terenure College Swimming Pool
END:VEVENT
BEGIN:VEVENT
DTSTART;TZID=Europe/Dublin:20271226T090000
DTEND;TZID=Europe/Dublin:20271226T100000
DTSTAMP:20260423T172720
CREATED:20260127T153017Z
LAST-MODIFIED:20260127T153017Z
UID:10000693-1829811600-1829815200@terenureswimmingpool.ie
SUMMARY:Free Swim
DESCRIPTION:
URL:https://terenureswimmingpool.ie/timetable/free-swim/2027-12-26/
LOCATION:Terenure College Swimming Pool
END:VEVENT
BEGIN:VEVENT
DTSTART;TZID=Europe/Dublin:20271227T090000
DTEND;TZID=Europe/Dublin:20271227T100000
DTSTAMP:20260423T172720
CREATED:20260127T153017Z
LAST-MODIFIED:20260127T153017Z
UID:10000694-1829898000-1829901600@terenureswimmingpool.ie
SUMMARY:Free Swim
DESCRIPTION:
URL:https://terenureswimmingpool.ie/timetable/free-swim/2027-12-27/
LOCATION:Terenure College Swimming Pool
END:VEVENT
BEGIN:VEVENT
DTSTART;TZID=Europe/Dublin:20271228T090000
DTEND;TZID=Europe/Dublin:20271228T100000
DTSTAMP:20260423T172720
CREATED:20260127T153017Z
LAST-MODIFIED:20260127T153017Z
UID:10000695-1829984400-1829988000@terenureswimmingpool.ie
SUMMARY:Free Swim
DESCRIPTION:
URL:https://terenureswimmingpool.ie/timetable/free-swim/2027-12-28/
LOCATION:Terenure College Swimming Pool
END:VEVENT
BEGIN:VEVENT
DTSTART;TZID=Europe/Dublin:20271229T090000
DTEND;TZID=Europe/Dublin:20271229T100000
DTSTAMP:20260423T172720
CREATED:20260127T153017Z
LAST-MODIFIED:20260127T153017Z
UID:10000696-1830070800-1830074400@terenureswimmingpool.ie
SUMMARY:Free Swim
DESCRIPTION:
URL:https://terenureswimmingpool.ie/timetable/free-swim/2027-12-29/
LOCATION:Terenure College Swimming Pool
END:VEVENT
BEGIN:VEVENT
DTSTART;TZID=Europe/Dublin:20271230T090000
DTEND;TZID=Europe/Dublin:20271230T100000
DTSTAMP:20260423T172720
CREATED:20260127T153017Z
LAST-MODIFIED:20260127T153017Z
UID:10000697-1830157200-1830160800@terenureswimmingpool.ie
SUMMARY:Free Swim
DESCRIPTION:
URL:https://terenureswimmingpool.ie/timetable/free-swim/2027-12-30/
LOCATION:Terenure College Swimming Pool
END:VEVENT
BEGIN:VEVENT
DTSTART;TZID=Europe/Dublin:20271231T090000
DTEND;TZID=Europe/Dublin:20271231T100000
DTSTAMP:20260423T172720
CREATED:20260127T153017Z
LAST-MODIFIED:20260127T153017Z
UID:10000698-1830243600-1830247200@terenureswimmingpool.ie
SUMMARY:Free Swim
DESCRIPTION:
URL:https://terenureswimmingpool.ie/timetable/free-swim/2027-12-31/
LOCATION:Terenure College Swimming Pool
END:VEVENT
BEGIN:VEVENT
DTSTART;TZID=Europe/Dublin:20280101T090000
DTEND;TZID=Europe/Dublin:20280101T100000
DTSTAMP:20260423T172720
CREATED:20260127T153017Z
LAST-MODIFIED:20260127T153017Z
UID:10000699-1830330000-1830333600@terenureswimmingpool.ie
SUMMARY:Free Swim
DESCRIPTION:
URL:https://terenureswimmingpool.ie/timetable/free-swim/2028-01-01/
LOCATION:Terenure College Swimming Pool
END:VEVENT
END:VCALENDAR